BEGIN:VCALENDAR
VERSION:2.0
PRODID:-//Kultura Maribor - ECPv6.2.8.1//NONSGML v1.0//EN
CALSCALE:GREGORIAN
METHOD:PUBLISH
X-ORIGINAL-URL:https://kultura.maribor.si
X-WR-CALDESC:Events for Kultura Maribor
REFRESH-INTERVAL;VALUE=DURATION:PT1H
X-Robots-Tag:noindex
X-PUBLISHED-TTL:PT1H
BEGIN:VTIMEZONE
TZID:Europe/Paris
BEGIN:DAYLIGHT
TZOFFSETFROM:+0100
TZOFFSETTO:+0200
TZNAME:CEST
DTSTART:20190331T010000
END:DAYLIGHT
BEGIN:STANDARD
TZOFFSETFROM:+0200
TZOFFSETTO:+0100
TZNAME:CET
DTSTART:20191027T010000
END:STANDARD
END:VTIMEZONE
BEGIN:VEVENT
DTSTART;TZID=Europe/Paris:20190616T190000
DTEND;TZID=Europe/Paris:20190616T203000
DTSTAMP:20260421T191435
CREATED:20211106T215106Z
LAST-MODIFIED:20211106T215106Z
UID:3560-1560711600-1560717000@kultura.maribor.si
SUMMARY:ŽIVA DVORIŠČA: BLUE LIGHTS: MED GLASBO IN POEZIJO
DESCRIPTION:Blue lights sta mlad glasbeno-pesniški duo\, ki raziskujeta skrita stičišča glasbe in poezije. Premierno bosta nastopila v sklopu projekta Živa dvorišča\, predstavila pa bosta širok nabor priredb pesmi različnih glasbenih zvrsti: folk\, pop\, soul\,… Prostor pa bosta dala tudi govorjeni besedi\, Tom bo ob spremljavi Erika na kitari predstavil poezijo iz pesniške zbirke Točka preloma\, ki je letos izšla pri Literarni hiši Maribor. Tematsko se ukvarjata predvsem s skritimi prostori\, ki jih ljudje nosimo v sebi\, tako v ospredje postavljata subtilno moč neizrečenega. \nTom Veber\, katerega umetniško ustvarjanje obsega polja igre\, petja in literarne dejavnosti se v preteklem času prvenstveno posveča tej. Poezijo objavlja v osrednjih literarnih revijah Dialogi\, Mentor\, Literatura in Apokalipsa\, sodeluje na pesniških Slamih in gostuje po Sloveniji s pesniško monodramo Realizem je rezerviran za klovne. Je zmagovalec Pesniške olimpijade 2018\, uvrstil pa se je tudi v finale Pesniškega turnirja 2019. V sklopu festivala Slovenski dnevi knjige je organiziral enega izmed prvih LGBTQ literarnih večerov v Mariboru. Marca je izšel njegov pesniški prvenec Točka preloma pri založbi Literarna hiša Maribor\, letos pa je postavil tudi tri interdisciplinarne razstave Brstenje\, Stičišča in Visok polet s teboj\, kjer se je ukvarjal s prostorsko postavitvijo poezije. Ko ne stoji na odru ali piše\, pa zelo rad hodi v naravo\, obiskuje gledališče in pije čaj – najraje črnega z mlekom. \nErik Mihelič je svojo glasbeno pot pričel pri 9 letih\, ko so na podstrešju našli staro stričevo kitaro. Z nevednostjo in velikim zanimanjem je pričel brenkati po njej tako dolgo\, dokler ga starša nista vpisala v 1. razred glasbene šole. Po 7 letih je uspešno zaključil nižjo glasbeno\, kjer je pridobil odlične osnove klasične kitare. Ker mu je igranje kitare kar hitro priraslo k srcu\, se je odločil učenje nadaljevati na Konservatoriju za glasbo in balet Maribor. V času srednje šole se je poleg klasične zanimal še za igranje električne kitare\, akustične kitare in klavirja. \nDogodek je del programa Živih dvorišč\, ki ga organizira Društvo Hiša! in je preddogodek Festivala Lent 2019. \n☀ ŽIVA DVORIŠČA: Gosposka ulica 11\, Maribor\n☀ VEČ: www.festival-lent.si\n☀ Vstopnine ni.\n☀ PROGRAM FESTIVALA LENT 2019: www.festival-lent.si/program/
URL:https://kultura.maribor.si/dogodek/ziva-dvorisca-blue-lights-med-glasbo-in-poezijo/
LOCATION:Živa dvorišča-Festival Lent\n9 Ulica kneza Koclja Maribor\, Upravna enota Maribor\, 2000 Slovenia
ATTACH;FMTTYPE=image/jpeg:https://kultura.maribor.si/wp-content/uploads/2021/11/images.squarespace-cdn.com_content_v1_54e6903be4b0a4e937a0f2fc_1560336726540-HOQ3UG2JXP0BAR2D7HY9_bluelights.jpgformat1000w.jpg
END:VEVENT
BEGIN:VEVENT
DTSTART;TZID=Europe/Paris:20190616T170000
DTEND;TZID=Europe/Paris:20190616T190000
DTSTAMP:20260421T191435
CREATED:20211106T215106Z
LAST-MODIFIED:20211106T215106Z
UID:3565-1560704400-1560711600@kultura.maribor.si
SUMMARY:ŽIVA DVORIŠČA: ŠANSON IN VINO
DESCRIPTION:Šanson in vino nekako sodita skupaj; to je med drugimi vedel tudi Frane Milčinski – Ježek\, ko je zapel takole: \nGlažek vinčka hej\nPa sonček skoz posveti nej\,\nDa cel svet bo kt mavrca\nVelbana \nNedeljsko popoldne in večer na dvorišču Slovenke ulice 13 bomo preživeli v družbi prav teh dveh “sestavin”\, skozi katere se zdi svet bolj pisan in lepši.  \nZa šansone bosta poskrbela Matic in Metka\, sicer člana skupine Strici iz ozadja. Matic na kitari in vokalu ter Metka na bas kitari in vokalu bosta predstavila svoje interpretacije bolj ali manj znanih pesmi\, od starih klasik do tistih bolj modernih\, od standardov\, ki jih poznamo vsi\, pa vse do manj znanih\, alternativnih kreacij. Doslej sta dvakrat nastopila na KMŠ odru Festivala Lent\, v Pisarni\, na festivalu Skuštrane in bradati 2018\, na festivalu Lendwirblu v Grazu\, za sabo pa imata tudi nekaj uličnih nastopov v sodelovanju z društvom Hiša! In Rajzefibrom\, njun najzanimivejši nastop do sedaj je bil nastop za Društvo slovenskih študentov v Grazu. \nZa drugo “sestavino” večera bodo pokrbela ekološka vinogradništva Šumenjak\, Zorjan in Valentan. Cilj ekološkega vinogradništva je pridelati grozdje na naraven\, okolju prijazen način.  \n“Naša glavna skrb pri pridelavi vina so vinogradi\, saj želimo\, da dajejo mikroklima\, tla in delo vinogradnika vinu svoj pečat. Vinogradov ne gnojimo\, prav tako ne želimo uporabljati herbicidov in sintetičnih zaščitnih sredstev. Obremenitev trt je majhna. Trgamo zdravo grozdje ob primerni zrelosti. Grozdje maceriramo odvisno od sorte in stila vina\, nato pa vrenje in zorenje vina bolj spremljamo kot usmerjamo\, da bi bilo vino pridelano čim bolj naravno\,“ pravijo pri vinarstvu Šumenjak. \nDogodek je del programa Živih dvorišč\, ki ga organizira Društvo Hiša! in je preddogodek Festivala Lent 2019. \n☀ ŽIVA DVORIŠČA: Slovenska ulica 13\, Maribor\n☀ VEČ: www.festival-lent.si\n☀ Vstopnine ni.\n☀ PROGRAM FESTIVALA LENT 2019: www.festival-lent.si/program/
URL:https://kultura.maribor.si/dogodek/ziva-dvorisca-sanson-in-vino/
LOCATION:Živa dvorišča-Festival Lent\n9 Ulica kneza Koclja Maribor\, Upravna enota Maribor\, 2000 Slovenia
ATTACH;FMTTYPE=image/jpeg:https://kultura.maribor.si/wp-content/uploads/2021/11/images.squarespace-cdn.com_content_v1_54e6903be4b0a4e937a0f2fc_1560336332635-J88I0ECHGK83VOOG384M_sanson.jpgformat1000w.jpg
END:VEVENT
BEGIN:VEVENT
DTSTART;TZID=Europe/Paris:20190615T170000
DTEND;TZID=Europe/Paris:20190615T190000
DTSTAMP:20260421T191435
CREATED:20211106T215108Z
LAST-MODIFIED:20211106T215108Z
UID:3584-1560618000-1560625200@kultura.maribor.si
SUMMARY:ŽIVA DVORIŠČA: STEKLARSKA DELAVNICA
DESCRIPTION:V svet oblikovanja stekla nas bo popeljala Zala Zagoršek\, dipl. oblik. unik.\, ki sodi med najobetavnejše mlade oblikovalce stekla na svetu\, zato se boste pod njenim vodstvom zagotovo naučili veliko novega. Steklo na delavnici se bo oblikovalo na plamenu\, talili in preoblikovali boste borosilikatne steklene paličice ter jih umeščali v obstoječe steklene objekte\, v njih pa dodali vir svetlobe in s tem ustvarjali igro med svetlobo in senco.  \nZaradi dela na plamenu in visokih temperatur je delavnica primerna za starejše udeležence\, stare vsaj nad 15 let. Zaželena so tudi zaščitna očala in prazni stekleni kozarci za vlaganje\, ki bodo delovali kot osnova\, na katero se bodo pritrjevali drugi stekleni delčki.  \nZala Zagoršek\, rojena 1996\, se je po zaključku gimnazije odločila za študij na Akademiji za likovno umetnost v Ljubljani\, kjer trenutno zaključuje magistrski program\, smer Unikatno oblikovanje / steklo in keramika pod mentorstvom prof. Mag. Tanje Pak in doc. Kristine Rutar. V letu 2018 je postala finalistka prestižnega mednarodnega bienalnega natečaja Emerge 2018 v organizaciji Bullseye Glass Co. v Združenih državah Amerike. S tem je bila uvrščena med najboljše diplomante na področju umetnosti stekla v svetu\, kar ji je prineslo sodelovanje na elitni razstavi Emerge 2018. \nDogodek je del programa Živih dvorišč\, ki ga organizira Društvo Hiša! in je preddogodek Festivala Lent 2019. \n☀ ŽIVA DVORIŠČA: Gosposka ulica 28\, MARIBOR\n☀ VEČ: www.festival-lent.si\n☀ Vstopnine ni.\n☀ PROGRAM FESTIVALA LENT 2019: www.festival-lent.si/program/
URL:https://kultura.maribor.si/dogodek/ziva-dvorisca-steklarska-delavnica/
LOCATION:Živa dvorišča-Festival Lent\n9 Ulica kneza Koclja Maribor\, Upravna enota Maribor\, 2000 Slovenia
ATTACH;FMTTYPE=image/jpeg:https://kultura.maribor.si/wp-content/uploads/2021/11/images.squarespace-cdn.com_content_v1_54e6903be4b0a4e937a0f2fc_1559546787788-36DPR8VEZ42OU7SMNWPO_steklodel.jpgformat1000w.jpg
END:VEVENT
BEGIN:VEVENT
DTSTART;TZID=Europe/Paris:20190614T190000
DTEND;TZID=Europe/Paris:20190614T210000
DTSTAMP:20260421T191435
CREATED:20211106T215109Z
LAST-MODIFIED:20211106T215109Z
UID:3606-1560538800-1560546000@kultura.maribor.si
SUMMARY:ŽIVA DVORIŠČA: SPET ZAKOPANI V PIRAMIDO
DESCRIPTION:Pisal se je 20. oktober 1164\, ko se v listini prvič pojavi ime Marchburch\, grad na griču\, ki mu rečemo danes Piramida. Usoda je hotela\, da bolj kot se je razvijalo mesto pod njim\, bolj je grad izgubljal na pomenu in proti koncu 18. stoletja je začel počasi toniti v pozabo. Ostale so le ruševine\, ki jih je v naslednjih stoletjih prekrila zemlja. Potem pa so v letih 2010 in 2011 na grič prišli arheologi in se zakopali v delo\, in pod odkopano zemljo so dan za dnem pričeli prihajati na plano temelji nekdanjega Marchburcha. \nOsem let po koncu izkopavanj se bo arheološka ekipa spet zbrala in se zakopala v Piramido. Tokrat ne v zemljo\, ampak v spomine in jih delila z obiskovalci. Spoznali boste\, da arheološka izkopavanja niso niti najmanj podobna temu\, kar je na filmska platna prinesel Indiana Jones in hollywoodski filmi.  \n🎥  Po koncu pogovora pa si bomo ogledali še dokumentarec z naslovom Skrivnost gradu na mariborski Piramidi\, ki ga je Regionalni RTV center Maribor posnel leta 2008. \nDogodek je del programa Živih dvorišč\, ki ga organizira Društvo Hiša! in je preddogodek Festivala Lent 2019. \n☀ ŽIVA DVORIŠČA: Park pred Muzejem narodne osvoboditve Maribor\n☀ VEČ: www.festival-lent.si\n☀ Vstopnine ni.\n☀ PROGRAM FESTIVALA LENT 2019: www.festival-lent.si/program/
URL:https://kultura.maribor.si/dogodek/ziva-dvorisca-spet-zakopani-v-piramido/
LOCATION:Živa dvorišča-Festival Lent\n9 Ulica kneza Koclja Maribor\, Upravna enota Maribor\, 2000 Slovenia
ATTACH;FMTTYPE=image/jpeg:https://kultura.maribor.si/wp-content/uploads/2021/11/images.squarespace-cdn.com_content_v1_54e6903be4b0a4e937a0f2fc_1559555736825-VSKC6MMA93NDC0EZEU4T_piramida.jpgformat750w.jpg
END:VEVENT
END:VCALENDAR