BEGIN:VCALENDAR
VERSION:2.0
PRODID:-//Kultura Maribor - ECPv6.2.8.1//NONSGML v1.0//EN
CALSCALE:GREGORIAN
METHOD:PUBLISH
X-WR-CALNAME:Kultura Maribor
X-ORIGINAL-URL:https://kultura.maribor.si
X-WR-CALDESC:Events for Kultura Maribor
REFRESH-INTERVAL;VALUE=DURATION:PT1H
X-Robots-Tag:noindex
X-PUBLISHED-TTL:PT1H
BEGIN:VTIMEZONE
TZID:Europe/Paris
BEGIN:DAYLIGHT
TZOFFSETFROM:+0100
TZOFFSETTO:+0200
TZNAME:CEST
DTSTART:20190331T010000
END:DAYLIGHT
BEGIN:STANDARD
TZOFFSETFROM:+0200
TZOFFSETTO:+0100
TZNAME:CET
DTSTART:20191027T010000
END:STANDARD
END:VTIMEZONE
BEGIN:VEVENT
DTSTART;TZID=Europe/Paris:20190307T100000
DTEND;TZID=Europe/Paris:20190307T140000
DTSTAMP:20260425T213233
CREATED:20211106T215600Z
LAST-MODIFIED:20211106T215600Z
UID:4269-1551952800-1551967200@kultura.maribor.si
SUMMARY:DELAVNICA: »MALA ŠOLA OBČINSKEGA PRORAČUNA ZA NEVLADNE ORGANI
DESCRIPTION:View fullsize\nAli ste pri svojem delu že srečali z občinskim proračunom? Vas zanima\, kje se skriva razpisni denar\, kaj predstavljajo določeni konti? Se vam zdi proračun le kup papirja\, ki ga ne razumete? Vas zanima kaj več kot le razpisni denar za delovanje vašega društva? \nObčinski proračun ni le zbirka prihodkov in odhodkov\, temveč je tudi kratkoročna zaveza\, pa tudi načrt občine za izvajanje politik\, strategij in razvojnih načrtov. Na tokratni delavnici vam bomo najprej predstavili osnovno zakonodajo s področja lokalne samouprave\, nadaljevali bomo z vlogo občine v življenju (in financiranju) nevladnih organizacij\, osrednji del delavnice pa je namenjen spoznavanju proračuna občine\, predvsem z namenom opismenjevanja nevladnikov pri branju in razumevanju le-tega. Zadnji del delavnice je namenjen spoznavanju poti\, ki jih lahko uporabite za vključevanje vaših pobud v proračun. \nIzvajalec: \nDelavnico bo vodil Samo Vesel\, strokovni sodelavec BOREO Regijskega stičišča nevladnih organizacij Primorsko-notranjske regije in programski vodja Mladinskega centra Postojna. Je dolgoletni občinski svetnik v občini Postojna\, ter soavtor priročnika Financiranje nevladnih organizacij na lokalni ravni. \nZaradi lažje organizacije so zaželene predhodne prijave do ponedeljka\, 04.03.2019 na elektronski naslov: bojan.golcar@zavodpip.si \nPo delavnici branja proračuna lahko za vas organiziramo še delavnico zagovorništva na občinski ravni\, na kateri se boste seznanili z osnovnimi mehanizmi\, tehnikami in veščinami učinkovitega vključevanja v pripravo javnih politik. Delavnica bo izvedena v primeru dovoljšnega interesa\, zato vas prosimo\, da nam ob prijavi na prvo delavnico sporočite tudi vaš interes za nadaljevanje zagovorniškega usposabljanja\, ki bi potekalo isti dan od 14.30 do 18. ure. \nVabljeni!
URL:https://kultura.maribor.si/dogodek/delavnica-mala-sola-obcinskega-proracuna-za-nevladne-organi/
LOCATION:Zavod PiP\n86 Gosposvetska cesta Maribor\, Upravna enota Maribor\, 2000 Slovenia
ATTACH;FMTTYPE=image/jpeg:https://kultura.maribor.si/wp-content/uploads/2021/11/images.squarespace-cdn.com_content_v1_54e6903be4b0a4e937a0f2fc_1551815162022-BLAUTXVOB2FVVD6DHK9Z_pip.jpgformat1000w.jpg
END:VEVENT
END:VCALENDAR