BEGIN:VCALENDAR
VERSION:2.0
PRODID:-//Kultura Maribor - ECPv6.2.8.1//NONSGML v1.0//EN
CALSCALE:GREGORIAN
METHOD:PUBLISH
X-WR-CALNAME:Kultura Maribor
X-ORIGINAL-URL:https://kultura.maribor.si
X-WR-CALDESC:Events for Kultura Maribor
REFRESH-INTERVAL;VALUE=DURATION:PT1H
X-Robots-Tag:noindex
X-PUBLISHED-TTL:PT1H
BEGIN:VTIMEZONE
TZID:Europe/Paris
BEGIN:DAYLIGHT
TZOFFSETFROM:+0100
TZOFFSETTO:+0200
TZNAME:CEST
DTSTART:20210328T010000
END:DAYLIGHT
BEGIN:STANDARD
TZOFFSETFROM:+0200
TZOFFSETTO:+0100
TZNAME:CET
DTSTART:20211031T010000
END:STANDARD
BEGIN:DAYLIGHT
TZOFFSETFROM:+0100
TZOFFSETTO:+0200
TZNAME:CEST
DTSTART:20220327T010000
END:DAYLIGHT
BEGIN:STANDARD
TZOFFSETFROM:+0200
TZOFFSETTO:+0100
TZNAME:CET
DTSTART:20221030T010000
END:STANDARD
BEGIN:DAYLIGHT
TZOFFSETFROM:+0100
TZOFFSETTO:+0200
TZNAME:CEST
DTSTART:20230326T010000
END:DAYLIGHT
BEGIN:STANDARD
TZOFFSETFROM:+0200
TZOFFSETTO:+0100
TZNAME:CET
DTSTART:20231029T010000
END:STANDARD
END:VTIMEZONE
BEGIN:VEVENT
DTSTART;TZID=Europe/Paris:20231206T170000
DTEND;TZID=Europe/Paris:20231206T170000
DTSTAMP:20260425T210547
CREATED:20231124T173620Z
LAST-MODIFIED:20231201T074053Z
UID:43484-1701882000-1701882000@kultura.maribor.si
SUMMARY:PRAZNIČNA MELODIJA
DESCRIPTION:Prijetno glasbeno popoldne pop\, jazz in soul melodij. Glasbena ustvarjalnica KUD Dolina Miru nas ob koncu leta nagradi z nastopom učencev in učenk\, ki svoje glasbeno znanje brusijo pod mentorstvom priznanih glasbenikov in pedagogov. \n◊ Učenci Glasbene Ustvarjalnice KUD Dolina miru\, mentorja Karin Zemljič in Mate Bro \n\n\nVILINSKO MESTO 2023 \nFestival Vilinsko mesto je skupni projekt Narodnega doma Maribor\, društva Hiša! in Zavoda MARS Maribor.\nProdukcija: Narodni dom Maribor\, 2023 \n\n\n\nPovezava do originalnega članka
URL:https://kultura.maribor.si/dogodek/praznicna-melodija-2023-12-06-17-00-00/
LOCATION:Vilinski oder
CATEGORIES:Dogodki
ATTACH;FMTTYPE=image/jpeg:https://kultura.maribor.si/wp-content/uploads/2023/11/KUD-Dolina-miru-Foto-Dejan-Bulut_b.jpg
END:VEVENT
BEGIN:VEVENT
DTSTART;TZID=Europe/Paris:20221208T170000
DTEND;TZID=Europe/Paris:20221208T170000
DTSTAMP:20260425T210547
CREATED:20221203T220842Z
LAST-MODIFIED:20221205T091010Z
UID:29429-1670518800-1670518800@kultura.maribor.si
SUMMARY:PRAZNIČNA MELODIJA
DESCRIPTION:Prijetno glasbeno popoldne pop\, jazz in soul melodij. \nGlasbena ustvarjalnica KUD Dolina Miru nas ob koncu leta nagradi z nastopom učencev in učenk\, ki svoje glasbeno znanje brusijo pod mentorstvom Karin Zemljič in Mateta Broja\, priznanih glasbenikov in pedagogov. Z glasbo v daljave in širjave\, v globine in višine. \nKarin Zemljič in Mate Bro sta poznana zaradi številnih odmevnih glasbenih projektov in tudi kot glasbeni dvojec Okustični. Svoje bogato glasbeno znanje pa z navdušenjem predajata mlajšim v okviru KUD Dolina miru\, kjer se lahko učijo petja ali igranja na kitaro\, bas\, bobne\, klarinet in kljunasto flavto. \n◊ Učenci Glasbene Ustvarjalnice KUD Dolina miru\, mentorja Karin Zemljič in Mate Bro \n\nPovezava do originalnega članka
URL:https://kultura.maribor.si/dogodek/praznicna-melodija-2022-12-08-17-00-00/
LOCATION:Vilinski oder
CATEGORIES:Festivali,Glasba
ATTACH;FMTTYPE=image/jpeg:https://kultura.maribor.si/wp-content/uploads/2022/12/PRAZNICNA-MELODIJA-1_b.jpg
END:VEVENT
BEGIN:VEVENT
DTSTART;TZID=Europe/Paris:20221203T170000
DTEND;TZID=Europe/Paris:20221203T170000
DTSTAMP:20260425T210547
CREATED:20221130T220301Z
LAST-MODIFIED:20221201T135228Z
UID:29216-1670086800-1670086800@kultura.maribor.si
SUMMARY:ZAKAJ TEČE PES ZA ZAJCEM
DESCRIPTION:Resnico o tem\, zakaj psi tečejo za zajci je moč najti v ljudski modrosti. \nZakaj teče pes za zajcem je ena najkrajših slovenskih ljudskih pripovedk. V njej je na pravljičen način razložena narava odnosa med psom in zajcem\, med dresiranim “človekovim najboljšim prijateljem” in divjo živaljo. Poleg psa in zajca\, likov iz pripovedke\, se je v predstavo s svojim stilom življenja vpletla tudi muca. \nDuhovita predstava v tehnologiji klasičnih čeških marionet je predstava o športu\, delu in modi. Lutkovno gledališče Nebo se ukvarja s poetičnimi predstavami za otroke in eksperimentalnimi odrskimi dogodki za odrasle; odlikuje jih prepoznaven umetniški izraz\, prežet s poetiko\, humorjem in inovativnostjo. \nRežija: Ksenija Ponikvar\, dramaturgija: Petra Stare\, likovna podoba: Andrej Štular\, glasba: Peter Kus\, kostumografija: Maja Peterlin\, animacija: Andrej Štular\, Petra Stare\, produkcija: Forum Ljubljana & Mini teater. \n◊ Andrej Štular\, Petra Stare\, LG Nebo \n\n\n\n\nPovezava do originalnega članka
URL:https://kultura.maribor.si/dogodek/zakaj-tece-pes-za-zajcem-2022-12-03-17-00-00/
LOCATION:Vilinski oder
CATEGORIES:Gledališče
ATTACH;FMTTYPE=image/jpeg:https://kultura.maribor.si/wp-content/uploads/2022/12/ZAKAJ-TECE-PES-ZA-ZAJCEM-2_b.jpg
END:VEVENT
BEGIN:VEVENT
DTSTART;TZID=Europe/Paris:20211217T180000
DTEND;TZID=Europe/Paris:20211217T180000
DTSTAMP:20260425T210547
CREATED:20211216T221908Z
LAST-MODIFIED:20211217T090300Z
UID:13532-1639764000-1639764000@kultura.maribor.si
SUMMARY:ZALA IN GAŠPER
DESCRIPTION:Melanholično potovanje v skrite kotičke duše.\n\nEdinstven glasbeni dvojec zalagasper sestavljata izjemna Zala Kralj in Gašper Šantl. Skupno glasbeno pot sta začela v letu 2017\, ko sta nas osvojila z Valovi. Sledili so Baloni\, S teboi in uspešnica Sebi\, ki je mlada ustvarjalca popeljala čez peščene plaže Tel Aviva\, kjer sta nas zastopala na izboru za pesem Evrovizije. Prepuščena toku ustvarjalnosti sta na valovih razburkanega morja ostala zvesta sebi in izdala tudi dve skladbi v angleščini – Come to me in Signals. V začetku leta 2020 sta Zala in Gašper pod okriljem založniškega velikana Universal Music Group postregla s svojim debitanskim albumom 4\, ki vsebuje 8 avtorskih skladb in dve priredbi – Novo sonce skupine Dan D ter Hazey zasedbe Glass Animals. Temu so sledili tudi singli Origami\, Sto idej in XOXO. Začarata nas z edinstveno energijo\, odlično liriko in zasanjanimi ritmi subtilnega elektronskega popa\, ki tvorijo njun unikaten slog. Njuni komadi pripovedujejo avtentične zgodbe\, posebni pa so tudi njuni nastopi\, ki nam ponudijo žametno atmosfero modernega zvoka s primesmi ambientalne elektronike. Zala in Gašper po več kot letu in pol spet nastopata v Mariboru. Predstavljata svoj album 4\, nove single ter vzdušju primerno praznično pesem Sto idej. \n◊ Zala Kralj & Gašper Šantl \n* * * \nUdeležba je možna le ob izpolnjenem pogoju PCT (preboleli\, cepljeni\, testirani). \nDogodki bodo potekali v skladu z navodili in priporočili NIJZ in ob upoštevanju vseh varnostnih ukrepov za preprečevanje širjenja okužbe z virusom covid-19. \n\n\nPovezava do originalnega članka
URL:https://kultura.maribor.si/dogodek/zala-in-gasper-2021-12-17-18-00-00/
LOCATION:Vilinski oder
CATEGORIES:Dogodki,Festivali,Glasba
ATTACH;FMTTYPE=image/jpeg:https://kultura.maribor.si/wp-content/uploads/2021/12/17.12.ob-18.00_ZALA-in-GASPER-zalagasper-UrsaPremik_1_b.jpg
END:VEVENT
END:VCALENDAR