BEGIN:VCALENDAR
VERSION:2.0
PRODID:-//Kultura Maribor - ECPv6.2.8.1//NONSGML v1.0//EN
CALSCALE:GREGORIAN
METHOD:PUBLISH
X-ORIGINAL-URL:https://kultura.maribor.si
X-WR-CALDESC:Events for Kultura Maribor
REFRESH-INTERVAL;VALUE=DURATION:PT1H
X-Robots-Tag:noindex
X-PUBLISHED-TTL:PT1H
BEGIN:VTIMEZONE
TZID:Europe/Paris
BEGIN:DAYLIGHT
TZOFFSETFROM:+0100
TZOFFSETTO:+0200
TZNAME:CEST
DTSTART:20220327T010000
END:DAYLIGHT
BEGIN:STANDARD
TZOFFSETFROM:+0200
TZOFFSETTO:+0100
TZNAME:CET
DTSTART:20221030T010000
END:STANDARD
END:VTIMEZONE
BEGIN:VEVENT
DTSTART;TZID=Europe/Paris:20221203T100000
DTEND;TZID=Europe/Paris:20221203T100000
DTSTAMP:20260425T194433
CREATED:20221129T221305Z
LAST-MODIFIED:20221130T082816Z
UID:29111-1670061600-1670061600@kultura.maribor.si
SUMMARY:JAZ\, STORŽEK
DESCRIPTION:“Jaz\, storžek” so vaši poosebljeni možički iz storžev\, ki bodo krasili vaš adventni venec. Storže bomo okrasili z različnimi materiali\, kot so filc in bleščice\, jim dodali oči\, nos in usta\, ter jih odeli v čarobne pridihe prazničnega decembra. \n◊ Irena Pamič in mentorji iz MARS-a\, Zavod MARS Maribor \n\n\n\n\nPovezava do originalnega članka
URL:https://kultura.maribor.si/dogodek/jaz-storzek-2022-12-03-10-00-00/
LOCATION:Vilinska sobana
CATEGORIES:Delavnice
ATTACH;FMTTYPE=image/jpeg:https://kultura.maribor.si/wp-content/uploads/2022/11/2Jaz-storzek_1_b.jpg
END:VEVENT
BEGIN:VEVENT
DTSTART;TZID=Europe/Paris:20221202T180000
DTEND;TZID=Europe/Paris:20221202T180000
DTSTAMP:20260425T194433
CREATED:20221128T185357Z
LAST-MODIFIED:20221129T080836Z
UID:28721-1670004000-1670004000@kultura.maribor.si
SUMMARY:ČASOPISNA KULTURA\, ALENKA SPACAL
DESCRIPTION:Barvite in živahne ilustracije Alenke Spacal predstavljajo nekakšno posvetilo časopisni kulturi. Časopis kot tiskani medij postaja v digitalni dobi vse bolj redek\, večinoma prebiramo novice le še na spletu. V večini sodobnih družin\, v katerih odraščajo današnji otroci\, niso več naročeni na dnevno časopisje. Časopis se v papirnati verziji tako vse redkeje znajde v vsakdanjosti najmlajših. Slikanica PLASTELINČICA IN ČASOPIS seznanja otroke z umetnostnim vidikom kulture ob hudomušnih likih iz\n\nplastelina in stvaritvah iz časopisa\, torej v jeziku\, ki jim je blizu in ga lahko razumejo. Tovrstne podobe pri otrocih spodbujajo njihovo lastno domišljijo in ustvarjalnost. \nNa razstavi ČASOPISNA KULTURA bodo na ogled originalne ilustracije iz najnovejše avtorske slikanice Alenke Spacal z naslovom PLASTELINČICA IN ČASOPIS (Bajalka\, 2022). Slikanica razstira inovativni ilustratorski pristop. Avtorica je igrive domišljijske like najprej oblikovala v raznobarvnih odtenkih plastelina. Nekatere personificirane figurice s podrobno modeliranimi očmi\, smrčki in tačkami imajo na svojih telescih oblikovane živo pisane svaljkaste linije\, druge pa krasijo pike ali vzorčki\npolžastih oblik. Natančno izdelani modelčki so v nadaljnjem procesu ustvarjanja slikanice ilustratorki služili kot predloge za ilustratorsko upodabljanje antropomorfnih likov iz družine Plastelinkovih. Glavna junakinja Plastelinčica spoznava kulturo ob časopisu in mami Plastelemi. S prijateljico Plastelinkico pa iz časopisnega papirja ustvarjata bajne svetove. Poleg živobarvnih figuric iz plastelina so domišljijsko igrive tudi časopisne kreacije mask in žog ter zložena ladjica\, letalo in\nharmonika. Časopisne igrače so naslikane dokaj realistično\, tako da je na nekaterih delih zmečkanega časopisnega papirja mogoče prepoznati tipografijo časopisnih črk\, sicer izmišljenega besedila. Alenka Spacal je vse ilustracije naslikala ročno\, z najtanjšimi možnimi čopiči\, v tehniki akvarela in deloma akrila. \nAlenka Spacal (1975) je pisateljica\, ilustratorka in pravljičarka. Deluje pod okriljem Bajalke\, zavoda za založništvo in umetnost pripovedovanja. Ustvarja avtorske slikanice in pripoveduje pravljice. Ilustracije razstavlja na samostojnih in skupinskih razstavah doma ter v tujini. Več na spletni strani: www.bajalka.si. \n◊ Razstavo ČASOPISNA KULTURA\, ki je zasnovana v sodelovanju z Bajalko\, je podprla Mestna občina Maribor. \n\n\n\n\nPovezava do originalnega članka
URL:https://kultura.maribor.si/dogodek/casopisna-kultura-alenka-spacal-2022-12-02-18-00-00/
LOCATION:Vilinska sobana
CATEGORIES:Dogodki,Razstave
ATTACH;FMTTYPE=image/jpeg:https://kultura.maribor.si/wp-content/uploads/2022/11/Alenka-Spacal_Plastelincica-in-casopis_3.12.2022_02_b.jpg
END:VEVENT
END:VCALENDAR