BEGIN:VCALENDAR
VERSION:2.0
PRODID:-//Kultura Maribor - ECPv6.2.8.1//NONSGML v1.0//EN
CALSCALE:GREGORIAN
METHOD:PUBLISH
X-WR-CALNAME:Kultura Maribor
X-ORIGINAL-URL:https://kultura.maribor.si
X-WR-CALDESC:Events for Kultura Maribor
REFRESH-INTERVAL;VALUE=DURATION:PT1H
X-Robots-Tag:noindex
X-PUBLISHED-TTL:PT1H
BEGIN:VTIMEZONE
TZID:Europe/Paris
BEGIN:DAYLIGHT
TZOFFSETFROM:+0100
TZOFFSETTO:+0200
TZNAME:CEST
DTSTART:20240331T010000
END:DAYLIGHT
BEGIN:STANDARD
TZOFFSETFROM:+0200
TZOFFSETTO:+0100
TZNAME:CET
DTSTART:20241027T010000
END:STANDARD
END:VTIMEZONE
BEGIN:VEVENT
DTSTART;TZID=Europe/Paris:20240525T080000
DTEND;TZID=Europe/Paris:20240525T080000
DTSTAMP:20260426T051612
CREATED:20240524T183616Z
LAST-MODIFIED:20240527T060705Z
UID:72960-1716624000-1716624000@kultura.maribor.si
SUMMARY:SVETLANO MAKAROVIČ ZA ČASTNO MEŠČANKO
DESCRIPTION:Ulična galerija MB   I   Židovska ulica   I   2023-2024 \n#53 \n// SVETLANO MAKAROVIČ ZA ČASTNO MEŠČANKO \nAMBASADA SVETLANE MAKAROVIČ je del »Inštituta za interdisciplinarnost« iLabGT22. Ob skrbi za arhiv in zemljevid življenja in naše velike pesnice\, ambasada nadgrajuje »Konzilij za detekcijo kriminala v umetnosti«\, podpira interdisciplinarno raziskovalno delo in že več let vodi akcijo za Svetlanino častno meščanstvo mesta ob Dravi\, kjer je mukoma preživljala del mladosti. \nKoncept in oblika. \nASM/2/2024 – zanjo Aphra Tesla in Miha Horvat \nProdukcija in podpora.\nInštitut TAM-TAM / Ustanova Fundacija Sonda / GT22 / Mestna občina Maribor / Alveola d.o.o / KulturnaČetrtŽidovska
URL:https://kultura.maribor.si/dogodek/svetlano-makarovic-za-castno-mescanko-2024-05-25-08-00-00/
LOCATION:Ulična galerija MB
CATEGORIES:Dogodki,Razstave
ATTACH;FMTTYPE=image/jpeg:https://kultura.maribor.si/wp-content/uploads/2024/05/castno2024.jpg
END:VEVENT
END:VCALENDAR