BEGIN:VCALENDAR
VERSION:2.0
PRODID:-//Kultura Maribor - ECPv6.2.8.1//NONSGML v1.0//EN
CALSCALE:GREGORIAN
METHOD:PUBLISH
X-WR-CALNAME:Kultura Maribor
X-ORIGINAL-URL:https://kultura.maribor.si
X-WR-CALDESC:Events for Kultura Maribor
REFRESH-INTERVAL;VALUE=DURATION:PT1H
X-Robots-Tag:noindex
X-PUBLISHED-TTL:PT1H
BEGIN:VTIMEZONE
TZID:Europe/Paris
BEGIN:DAYLIGHT
TZOFFSETFROM:+0100
TZOFFSETTO:+0200
TZNAME:CEST
DTSTART:20180325T010000
END:DAYLIGHT
BEGIN:STANDARD
TZOFFSETFROM:+0200
TZOFFSETTO:+0100
TZNAME:CET
DTSTART:20181028T010000
END:STANDARD
END:VTIMEZONE
BEGIN:VEVENT
DTSTART;TZID=Europe/Paris:20181013T110000
DTEND;TZID=Europe/Paris:20181013T160000
DTSTAMP:20260423T232155
CREATED:20211106T215900Z
LAST-MODIFIED:20211106T215900Z
UID:5199-1539428400-1539446400@kultura.maribor.si
SUMMARY:METODA INGE MORATH
DESCRIPTION:Metoda Inge Morath\nfotografska delavnica – izbor fotografij in oblikovanje fotoknjige\nUGM\, Strossmayerjeva 6\nsobota\, 13. oktober 2018\, 11.00 – 16.00\nvodi: Kurt Kaindl\, fotograf in kustos razstave Inge Morath \nV spremljevalnem programu retrospektivne razstave Inge Morath kustos razstave Kurt Kaindl obiskovalce vabi na celodnevno delavnico na temo ustvarjanja foto knjige\, ki bo temeljila na metodi Inge Morath in razkrila tipične lastnosti fotografov Magnum Photos. Spoznali bomo proces ustvarjanja foto knjige in postavljanja fotografske razstave\, na podlagi fotografskega materiala Inge Morath. Mimogrede bomo izvedeli še marsikaj o njenem življenju in delu\, saj sta s Kurtom tesno sodelovala zadnjih 15 let njenega življenja in skupaj postavila sedem preglednih razstav ter izdala prav toliko monografij.  \nNa delavnici bomo prešli ves proces izdelave foto knjige: fotografiranje\, dokumentiranje z besedilom\, izbor slik iz kontaktnih kopij\, izbor fotografij za namen razstave ali knjige\, izbor fotografij in določitev vrstnega reda v fotoknjigi in končno postavitev in razporeditev ter tiskanje foto knjige. Začeli bomo z ogledom kontaktnih kopij (s pomočjo projektorja) in delali neposredno s kopijami fotografij. Nato se bomo preizkusili v samostojnem delu izbora fotografij in postavitve serije ter jih v skupini predebatirali.\nDelavnica bo potekala v angleškem jeziku. \ncena: 12 EUR\, 8 EUR za člane UGM Kluba\nprijave na: brigita.strnad@ugm.si\nVABLJENI!\nInge Morath’s method\nphotography workshop – image selection and design for a photo book\nUGM I Maribor Art Gallery\, Strossmayerjeva 6\nSaturday\, 13 October 2018\, 11:00 – 16:00\nguided by: Kurt Kaindl\, photographer and curator of Inge Morath’s retrospective exhibition \nIn the accompanying program of the retrospective exhibition Inge Morath\, Curator Kurt Kaindl invites visitors to an all-day workshop about creating a photo book. It will be based on the Inge Morath method and is going to reveal the characteristics of Magnum Photos photographers. In addition\, we will also learn about Inge’s life and work\, as they worked closely during the last 15 years of her life\, including on the installation of seven exhibitions and the issuing of the same number of monographs. \nFor this workshop\, the work of Inge Morath\, in particular\, will be used as an example of how to create a – photo-documentary project. During the workshop we will discuss the entire photo book process: Photographing – Text Documentation – Image Selection from the Contact Sheets – Selection of images for use in a book or exhibition – Image Selection and Sequencing for the book – Layout – Printing. For the workshop we will project contact sheets and pictures of Inge Morath with the beamer but also work directly with photocopies of the photos of Inge Morath. Participants will be able to try out different selections and layout variations themselves\, which we will then discuss together. We will follow the entire production process of a book and an exhibition together.\nThe workshop will be held in English language. \nprice: 12 EUR / UGM CLUB members 8 EUR\napplications: brigita.strnad@ugm\nKINDLY INVITED!
URL:https://kultura.maribor.si/dogodek/metoda-inge-morath/
LOCATION:UGM\nStrossmayerjeva 6 Maribor\, Upravna enota Maribor\, 2000 Slovenia
ATTACH;FMTTYPE=image/jpeg:https://kultura.maribor.si/wp-content/uploads/2021/11/images.squarespace-cdn.com_content_v1_54e6903be4b0a4e937a0f2fc_1538762073721-NHOIOC92PX6GDVC19TED_ugm_inge.jpgformat1000w.jpg
END:VEVENT
END:VCALENDAR