BEGIN:VCALENDAR
VERSION:2.0
PRODID:-//Kultura Maribor - ECPv6.2.8.1//NONSGML v1.0//EN
CALSCALE:GREGORIAN
METHOD:PUBLISH
X-WR-CALNAME:Kultura Maribor
X-ORIGINAL-URL:https://kultura.maribor.si
X-WR-CALDESC:Events for Kultura Maribor
REFRESH-INTERVAL;VALUE=DURATION:PT1H
X-Robots-Tag:noindex
X-PUBLISHED-TTL:PT1H
BEGIN:VTIMEZONE
TZID:UTC
BEGIN:STANDARD
TZOFFSETFROM:+0000
TZOFFSETTO:+0000
TZNAME:UTC
DTSTART:20190101T000000
END:STANDARD
TZID:Europe/Paris
BEGIN:DAYLIGHT
TZOFFSETFROM:+0100
TZOFFSETTO:+0200
TZNAME:CEST
DTSTART:20190331T010000
END:DAYLIGHT
BEGIN:STANDARD
TZOFFSETFROM:+0200
TZOFFSETTO:+0100
TZNAME:CET
DTSTART:20191027T010000
END:STANDARD
END:VTIMEZONE
BEGIN:VEVENT
DTSTART;TZID=UTC:20191031T220000
DTEND;TZID=UTC:20191101T070000
DTSTAMP:20260421T153807
CREATED:20211106T203304Z
LAST-MODIFIED:20211106T203304Z
UID:941-1572559200-1572591600@kultura.maribor.si
SUMMARY:DANCE OF THE UNDEAD 2019
DESCRIPTION:… and here comes our\nflagship event of the year … \n– – – – – – – – – – – – – – – – – – – – – – – –\n▶ ▶ Dance Of The Undead 2019\n– – – – – – – – – – – – – – – – – – – – – – – –  \n… with an excellent world-class headliner and the finest MR artists! \n▷ Karto po najnižji ceni si že lahko kupiš v paketu FusionDrive + DOTU!\nVeč info: FusionDrive with Juno Reactor  \nStisni GOING in bodi obveščen/a\, ko objavimo line up 🙂
URL:https://kultura.maribor.si/dogodek/dance-of-the-undead-2019/
LOCATION:Štuk\nGosposvetska cesta 83 Maribor\, Upravna enota Maribor\, 2000 Slovenia
ATTACH;FMTTYPE=image/jpeg:https://kultura.maribor.si/wp-content/uploads/2021/11/images.squarespace-cdn.com_content_v1_54e6903be4b0a4e937a0f2fc_1568212326918-NMXW9WM8DWPSXPHNC70C_69517739_2415855385124765_6647957166244233216_n.jpgformat1000w.jpg
END:VEVENT
BEGIN:VEVENT
DTSTART;TZID=Europe/Paris:20190412T220000
DTEND;TZID=Europe/Paris:20190413T060000
DTSTAMP:20260421T153807
CREATED:20211106T215515Z
LAST-MODIFIED:20211106T215515Z
UID:4039-1555106400-1555135200@kultura.maribor.si
SUMMARY:BASS FIGHTERS XL / ABIS (NL) + TBA
DESCRIPTION:Z ogromnim ponosom predstavljamo naš NAJVEČJI dogodek do sedaj\, s kar DVEMA (!!) headlinerjema. 😍 Oba sta že prava težkokategornika drum’n’bass scene in imata izdaje pri največjih svetovno znanih neurofunk založbah!! 💪 Več sledi v prihodnjih dneh – vendar obljubimo\, da ne boste razočarani. \nSeveda se jim bodo na odru ŠTUKa pridružili domači – vsi člani Bass Fighters ekipe\, ki bodo tako kot vedno\, poskrbeli\, da bo party slasten od začetka do konca.  \nNočeš manjkat! Bolano bo! 🔥 \nLineup:\nABIS (NL) [DIVIDID/Eatbrain]\nTBA [Eatbrain/Blackout]\nBass Fighters support \nVSTOPNICE TBA\nVstop: 16+
URL:https://kultura.maribor.si/dogodek/bass-fighters-xl-abis-nl-tba/
LOCATION:Štuk\nGosposvetska cesta 83 Maribor\, Upravna enota Maribor\, 2000 Slovenia
ATTACH;FMTTYPE=image/jpeg:https://kultura.maribor.si/wp-content/uploads/2021/11/images.squarespace-cdn.com_content_v1_54e6903be4b0a4e937a0f2fc_1548416969067-A015ZWVXGTQ0F48WNMWM_bassfighters.jpgformat1000w.jpg
END:VEVENT
BEGIN:VEVENT
DTSTART;TZID=Europe/Paris:20190406T220000
DTEND;TZID=Europe/Paris:20190407T050000
DTSTAMP:20260421T153807
CREATED:20211106T215519Z
LAST-MODIFIED:20211106T215519Z
UID:4077-1554588000-1554613200@kultura.maribor.si
SUMMARY:HUSHHUSH W/ REINIER ZONNEVELD & MARKO NASTIĆ
DESCRIPTION:HushHush se vrača. 🙆‍♂️\nPrvi letos. 🖤\nNajvečji do sedaj.💪\nNova Lokacija.🙌\n6 DJ-ev na dveh plesiščih. 💎\nPripravi si plesne čeveljce. 👞 \nLINEUP:\nReinier Zonneveld\nMarko Nastić\nDamir Hoffman\nGLIA\nVladimir Dragas\nNemanja Vanovic \nPtički pojejo🐦\, rožice cvetijo🌻\, pomlad trka na vrata in TECHNO tudi. \n ______________________________________________________ \nENG \nHushHush is coming back. 🙆‍♂️\nFirst party this year. 🖤\nThe biggest ever. 💪\nNew location. 🙌\n6 DJ’s in two rooms. 💎\nGet your dancing shoes ready. 👞 \nLINEUP:\nReinier Zonneveld\nMarko Nastić\nDamir Hoffman\nVladimir Dragas\nNemanja Vanovic \nBirds are singing\, flowers are blooming 🌻\, spring is knocking on doors and so is TECHNO.
URL:https://kultura.maribor.si/dogodek/hushhush-w-reinier-zonneveld-marko-nasti-/
LOCATION:Štuk\nGosposvetska cesta 83 Maribor\, Upravna enota Maribor\, 2000 Slovenia
ATTACH;FMTTYPE=image/jpeg:https://kultura.maribor.si/wp-content/uploads/2021/11/images.squarespace-cdn.com_content_v1_54e6903be4b0a4e937a0f2fc_1552983376822-X1LH58I7ZRVEVBQF50FB_hush.jpgformat1000w.jpg
END:VEVENT
BEGIN:VEVENT
DTSTART;TZID=Europe/Paris:20190403T210000
DTEND;TZID=Europe/Paris:20190508T125900
DTSTAMP:20260421T153807
CREATED:20211106T215521Z
LAST-MODIFIED:20211106T215521Z
UID:4100-1554325200-1557320340@kultura.maribor.si
SUMMARY:ŠOUROCK '19: V ŽIVO JE ŽIVO!
DESCRIPTION:👇 MUZIKA? PIVO? ROKENROL? 👇\nOboževalci in podporniki rocka in sorodne glasbe bomo tudi letos uživali v preigravanju melodij mladih bendov; ŠOUM namreč ponovno prireja ŠOUROCK\, namenjen dijaškim in študentskim\, ki se želijo predstaviti in uveljaviti na slovenski glasbeni sceni. Prisluhnili jim bomo na treh predstavitvenih večerih (3.\, 10. in 17. aprila)\, trem po izboru komisije in eni po izboru publike pa še 8. maja na finalni prireditvi\, ko bodo večer dodatno popestrili še Spotless Mindss.\n3. APRIL\n▶️ Fat Butlers\n▶️ Smooth Taste\n▶️ Amok\n▶️ 7ate9\n▶️ Infected \n10. APRIL\n▶️ Buržuazija\n▶️ Apory Museum\n▶️ Bajta 23\n▶️ Blue Jane\n▶️ Year of the Rookie \n17. APRIL\n▶️ Ice on Fire\n▶️ Macbeth – band\n▶️ Manifest\n▶️ Blasius\n▶️ Fool Nation \n8. MAJ\, FINALE\n❓ [prvi finalist]\n❓ [drugi finalist]\n❓ [tretji finalist]\n❓ [četrti finalist]\n▶️ Spotless Minds [Bend Šourocka 2018] \n____ \n✨ DRUŽENJE S KOMISIJO ✨\nZ nami bodo člani komisije: Marko Soršak Soki “20 za 20”\, Martin Bezjak\, Marko Furek\, Denis Jančič in Matic Übërdiscö\, ki se ne bodo branili klepeta z obiskovalci\, še najmanj pa z nastopajočimi!  \n🍻 PIVSKI UŽITKI 🍻\nVsak večer bomo ZASTONJ stočili sod craft piva Lobik Brewery! \n🤘 KOTIČEK ZA OBISKOVALCE 🤘\nV kotičku za obiskovalce lahko glasujete za svoj najljubši bend in si priskrbite majico ali druge obvezne kose “bojne” opreme letošnjega Šourocka! \n❤️🔥👩‍🎤 V ŽIVO JE ŽIVO! 👨‍🎤🔥❤️ \n// www.soum.si/sourock //
URL:https://kultura.maribor.si/dogodek/sourock-19-v-zivo-je-zivo-/
LOCATION:Štuk\nGosposvetska cesta 83 Maribor\, Upravna enota Maribor\, 2000 Slovenia
ATTACH;FMTTYPE=image/jpeg:https://kultura.maribor.si/wp-content/uploads/2021/11/images.squarespace-cdn.com_content_v1_54e6903be4b0a4e937a0f2fc_1552476505953-SDY2Q9OWPWBYRJEKJMV1_sourock.jpgformat1000w.jpg
END:VEVENT
BEGIN:VEVENT
DTSTART;TZID=Europe/Paris:20190322T213000
DTEND;TZID=Europe/Paris:20190323T030000
DTSTAMP:20260421T153807
CREATED:20211106T215525Z
LAST-MODIFIED:20211106T215525Z
UID:4151-1553290200-1553310000@kultura.maribor.si
SUMMARY:MUSICOLOGY: CELEBRATING THE MUSIC OF PRINCE
DESCRIPTION:Dogodek za prave glasbene sladokusce. Mate Bro s posebej izbrano mednarodno ekipo glasbenikov v sodelovanju s Štukom predstavlja: Musicology: večer glasbe Prince-a.  \nV živo bomo v odlični izvedbi podoživeli nekaj najboljših pesmi iz mnogih legendarnih albumov\, ki jih je avtor\, vsestranski glasbenik in umetnik v pravem pomenu besede ustvaril v svoji neverjetni karieri.  \nPo koncertu pa sledi tudi temu primeren after party z RSI Dj-ji in druženje z glasbeniki.
URL:https://kultura.maribor.si/dogodek/musicology-celebrating-the-music-of-prince/
LOCATION:Štuk\nGosposvetska cesta 83 Maribor\, Upravna enota Maribor\, 2000 Slovenia
ATTACH;FMTTYPE=image/jpeg:https://kultura.maribor.si/wp-content/uploads/2021/11/images.squarespace-cdn.com_content_v1_54e6903be4b0a4e937a0f2fc_1551096207609-IXQ40CWC4VV122EYJGLU_musicology.jpgformat1000w.jpg
END:VEVENT
BEGIN:VEVENT
DTSTART;TZID=Europe/Paris:20190226T220000
DTEND;TZID=Europe/Paris:20190227T050000
DTSTAMP:20260421T153807
CREATED:20211106T215603Z
LAST-MODIFIED:20211106T215603Z
UID:4311-1551218400-1551243600@kultura.maribor.si
SUMMARY:HÏ FREEDOM
DESCRIPTION:*** Hï Freedom / 26. 2. // Dvorana ŠTUK *** \n#Hïlanders!\nVizija širjenja znamke Hï v letu 2019 je pred nami. Veselje\, prijateljstvo in naša strast do glasbe nas je pripeljala v univerzitetno mesto Maribor\, kjer vas bomo po opravljenih obveznostih nagradili s SVOBODO! 🕊\nPripravite se na raziskovanje in doživetje elektronske glasbe v tematiki Hï Freedom.\nKdaj? Prvi torek po opravljenih izpitih! 🙌 \nLokacija: https://goo.gl/FS463R\nVrata svobode odpremo: 22:00\nVrata svobode zapremo: 05:00 \n⭐ TRAILER: https://goo.gl/K42k9k ⭐ \n__________________ LINEUP __________________ \n❄ Clay Clemens\nNoa Beach Club | Ultra Europe | Exit Festival\nIG: https://www.instagram.com/clayclemens/\nSC: https://soundcloud.com/clayclemens/  \n❄ Timo G\nUltra Europe | Forestland\nIG: https://www.instagram.com/timogsi/\nSC: https://soundcloud.com/djtimog \n❄ Minless\nSupported by: Showtek\, Deniz Koyu (KO:YU)\, Darude\, Dannic\, Lazy Rich\, Morgan Page\nIG: https://www.instagram.com/minlessmusic/\nSC: https://soundcloud.com/minless \n❄ Defune\nIG: https://www.instagram.com/itsdefune/\nSC: https://soundcloud.com/defune \n❄ NVADRZ\nSC: https://soundcloud.com/nvadrz \n❄ Helius –\nVsem gostom Štuka znan in simpatičen Željko Matišić \n__________________ VSTOPNICE______________\n◎ S̷u̷p̷e̷r̷ ̷E̷a̷r̷l̷y̷ ̷B̷i̷r̷d̷ ̷-̷ ̷2̷\,̷9̷0̷ ̷E̷U̷R̷ ̷-̷ ̷R̷A̷Z̷P̷R̷O̷D̷A̷N̷O̷ ̷-̷ ̷S̷A̷M̷O̷ ̷1̷0̷0̷ ̷V̷S̷T̷O̷P̷N̷I̷C̷\n◎ REGULAR 1 – 3\,90 EUR \nProdajna mesta: http://hi-dance-event.com/tickets/\n– Eventim SI spletni nakup\, Petrol servisi\, Pošte Slovenije\, Trafika Kiosk\n– Olaii spletni nakup\, OMV servisi\, Trafike 3DVA\n– Štuk\, vsak delavnik \n#allarewelcome #discoverHrastnik #hïdanceevents #freedom #hïfestival #maribor #štuk  \nSTAROSTNA OMEJITEV IN VSTOP NA PRIZORIŠČE\nDogodek lahko obiščejo tudi mladoletne osebe\, z nakupom vstopnice starši oziroma skrbniki prevzamejo vso odgovornost. \nZakon o varstvu javnega reda in miru (ZJRM-1) v 21. členu zakon določa\, da je med 00.00 in 05.00 osebam\, mlajšim od 16 let\, prepovedan vstop in zadrževanje brez spremstva staršev\, rejnikov ali skrbnikov v gostinskih obratih in na prireditvah\, kjer se točijo alkoholne pijače. \nVsak od nas igra pomembno vlogo\, kjer vzdržujemo varno ter zdravo okolje in družbo. Bodimo odgovorni do prijateljev\, neznancev in domačinov\, ki so omogočili zabavo. \nNe toleriramo uporabe in posedovanja drog. Na prizorišču bodo ves čas prisotne uradne osebe\, ki bodo skrbele za spoštovanje zakonov. Bodite odgovorni in sprejemajte pametne odločitve. \nAkreditacije\, sponzorji in PR\nKontaktna oseba: Nastja Venko\nTel.: +38641664586
URL:https://kultura.maribor.si/dogodek/h-freedom/
LOCATION:Štuk\nGosposvetska cesta 83 Maribor\, Upravna enota Maribor\, 2000 Slovenia
ATTACH;FMTTYPE=image/jpeg:https://kultura.maribor.si/wp-content/uploads/2021/11/images.squarespace-cdn.com_content_v1_54e6903be4b0a4e937a0f2fc_1550513008117-MZ2NVK3SB4BOVXGBX1W0_freedom.jpgformat1000w.jpg
END:VEVENT
END:VCALENDAR