BEGIN:VCALENDAR
VERSION:2.0
PRODID:-//Kultura Maribor - ECPv6.2.8.1//NONSGML v1.0//EN
CALSCALE:GREGORIAN
METHOD:PUBLISH
X-ORIGINAL-URL:https://kultura.maribor.si
X-WR-CALDESC:Events for Kultura Maribor
REFRESH-INTERVAL;VALUE=DURATION:PT1H
X-Robots-Tag:noindex
X-PUBLISHED-TTL:PT1H
BEGIN:VTIMEZONE
TZID:UTC
BEGIN:STANDARD
TZOFFSETFROM:+0000
TZOFFSETTO:+0000
TZNAME:UTC
DTSTART:20190101T000000
END:STANDARD
END:VTIMEZONE
BEGIN:VEVENT
DTSTART;TZID=UTC:20190829T110000
DTEND;TZID=UTC:20190831T200000
DTSTAMP:20260423T194327
CREATED:20211106T214752Z
LAST-MODIFIED:20211106T214752Z
UID:3340-1567076400-1567281600@kultura.maribor.si
SUMMARY:STREET FOOD MARKET MARIBOR
DESCRIPTION:Karavana ulične hrane se bo ponovno ustavila v Mariboru in vas razvajala z dobrotami v okviru turneje Street Food Market Austria in Street Food Market Slovenija.\nZdaj že tradicionalni zadnji vikend v avgustu bo med 29.8. in 31.8.2019 na Trgu Leona Štuklja več kot 40 ponudnikov predstavilo svoje dobrote svetovne kuhinje iz svojih predelanih vozil – “food truckov”.\nVabljeni na kulinarično razvajanje\, ko bo Trg Leona Štuklja postal mednarodno prizorišče ulične prehrambene scene.
URL:https://kultura.maribor.si/dogodek/street-food-market-maribor/
LOCATION:Street Food Market\nTrg Leona Štuklja Maribor\, Upravna enota Maribor\, 2000 Slovenia
ATTACH;FMTTYPE=image/jpeg:https://kultura.maribor.si/wp-content/uploads/2021/11/images.squarespace-cdn.com_content_v1_54e6903be4b0a4e937a0f2fc_1556015818473-OMCSS960HQGX2WMS7HTE_food.jpgformat1000w.jpg
END:VEVENT
END:VCALENDAR