BEGIN:VCALENDAR
VERSION:2.0
PRODID:-//Kultura Maribor - ECPv6.2.8.1//NONSGML v1.0//EN
CALSCALE:GREGORIAN
METHOD:PUBLISH
X-WR-CALNAME:Kultura Maribor
X-ORIGINAL-URL:https://kultura.maribor.si
X-WR-CALDESC:Events for Kultura Maribor
REFRESH-INTERVAL;VALUE=DURATION:PT1H
X-Robots-Tag:noindex
X-PUBLISHED-TTL:PT1H
BEGIN:VTIMEZONE
TZID:Europe/Paris
BEGIN:DAYLIGHT
TZOFFSETFROM:+0100
TZOFFSETTO:+0200
TZNAME:CEST
DTSTART:20230326T010000
END:DAYLIGHT
BEGIN:STANDARD
TZOFFSETFROM:+0200
TZOFFSETTO:+0100
TZNAME:CET
DTSTART:20231029T010000
END:STANDARD
END:VTIMEZONE
BEGIN:VEVENT
DTSTART;TZID=Europe/Paris:20231209T190000
DTEND;TZID=Europe/Paris:20231209T190000
DTSTAMP:20260424T004828
CREATED:20221205T210928Z
LAST-MODIFIED:20231204T092241Z
UID:29535-1702148400-1702148400@kultura.maribor.si
SUMMARY:Staš Vrenko: \,ločene vrednosti
DESCRIPTION:Projekt Staša Vrenka \,ločene vrednosti raziskuje simulacijski potencial podatkovnih procesov\, ki jih kot podatkovne modele materializira s serijo prenosov med analognim in digitalnim. \nPodatkovni modeli so materializirani kot 3D tiskani objekti\, ki ob sprejemanju in oddajanju svetlobe v svoji pojavnosti nihajo med virtualnim in fizičnim. Namesto pomenske ali funkcionalne vrednosti podatkovnih modelov \,ločene vrednosti v ospredje postavljajo njihovo plastičnost in formativno moč\, obenem pa modelirajo tudi potencialnosti analogno-digitalnih prepletov\, ki jih podatki in impulzi prečijo v procesu. \nStaš Vrenko je umetnik\, glasbenik in oblikovalec elektronskih instrumentov. Njegova umetniška praksa združuje različna polja umetnosti s poudarkom na raziskovanju zvoka\, elektronskih medijev in tehnologij\, kineticizma\, naprednih izdelovalnih tehnologij ter performativnosti. \nVeč o projektu \,ločene vrednosti najdete na spletni strani Društva Ljudmila. \nRazstava bo na ogled do 8. januarja 2022 vsak delovnik med 9. in 16. uro. \nUmetnik: Staš Vrenko\nKuriranje: Maja Burja\nRazvoj orodja: Staš Vrenko (koncept\, programiranje)\, Gregor Krpič (izdelava vezja)\nTehnična pomoč pri izdelavi orodja: Luka Frelih\nFoto: Katja Goljat\nProdukcija umetniškega dela: Društvo Ljudmila\, laboratorij za znanost in umetnost (pod okriljem platforme konS) \nProjekt konS – Platforma za sodobno raziskovalno umetnost je bil izbran na javnem razpisu za izbor operacij “Mreža centrov raziskovalnih umetnosti in kulture”. Naložbo sofinancirata Republika Slovenija in Evropska unija iz Evropskega sklada za regionalni razvoj. \n\nPovezava do originalnega članka
URL:https://kultura.maribor.si/dogodek/stas-vrenko-locene-vrednosti-2023-12-09-19-00-00-2023-01-08-16-00-00/
LOCATION:razstava v Razstavišču Kulturni inkubator\, Koroška ulica 18\, Maribor
CATEGORIES:Delavnice
ATTACH;FMTTYPE=image/jpeg:https://kultura.maribor.si/wp-content/uploads/2022/12/locene-vrednosti9-91.jpg
END:VEVENT
END:VCALENDAR