BEGIN:VCALENDAR
VERSION:2.0
PRODID:-//Kultura Maribor - ECPv6.2.8.1//NONSGML v1.0//EN
CALSCALE:GREGORIAN
METHOD:PUBLISH
X-ORIGINAL-URL:https://kultura.maribor.si
X-WR-CALDESC:Events for Kultura Maribor
REFRESH-INTERVAL;VALUE=DURATION:PT1H
X-Robots-Tag:noindex
X-PUBLISHED-TTL:PT1H
BEGIN:VTIMEZONE
TZID:Europe/Paris
BEGIN:DAYLIGHT
TZOFFSETFROM:+0100
TZOFFSETTO:+0200
TZNAME:CEST
DTSTART:20220327T010000
END:DAYLIGHT
BEGIN:STANDARD
TZOFFSETFROM:+0200
TZOFFSETTO:+0100
TZNAME:CET
DTSTART:20221030T010000
END:STANDARD
END:VTIMEZONE
BEGIN:VEVENT
DTSTART;TZID=Europe/Paris:20220507T100000
DTEND;TZID=Europe/Paris:20220528T100000
DTSTAMP:20260423T201447
CREATED:20220426T070822Z
LAST-MODIFIED:20220504T061237Z
UID:21215-1651917600-1653732000@kultura.maribor.si
SUMMARY:Vodeni sprehodi po javnih spomenikih in umetniških sledeh v Mestnih četrteh Mestne občine Maribor
DESCRIPTION:V mesecu maju se nam pridružite na sprehodih umetnosti v Mestnih četrteh Mestne občine Maribor. \nProgram \n\nSobota\, 7. maj 2022\, 10.00: Vodeni sprehod po umetniških sledeh / Ivan Cankar\nZbirno mesto: pri nekdanji gostilni Prlek\, Meljska cesta 9\nVodi: mag. Mojca Štuhec\, strokovna sodelavka UGM\nSobota\, 14. maj 2022\, 10.00: Vodeni sprehod po umetniških sledeh / Koroška vrata\nZbirno mesto: pred UGM\, Strossmayerjeva 6\nVodi: mag. Mojca Štuhec\, strokovna sodelavka UGM\nSobota\, 21. maj 2022\, 10.00: Vodeni sprehod po umetniških sledeh / Tabor\nZbirno mesto: Magdalenski park pri spomeniku pesnika Rabindranatha Tagore\nVodi: Brigita Strnad\, muzejska svetovalka\nSobota\, 28. maj 2022\, 10.00: Vodeni sprehod po umetniških sledeh / Pobrežje\nZbirno mesto: vogal Kosovelove ulice in Ulice XIV. Divizije\, ob vhodni stranici Mesnega pokopališča Maribor\nVodi: mag. Mojca Štuhec\, strokovna sodelavka UGM\n\nUdeležba je brezplačna. V primeru dežja sprehod odpade. \nVabljeni! \n\nPovezava do originalnega članka
URL:https://kultura.maribor.si/dogodek/vodeni-sprehodi-po-javnih-spomenikih-in-umetniskih-sledeh-v-mestnih-cetrteh-mestne-obcine-maribor-2022-05-07-10-00-00-2022-05-07-00-00-00/
LOCATION:Okolica / Mestne četrti občine Maribor
CATEGORIES:Dogodki
ATTACH;FMTTYPE=image/jpeg:https://kultura.maribor.si/wp-content/uploads/2022/04/ad13c2b5-45ad-413d-b220-cef44096277b.jpg
END:VEVENT
END:VCALENDAR