BEGIN:VCALENDAR
VERSION:2.0
PRODID:-//Kultura Maribor - ECPv6.2.8.1//NONSGML v1.0//EN
CALSCALE:GREGORIAN
METHOD:PUBLISH
X-ORIGINAL-URL:https://kultura.maribor.si
X-WR-CALDESC:Events for Kultura Maribor
REFRESH-INTERVAL;VALUE=DURATION:PT1H
X-Robots-Tag:noindex
X-PUBLISHED-TTL:PT1H
BEGIN:VTIMEZONE
TZID:Europe/Paris
BEGIN:DAYLIGHT
TZOFFSETFROM:+0100
TZOFFSETTO:+0200
TZNAME:CEST
DTSTART:20240331T010000
END:DAYLIGHT
BEGIN:STANDARD
TZOFFSETFROM:+0200
TZOFFSETTO:+0100
TZNAME:CET
DTSTART:20241027T010000
END:STANDARD
BEGIN:DAYLIGHT
TZOFFSETFROM:+0100
TZOFFSETTO:+0200
TZNAME:CEST
DTSTART:20250330T010000
END:DAYLIGHT
BEGIN:STANDARD
TZOFFSETFROM:+0200
TZOFFSETTO:+0100
TZNAME:CET
DTSTART:20251026T010000
END:STANDARD
END:VTIMEZONE
BEGIN:VEVENT
DTSTART;TZID=Europe/Paris:20250829T000000
DTEND;TZID=Europe/Paris:20250830T000000
DTSTAMP:20260424T110208
CREATED:20250806T020119Z
LAST-MODIFIED:20250827T063929Z
UID:97267-1756425600-1756512000@kultura.maribor.si
SUMMARY:Filmski večer na otoku
DESCRIPTION:Edinstvena atmosfera in poletni utrip \nNa zadnji avgustovski vikend se Otok ponovno prelevi v prizorišče nepozabnega filmskega večera pod zvezdami. Po lanskem uspešnem dogodku\, ki je navdušil z edinstveno atmosfero in poletnim utripom\, se tudi letos obeta dvodnevno doživetje\, kjer se srečata čarobnost kina in sproščenost večerov ob vodi. \nV dneh\, ko se poletje počasi poslavlja\, 29. in 30. avgusta boste lahko uživali v skrbno izbranem filmskem programu na prostem\, ob bazenih in v dobri družbi. \nPrijeten ambient\, blaga večerna svetloba\, zvok oddaljenega smeha in vonj po poletju ustvarjajo edinstven prostor\, kjer se vsakdanje skrbi za hip razblinijo. \n\nPovezava do originalnega članka
URL:https://kultura.maribor.si/dogodek/filmski-vecer-na-otoku-2025-08-29-00-00-00-2025-08-30-00-00-00/
LOCATION:Okolica / Mariborski otok
CATEGORIES:Dogodki
ATTACH;FMTTYPE=image/jpeg:https://kultura.maribor.si/wp-content/uploads/2025/08/filmski-vecer-na-otoku-visit-maribor-pohorje-slovenia-slovenija.jpg
END:VEVENT
BEGIN:VEVENT
DTSTART;TZID=Europe/Paris:20250829T000000
DTEND;TZID=Europe/Paris:20250830T000000
DTSTAMP:20260424T110208
CREATED:20250806T020126Z
LAST-MODIFIED:20250827T063356Z
UID:97269-1756425600-1756512000@kultura.maribor.si
SUMMARY:Filmski večer na otoku
DESCRIPTION:Edinstvena atmosfera in poletni utrip \nNa zadnji avgustovski vikend se Otok ponovno prelevi v prizorišče nepozabnega filmskega večera pod zvezdami. Po lanskem uspešnem dogodku\, ki je navdušil z edinstveno atmosfero in poletnim utripom\, se tudi letos obeta dvodnevno doživetje\, kjer se srečata čarobnost kina in sproščenost večerov ob vodi. \nV dneh\, ko se poletje počasi poslavlja\, 29. in 30. avgusta boste lahko uživali v skrbno izbranem filmskem programu na prostem\, ob bazenih in v dobri družbi. \nPrijeten ambient\, blaga večerna svetloba\, zvok oddaljenega smeha in vonj po poletju ustvarjajo edinstven prostor\, kjer se vsakdanje skrbi za hip razblinijo. \nPovezava do originalnega članka
URL:https://kultura.maribor.si/dogodek/filmski-vecer-na-otoku-2025-08-29-00-00-00-2025-08-30-00-00-00__trashed/
LOCATION:Okolica / Mariborski otok
ATTACH;FMTTYPE=image/jpeg:https://kultura.maribor.si/wp-content/uploads/2025/08/filmski-vecer-na-otoku-visit-maribor-pohorje-slovenia-slovenija-1.jpg
END:VEVENT
BEGIN:VEVENT
DTSTART;TZID=Europe/Paris:20240830T201500
DTEND;TZID=Europe/Paris:20240830T201500
DTSTAMP:20260424T110208
CREATED:20240821T121950Z
LAST-MODIFIED:20240826T093921Z
UID:75956-1725048900-1725048900@kultura.maribor.si
SUMMARY:Filmsko doživetje na otoku: GEPACK
DESCRIPTION:Poletno filmsko doživetje na Mariborskem otoku! \nPridružite se nam na Mariborskem otoku na filmskem večeru pod zvezdami! Skupaj si bomo pogledali film Gepack\, ki je navdušil Slovenijo. \nGepack je zgodba o štirih prijateljih\, ki se odpravijo na festival na Hrvaško\, a njihova počitnice se hitro zapletejo. Film je poln humorja\, prijateljstva in nepozabnih dogodivščin. \nFilm Gepack so ustvarili mladi in talentirani slovenski ustvarjalci\, ki so že pridobili veliko popularnosti na družbenih omrežjih. Režiser Žiga Kukovič in igralec Robert Kladnik sta znana TikTokerja\, medtem ko sta Maks Dakskobler in Tine Ugrin priljubljena tudi zaradi vloge v seriji Gospod Profesor. Njihov skupni projekt je bil zelo uspešen\, saj je film prejel številne nagrade\, med drugim tudi prestižni Zlati Muvit\, kar je dokaz\, da so gledalci navdušeni nad njihovim delom. \nOglejte si napovednik filma. \nOgled filma je brezplačen\, mesta so omejena. \nŠport Maribor organizira dva filmska večera v sodelovanju z Društvom za razvoj filmske kulture in Lutkovnim gledališčem Maribor. \n\nPovezava do originalnega članka
URL:https://kultura.maribor.si/dogodek/filmsko-dozivetje-na-otoku-gepack-2024-08-30-20-15-00-2024-08-30-00-00-00/
LOCATION:Okolica / Mariborski otok
CATEGORIES:Dogodki
ATTACH;FMTTYPE=image/jpeg:https://kultura.maribor.si/wp-content/uploads/2024/08/dogodki-banner-12-1.jpg
END:VEVENT
BEGIN:VEVENT
DTSTART;TZID=Europe/Paris:20240830T201500
DTEND;TZID=Europe/Paris:20240830T201500
DTSTAMP:20260424T110208
CREATED:20240813T070108Z
LAST-MODIFIED:20240821T120413Z
UID:75758-1725048900-1725048900@kultura.maribor.si
SUMMARY:Filmsko doživetje na otoku
DESCRIPTION:Poletno filmsko doživetje na Mariborskem otoku! \nPridružite se nam na Mariborskem otoku na filmskem večeru pod zvezdami! Skupaj si bomo pogledali film Gepack\, ki je navdušil Slovenijo. \nGepack je zgodba o štirih prijateljih\, ki se odpravijo na festival na Hrvaško\, a njihova počitnice se hitro zapletejo. Film je poln humorja\, prijateljstva in nepozabnih dogodivščin. \nFilm Gepack so ustvarili mladi in talentirani slovenski ustvarjalci\, ki so že pridobili veliko popularnosti na družbenih omrežjih. Režiser Žiga Kukovič in igralec Robert Kladnik sta znana TikTokerja\, medtem ko sta Maks Dakskobler in Tine Ugrin priljubljena tudi zaradi vloge v seriji Gospod Profesor. Njihov skupni projekt je bil zelo uspešen\, saj je film prejel številne nagrade\, med drugim tudi prestižni Zlati Muvit\, kar je dokaz\, da so gledalci navdušeni nad njihovim delom. \nOglejte si napovednik filma. \nOgled filma je brezplačen\, mesta so omejena. \nŠport Maribor organizira dva filmska večera v sodelovanju z Društvom za razvoj filmske kulture in Lutkovnim gledališčem Maribor. \n\nPovezava do originalnega članka
URL:https://kultura.maribor.si/dogodek/filmsko-dozivetje-na-otoku-2024-08-30-20-15-00-2024-08-30-00-00-00/
LOCATION:Okolica / Mariborski otok
CATEGORIES:Dogodki
ATTACH;FMTTYPE=image/jpeg:https://kultura.maribor.si/wp-content/uploads/2024/08/dogodki-banner-12.jpg
END:VEVENT
END:VCALENDAR