BEGIN:VCALENDAR
VERSION:2.0
PRODID:-//Kultura Maribor - ECPv6.2.8.1//NONSGML v1.0//EN
CALSCALE:GREGORIAN
METHOD:PUBLISH
X-WR-CALNAME:Kultura Maribor
X-ORIGINAL-URL:https://kultura.maribor.si
X-WR-CALDESC:Events for Kultura Maribor
REFRESH-INTERVAL;VALUE=DURATION:PT1H
X-Robots-Tag:noindex
X-PUBLISHED-TTL:PT1H
BEGIN:VTIMEZONE
TZID:Europe/Paris
BEGIN:DAYLIGHT
TZOFFSETFROM:+0100
TZOFFSETTO:+0200
TZNAME:CEST
DTSTART:20240331T010000
END:DAYLIGHT
BEGIN:STANDARD
TZOFFSETFROM:+0200
TZOFFSETTO:+0100
TZNAME:CET
DTSTART:20241027T010000
END:STANDARD
END:VTIMEZONE
BEGIN:VEVENT
DTSTART;TZID=Europe/Paris:20240831T201500
DTEND;TZID=Europe/Paris:20240831T220000
DTSTAMP:20260421T123519
CREATED:20240821T121954Z
LAST-MODIFIED:20240826T094037Z
UID:75958-1725135300-1725141600@kultura.maribor.si
SUMMARY:Filmsko doživetje na Otoku: POLETJE\, KO SEM SE NAUČILA LETETI (9+)
DESCRIPTION:Pridružite se nam na idilični lokaciji na reki Dravi\, proč od mestnega vrveža. Skupaj bomo uživali v naravi\, kjer se bo čarobnost filma prepletala s čudovitim poletnim večerom. \nNe zamudite edinstvene priložnosti za filmsko doživetje na največjem naravnem rečnem otoku v Sloveniji. Preživite prijeten večer v družbi prijateljev ali družine in ob romantičnem ambientu uživajte v ogledu filma. Ogled filma je BREZPLAČEN\, število mest je omejeno na 200 in bodo na voljo le do zapolnitve kapacitet. Priporočamo\, da na dogodek pridete 30 min pred pričetkom in si s tem pravočasno zagotovite svoj sedež. \n\nPovezava do originalnega članka
URL:https://kultura.maribor.si/dogodek/filmsko-dozivetje-na-otoku-poletje-ko-sem-se-naucila-leteti-9-2024-08-31-20-15-00-2024-08-31-22-00-00/
LOCATION:Okolica / Kopališče Mariborsko otok\, Na otok 40\, 2351 Kamnica
CATEGORIES:Dogodki
ATTACH;FMTTYPE=image/jpeg:https://kultura.maribor.si/wp-content/uploads/2024/08/c4254290-efa9-4b75-93ca-8b2e7960ff8f.jpg
END:VEVENT
END:VCALENDAR