BEGIN:VCALENDAR
VERSION:2.0
PRODID:-//Kultura Maribor - ECPv6.2.8.1//NONSGML v1.0//EN
CALSCALE:GREGORIAN
METHOD:PUBLISH
X-WR-CALNAME:Kultura Maribor
X-ORIGINAL-URL:https://kultura.maribor.si
X-WR-CALDESC:Events for Kultura Maribor
REFRESH-INTERVAL;VALUE=DURATION:PT1H
X-Robots-Tag:noindex
X-PUBLISHED-TTL:PT1H
BEGIN:VTIMEZONE
TZID:Europe/Paris
BEGIN:DAYLIGHT
TZOFFSETFROM:+0100
TZOFFSETTO:+0200
TZNAME:CEST
DTSTART:20240331T010000
END:DAYLIGHT
BEGIN:STANDARD
TZOFFSETFROM:+0200
TZOFFSETTO:+0100
TZNAME:CET
DTSTART:20241027T010000
END:STANDARD
END:VTIMEZONE
BEGIN:VEVENT
DTSTART;TZID=Europe/Paris:20240308T180000
DTEND;TZID=Europe/Paris:20240308T230000
DTSTAMP:20260424T022445
CREATED:20240227T080751Z
LAST-MODIFIED:20240305T112938Z
UID:69303-1709920800-1709938800@kultura.maribor.si
SUMMARY:"Eleganca in harmonija"
DESCRIPTION:Drage dame! Ob praznovanju dneva žena vas z velikim veseljem vabimo\, da s svojimi najboljšimi prijateljicami preživite nepozaben večer “Eleganca in Harmonija” v čarobnem ambientu Hotela Habakuk. Ta večer je namenjen vam – da se razvajate\, sprostite … \nZa vas smo pripravili nekaj posebnega: \n\nEkskluzivna modna revija priznanih slovenskih oblikovalk\, ki vam bodo predstavile najnovejše trende.\nStrokovni nasveti za ličenje in nego obraza\, s katerimi boste zasijale v vsej svoji lepoti.\nGlasbena poslastica ob zvokih kitare in čudovitem glasu Boštjana Bračiča\, ki bo večer napolnil z melodijami uspešnic.\nSkrbno izbrana večerja za dame …\n\nZačetek večera bo ob 18. uri z dobrodošlico in simboličnim darilom\, ki vas bosta pričakala ob prihodu. Večer zaključimo s skrbno izbrano večerjo v restavraciji hotela\, kjer boste doživele kraljevsko razvajanje. \nVečer Elegance in Harmonije  – v petek\, 8. marca\, s pričetkom ob 18.uri. \nTo je več kot le večer; to je praznovanje prijateljstva\, smeha in lepote. Večer\, ki si ga ne samo zaslužite\, ampak si ga morate dovoliti doživeti. Skupaj z nami naredite ta dan resnično poseben. \nZ ljubeznijo in pričakovanjem vašega druženja\, \nHotel Habakuk & Perfect Dresscode s Katjo \nNakup vstopnic: Vsak dan med 8. in 23. uro v Lobby baru hotela Habakuk \n\nPovezava do originalnega članka
URL:https://kultura.maribor.si/dogodek/eleganca-in-harmonija-2024-03-08-18-00-00-2024-03-08-23-00-00/
LOCATION:Okolica / Hotel Habakuk (Pohorska ulica 59\, Maribor)
CATEGORIES:Dogodki
ATTACH;FMTTYPE=image/jpeg:https://kultura.maribor.si/wp-content/uploads/2024/02/9ae81909-6d47-4f5f-b445-64abd511373c.jpg
END:VEVENT
END:VCALENDAR