BEGIN:VCALENDAR
VERSION:2.0
PRODID:-//Kultura Maribor - ECPv6.2.8.1//NONSGML v1.0//EN
CALSCALE:GREGORIAN
METHOD:PUBLISH
X-WR-CALNAME:Kultura Maribor
X-ORIGINAL-URL:https://kultura.maribor.si
X-WR-CALDESC:Events for Kultura Maribor
REFRESH-INTERVAL;VALUE=DURATION:PT1H
X-Robots-Tag:noindex
X-PUBLISHED-TTL:PT1H
BEGIN:VTIMEZONE
TZID:Europe/Paris
BEGIN:DAYLIGHT
TZOFFSETFROM:+0100
TZOFFSETTO:+0200
TZNAME:CEST
DTSTART:20250330T010000
END:DAYLIGHT
BEGIN:STANDARD
TZOFFSETFROM:+0200
TZOFFSETTO:+0100
TZNAME:CET
DTSTART:20251026T010000
END:STANDARD
END:VTIMEZONE
BEGIN:VEVENT
DTSTART;TZID=Europe/Paris:20250524T180000
DTEND;TZID=Europe/Paris:20250525T070000
DTSTAMP:20260424T092501
CREATED:20250506T020203Z
LAST-MODIFIED:20250522T075824Z
UID:90544-1748109600-1748156400@kultura.maribor.si
SUMMARY:SLOVENIA GOES HARDCORE | Out & Indoor edition
DESCRIPTION:Hardcore & Hardstyle dogodek \nNastopajoči glavno zunanje plesišče: ** hardcore – uptempo – frenchcore ** THE SATAN | Footworxx | Russia DARK PHOENIX | Footworxx | Belgium POLEY TIGHT | Hadcore Graz | Austria ARTHEIST | Hardcore Graz | Austria PAYMON (feat. FUSION REACTOR) | Slovenia goes Hardcore\, Factory of Sound | Slovenia RAGEFURY | Slovenia goes Hardcore\, Factory of Sound | Slovenia \nNastopajoči drugo notranje plesišče: ** hardcore – early hardstyle & hardcore – hardstyle (classics) – mainstream – industrial ** SONIC WARFARE | Hardcore Graz | Austria MARK ENIGMA | Hardcore Graz | Austria AGONIZE | Hardcore Graz | Austria THE BURGER KINGZ | Hardcore Graz | Austria PAYMON | Slovenia goes Hardcore\, Factory of Sound | Slovenia BASHER | In Hardstyle we trust | Slovenia CVEKO | Primorska squad | Slovenia SKULLBASHER | Slovenia goes Hardcore\, Factory of Sound | Slovenia MVD | Hard Destruction Movement | Slovenia \nVSTOPNICE \nSPLET: www.factoryofsound.si \nFizične lokcije: 3DVA – PETROL – SHELL \nPovezava do originalnega članka
URL:https://kultura.maribor.si/dogodek/slovenia-goes-hardcore-out-indoor-edition-2025-05-24-18-00-00-2025-05-25-07-00-00/
LOCATION:Okolica / Grad Murska Sobota
CATEGORIES:Alternativa,Dogodki,Glasba
ATTACH;FMTTYPE=image/jpeg:https://kultura.maribor.si/wp-content/uploads/2025/05/eda729bc-7c2d-4c91-975c-08da7c29df56.jpg
END:VEVENT
END:VCALENDAR