BEGIN:VCALENDAR
VERSION:2.0
PRODID:-//Kultura Maribor - ECPv6.2.8.1//NONSGML v1.0//EN
CALSCALE:GREGORIAN
METHOD:PUBLISH
X-ORIGINAL-URL:https://kultura.maribor.si
X-WR-CALDESC:Events for Kultura Maribor
REFRESH-INTERVAL;VALUE=DURATION:PT1H
X-Robots-Tag:noindex
X-PUBLISHED-TTL:PT1H
BEGIN:VTIMEZONE
TZID:Europe/Paris
BEGIN:DAYLIGHT
TZOFFSETFROM:+0100
TZOFFSETTO:+0200
TZNAME:CEST
DTSTART:20230326T010000
END:DAYLIGHT
BEGIN:STANDARD
TZOFFSETFROM:+0200
TZOFFSETTO:+0100
TZNAME:CET
DTSTART:20231029T010000
END:STANDARD
END:VTIMEZONE
BEGIN:VEVENT
DTSTART;TZID=Europe/Paris:20230823T190000
DTEND;TZID=Europe/Paris:20230827T180000
DTSTAMP:20260423T155645
CREATED:20230726T095619Z
LAST-MODIFIED:20230808T101905Z
UID:39187-1692817200-1693159200@kultura.maribor.si
SUMMARY:Katrin Hochschuh & Adam Donovan ≡ Kibernetična intima
DESCRIPTION:konS ≡ Platforma za sodobno raziskovalno umetnost se 34. Poletnemu lutkovnemu pristanu – mednarodnemu lutkovnemu festivalu z najdaljšo tradicijo – pridružuje z instalacijo Kibernetična intima. \nOdprtje instalacije bo v sredo\, 23. avgusta\, ob 19. uri v razstavišču v Minoritski cerkvi. \n\n\nNa ogled bo tudi v četrtek\, 24. avgusta in petek\, 25. avgusta\, med 16. in 18. uro\, v soboto 26. avgusta\, med 9. in 11. uro ter v nedeljo\, 27. avgusta\, med 9. in 11. uro ter 16. in 18. uro. \nInstalacija Kibernetična intima raziskuje komunikacijo med ljudmi in mehatronsko obliko življenja. Luči bitij v temi vzbudijo domišljijo obiskovalcev o njihovih namerah in notranjih svetovih Umetniško delo sproži razmišljanje o tem\, kaj pričakujemo od robotov in umetne inteligence. Roj mobilnih pol-avtonomnih robotov ustvarja čustveno nabito vzdušje s svojo lastno govorico telesa in vedenjem. Hkrati ta orkester bitij sestavi zvočni posnetek v realnem času\, ki na nenavaden način vključi zaznavni motor poslušalca. \nAli želimo\, da nas roj robotov obravnava z empatijo ali da nas obravnava kot tarčo optimizacije? \nInstalacija ustvarja neznane in vznemirljive situacije za občinstvo\, ki lahko komunicira z umetno inteligenco\, utelešeno v robotu\, in izkusi nenavadne fizične pojave usmerjenega zvoka. Ob vstopu v njihov habitat in interakciji z roboti bo občinstvo del psihološkega eksperimenta v medvrstni komunikaciji\, ki izkuša\, kako začnejo pripisovati različna čustvena stanja in namere nehumanoidnim strojem. Ob odzivu na bližino in različne oblike izražanja roboti spremenijo svoje vedenje\, kar ustvari dialog\, v katerem obe vrsti raziskujeta druga drugo. Že preprosti gibi proti človeku ali stran od njega dajejo prostor domišljiji o robotovi igrivosti\, naklonjenosti ali prijaznosti. \nKatrin Hochschuh je medijska umetnica z arhitekturnim ozadjem v digitalnem oblikovanju in robotski izdelavi. Njeno umetniško delo povezuje digitalno in fizično področje\, raziskuje robotsko vedenje\, algoritme in interaktivnost\, pri čemer človeka\, njegovo dojemanje in družbene implikacije tehnologije zmeraj postavlja v središče svojega dela. \nAdam Donovan je hibridni medijski umetnik\, ki deluje na področju znanosti\, umetnosti in tehnologije. Njegovo umetniško delo vključuje nelinearno akustiko\, robotsko skulpturo\, okolje motorja za igre in sledenje kamer. Raziskuje nematerialne vidike fizike\, da bi okrepil njihove učinke in ustvaril nove medije in izkušnje. \nVeč o avtorjih in projektu: https://hochschuh-donovan.com/ \n\n___\nProjekt konS ≡ Platforma za sodobno umetnost je bil izbran na javnem razpisu za izbor operacij Mreža centrov raziskovalnih umetnosti in kulture. Naložbo sofinancirata Republika Slovenija in Evropska unija iz Evropskega sklada za regionalni razvoj.\n\n\n\nPovezava do originalnega članka
URL:https://kultura.maribor.si/dogodek/katrin-hochschuh-adam-donovan-kiberneticna-intima-2023-08-23-19-00-00-2023-08-27-18-00-00/
LOCATION:odprtje instalacije v Minoritski cerkvi (Vojašniški trg 1\, Maribor)
CATEGORIES:Alternativa,Dogodki,Razstave
ATTACH;FMTTYPE=image/jpeg:https://kultura.maribor.si/wp-content/uploads/2023/07/kiberneticna-intima.jpg
END:VEVENT
END:VCALENDAR