BEGIN:VCALENDAR
VERSION:2.0
PRODID:-//Kultura Maribor - ECPv6.2.8.1//NONSGML v1.0//EN
CALSCALE:GREGORIAN
METHOD:PUBLISH
X-WR-CALNAME:Kultura Maribor
X-ORIGINAL-URL:https://kultura.maribor.si
X-WR-CALDESC:Events for Kultura Maribor
REFRESH-INTERVAL;VALUE=DURATION:PT1H
X-Robots-Tag:noindex
X-PUBLISHED-TTL:PT1H
BEGIN:VTIMEZONE
TZID:Europe/Paris
BEGIN:DAYLIGHT
TZOFFSETFROM:+0100
TZOFFSETTO:+0200
TZNAME:CEST
DTSTART:20230326T010000
END:DAYLIGHT
BEGIN:STANDARD
TZOFFSETFROM:+0200
TZOFFSETTO:+0100
TZNAME:CET
DTSTART:20231029T010000
END:STANDARD
END:VTIMEZONE
BEGIN:VEVENT
DTSTART;TZID=Europe/Paris:20231024T170000
DTEND;TZID=Europe/Paris:20231024T190000
DTSTAMP:20260421T233824
CREATED:20231012T120628Z
LAST-MODIFIED:20231017T105548Z
UID:41801-1698166800-1698174000@kultura.maribor.si
SUMMARY:30 let MKC MARIBOR - 6. dan
DESCRIPTION:30 let MKC Maribor\nMKC MARIBOR V MALEM\nFestivalski teden brezplačnih dogodkov: ples\, družabni večeri\, družabne iger\, spoznavanje japonske kulture\, izmenjevalnica rastlina\, DJ-delavnica\, izdelava 3D figuric\, slam poezija\, poezija na ulicah\, sprehod po zgodovini MKC Maribor. \nMladinski kulturni center Maribor (MKC Maribor) v letu 2023 praznuje okroglih 30 let. Zato smo med 19. in 26. oktobrom 2023 pripavili enotedensko jubilejno dogajanje\, ki ga sestavlja več kot trinajst dogodkov. Program bo na vseh lokacijah MKC Maribor (Upravna stavba s Hostlom Pekarna\, Kulturni inkubator\, Galerija Media Nox)\, soustvarili ga bodo vsi zaposleni.  \nTako smo v enotedensko dogajanje zajeli skorajda vsa področja\, ki jih MKC Maribor izvaja v sklopu svojih programov. MKC Maribor v malem\, kot smo poimenovali dogodke v sklopu praznovanje 30. obletnice MKC Maribor\, bo tako postregel z družabnimi večeri\, razstavo likovnih del\, spoznavanjem japonske kulture in animejev\, filmskim večerom\, izmenjevalnico rastlin\, DJ-delavnico\, delavnico izdelovanja 3D figuric\, slam poezijo\, poezijo na ulicah … ter seveda plesom in dobro glasbo: 50-ies PROM NIGHT nas bo spomnil na maturantski ples\, za zaključek pa bomo migali v ritmih glasbene skupine FUNK FU. \nprogram ob 30. obletnici mkc maribor:\nTorek\, 24. oktober 2023 @ Umetnostna galerija Maribor \n17:00 Sprehod: poezija na mestnih ulicah\n\n\n\n\n\n\n\n\n\n\n\n\n\n\n\n\n\nNa mariborskih ulicah\, v Studiu Umetnostne galerije Maribor\, v Kulturnem inkubatorju Mladinskega kulturnega centra (MKC) Maribor\, na ulicah Slovenj Gradca ter v Koroški osrednji knjižnici dr. Franca Sušnika na Ravnah na Koroškem boste lahko med 6. in 30. oktobrom 2023\, predvidoma pa tudi decembra 2023\, prebirali poezijo izbranih slovenskih pesnikov in pesnic\, ki bo na plakatih skupaj z izvirnimi ilustracijami ilustratork in ilustratorjev nagovarjala mimoidoče meščane in meščanke ter obiskovalce in obiskovalke kulturnih ustanov. \nPlakatna akcija v organizaciji Mladinskega kulturnega centra Maribor poteka že šestnajsto leto\, selektor poezije in avtor projekta je urednik in knjižničar Nino Flisar\, selektorica likovnih del je kustosinja in direktorica Koroške galerije Petra Čeh\, ki v projektu sodeluje že tretjič\, na njeno pobudo pa se Poezija na mestnih ulicah iz Maribora seli tudi na Koroško. \nPoezija na mestnih ulicah se letos pridružuje tudi programu\, s katerim v MKC Maribor obeležujemo 30. obletnico delovanja. V torek\, 24. oktobra\, vabimo na sprehod med plakati\, ki s poezijo polnijo Maribor. Sprehod bo vodil Nino Flisar\, vanj pa bodo aktivno umetniško vključeni tudi pesnice in pesniki\, ki bodo ob plakatih prebrali svoje pesmi ter likovniki in likovnice. \nSodelujejo: Kristina Kočan\, Tom Veber\, Sara Nuša Golob Grabner\, Maja Visinski Andrejc\, Matic Ačko\, Nevenka Miklič\, Uroš Lehner. Zbirno mesto je v UGM Studiu (Trg Leona Štuklja 2\, Maribor\, kjer bodo sodelavci Umetnostne galerije Maribor pripravili kratek voden ogled po razstavi Zgodba o knjigi\, zaključek pa bo v Kulturnem inkubatorju\, kjer bomo obeležili 30. let od ustanovitve zavoda Mladinski kulturni center Maribor. \n\n\n\n\n\n\n\n\n\n\n\nceloten program MKC maribor v malem\n\n\n\n\n\n\n\n\nPovezava do originalnega članka
URL:https://kultura.maribor.si/dogodek/30-let-mkc-maribor-6-dan-2023-10-24-17-00-00-2023-10-24-19-00-00/
LOCATION:MKC Maribor\, Hostel Pekarna\, Kulturni inkubator\, Galerija Media Nox
CATEGORIES:Dogodki,Festivali,Razstave
ATTACH;FMTTYPE=image/jpeg:https://kultura.maribor.si/wp-content/uploads/2023/10/OBJAVEMKC30-5.jpg
END:VEVENT
BEGIN:VEVENT
DTSTART;TZID=Europe/Paris:20231023T120000
DTEND;TZID=Europe/Paris:20231023T210000
DTSTAMP:20260421T233825
CREATED:20231012T120624Z
LAST-MODIFIED:20231017T085231Z
UID:41799-1698062400-1698094800@kultura.maribor.si
SUMMARY:30 let MKC MARIBOR - 5. dan
DESCRIPTION:30 let MKC Maribor\nMKC MARIBOR V MALEM\nFestivalski teden brezplačnih dogodkov: ples\, družabni večeri\, družabne iger\, spoznavanje japonske kulture\, izmenjevalnica rastlina\, DJ-delavnica\, izdelava 3D figuric\, slam poezija\, poezija na ulicah\, sprehod po zgodovini MKC Maribor. \nMladinski kulturni center Maribor (MKC Maribor) v letu 2023 praznuje okroglih 30 let. Zato smo med 19. in 26. oktobrom 2023 pripavili enotedensko jubilejno dogajanje\, ki ga sestavlja več kot trinajst dogodkov. Program bo na vseh lokacijah MKC Maribor (Upravna stavba s Hostlom Pekarna\, Kulturni inkubator\, Galerija Media Nox)\, soustvarili ga bodo vsi zaposleni.  \nTako smo v enotedensko dogajanje zajeli skorajda vsa področja\, ki jih MKC Maribor izvaja v sklopu svojih programov. MKC Maribor v malem\, kot smo poimenovali dogodke v sklopu praznovanje 30. obletnice MKC Maribor\, bo tako postregel z družabnimi večeri\, razstavo likovnih del\, spoznavanjem japonske kulture in animejev\, filmskim večerom\, izmenjevalnico rastlin\, DJ-delavnico\, delavnico izdelovanja 3D figuric\, slam poezijo\, poezijo na ulicah … ter seveda plesom in dobro glasbo: 50-ies PROM NIGHT nas bo spomnil na maturantski ples\, za zaključek pa bomo migali v ritmih glasbene skupine FUNK FU. \nprogram ob 30. obletnici mkc maribor:\nPonedeljek\, 22. oktober 2023 @ Kulturni inkubator\,  \n18:00 družabni večer: izmenjevalnica rastlin\, izdelava 3d figuric in dj delavnica\n\n\n\n\n\n\n\n\n\n\n\n\n\n\n\n\n\n\n\n\n\nV ponedeljkov vrtinec večera se bomo v Kulturnem inkubatorju podali ob 18. uri. Ponujamo pester nabor aktivnosti in kar dve vodeni delavnici. Te zanima vrtenje glasbe? Ali si bolj za ustvarjanje 3D figuric?  \nPreveri spodnje delavnice in se prijavi. Predhodne prijave so namreč obvezne\, zbiramo jih do zapolnitve prostih mest oziroma do petka\, 20. oktobra. \n\n\n\n\n\n\n\n\n\nDELAVNICA 1: (Z)mešani ritmi: Uvod v svet DJ-anja\n\n\n\n\n\n\n\n\n\n\n\n\n\n\n\n\n\nDelavnica (Z)mešani ritmi vabi novince in novinke v divji svet DJanja! Spoznali bomo kratko zgodovino vrtenja glasbe\, njegov razvoj skozi čas in različne glasbene zvrsti ter vpliv na moderno glasbeno kulturo. Udeleženci bodo imeli priložnost odkriti kdo je DJ\, kaj v bistvu počne in kako so DJ-ji postali nepogrešljivi akterji v glasbenem svetu. \nRaziskali bomo osnove glasbenih elementov\, kot so ritmi\, melodije\, basi in vzorci\, se naučili kaj pomeni BPM\, čemu služi CUE gumb in zakaj je SYNC gumb poskrbel za najbolj kontroverzno revolucijo v zadnjih desetletjih. Dotaknili se bomo različnih DJ tehnik\, vključno z beatmatch-anjem\, ustvarjanjem prehodov med skladbami\, efektiranjem zvoka in scratch-anjem. Od blizu se bomo seznanili z moderno DJ opremo in potovanjem zvoka od njegovega izvora vse do vibracij v zvočnikih. Da pa ne bo ostalo zgolj pri besedah\, bomo osvojeno znanje preizkusili tudi v praksi ter skupaj ustvarili edinstveno glasbeno kuliso. Z nami bo DJ lokalnih korenin\, Jamie Ricaro\, njegov Mixcloud: https://www.mixcloud.com/jamiericaro/ in Soundcloud: https://soundcloud.com/jamie-ricaro vabita k poslušanju in ogrevanju. \nDELAVNICA 2: Izdelava 3D igralnih figuric\n\n\n\n\n\n\n\n\n\n\n\n\n\n\n\n\n\nUstvarjalnim osebam\, ki se želijo potopiti v umetnost barvanja in 3D tiska pa (ob poslušanju dobre glasbe) ponujamo: \n\nbarvanje miniatur\, ki si jih lahko brezplačno izberete na dogodku;\nspoznavanje različnih tehnik za 3D tisk\, kot sta FDM in DLP;\nučenje priprave plastične figure za barvanje\, uporabo osnovnega spreja in učenje tehnike zenitnega senčenja;\npodporo pri pravilni rabi čopiča.\n\nVse potrebščine boste dobili na delavnici\, potrebujete le dobro voljo 😊. Obstaja možnost\, da se popackate z barvo\, zato oblecite primerna oblačila. Vaša ustvarjalnost ne bo omejena –  pobarvanim junakom boste na koncu dodelili edinstvene karakteristike\, jih postavili v svet igre Mordheim in se pomerili z drugimi udeleženci. Delavnico bomo zaključili z razstavo\, kjer boste predstavili svoje stvaritve. Vse miniature boste odnesli domov – kot umetniške mojstrovine za razstavo ali za igranje namiznih iger. \nPrijave na delavnice so obvezne\, število mest je omejeno – zbiramo jih do petka\, 20. oktobra. \n\n\n\n\n\n\nPRIJAVA NA DELAVNICE\n\n\n\n\n\n\nČe pa ti diši le druženje ob dobri glasbi in igranje namiznih iger\, so vrata studia oprta med 18. in 21. uro\, vabljen_a tudi\, da prideš pogledat in izmenjat svojo zbirko rastlin\, oblačil ali dobrih misli – odpiramo namreč izmenjevalnico zgoraj naštetih reči\, dogodek pa bo imel tudi dobrodelno noto\, saj zbiramo nepokvarljiva živila in osnovne kozmetične izdelke za našo skupnostno shrambo\, ki je namenjena posameznikom v stiski. \n\n\n\n\n\n\n\n\n\n\n\nceloten program MKC maribor v malem\n\n\n\n\n\n\n\n\nPovezava do originalnega članka
URL:https://kultura.maribor.si/dogodek/30-let-mkc-maribor-5-dan-2023-10-23-12-00-00-2023-10-23-21-00-00/
LOCATION:MKC Maribor\, Hostel Pekarna\, Kulturni inkubator\, Galerija Media Nox
CATEGORIES:Dogodki,Festivali
ATTACH;FMTTYPE=image/jpeg:https://kultura.maribor.si/wp-content/uploads/2023/10/OBJAVEMKC30-4.jpg
END:VEVENT
BEGIN:VEVENT
DTSTART;TZID=Europe/Paris:20231022T150000
DTEND;TZID=Europe/Paris:20231023T000000
DTSTAMP:20260421T233825
CREATED:20231013T123214Z
LAST-MODIFIED:20231017T085104Z
UID:41853-1697986800-1698019200@kultura.maribor.si
SUMMARY:30 let MKC MARIBOR - 4. dan
DESCRIPTION:30 let MKC Maribor\nMKC MARIBOR V MALEM\nFestivalski teden brezplačnih dogodkov: ples\, družabni večeri\, družabne iger\, spoznavanje japonske kulture\, izmenjevalnica rastlina\, DJ-delavnica\, izdelava 3D figuric\, slam poezija\, poezija na ulicah\, sprehod po zgodovini MKC Maribor. \nMladinski kulturni center Maribor (MKC Maribor) v letu 2023 praznuje okroglih 30 let. Zato smo med 19. in 26. oktobrom 2023 pripavili enotedensko jubilejno dogajanje\, ki ga sestavlja več kot trinajst dogodkov. Program bo na vseh lokacijah MKC Maribor (Upravna stavba s Hostlom Pekarna\, Kulturni inkubator\, Galerija Media Nox)\, soustvarili ga bodo vsi zaposleni.  \nTako smo v enotedensko dogajanje zajeli skorajda vsa področja\, ki jih MKC Maribor izvaja v sklopu svojih programov. MKC Maribor v malem\, kot smo poimenovali dogodke v sklopu praznovanje 30. obletnice MKC Maribor\, bo tako postregel z družabnimi večeri\, razstavo likovnih del\, spoznavanjem japonske kulture in animejev\, filmskim večerom\, izmenjevalnico rastlin\, DJ-delavnico\, delavnico izdelovanja 3D figuric\, slam poezijo\, poezijo na ulicah … ter seveda plesom in dobro glasbo: 50-ies PROM NIGHT nas bo spomnil na maturantski ples\, za zaključek pa bomo migali v ritmih glasbene skupine FUNK FU. \nprogram ob 30. obletnici mkc maribor:\nNedelja\, 22. oktober 2023 @ Kulturni inkubator\,  \n15:00 dan odprtih vrat mkc maribor\n\n\n\n\n\n\n\n\n\n\n\n\n\n\n\n\n\n\n\n\n\nProstori MKC Maribor bodo na široko odprli svoja vrata. Od 12. ure dalje vabljeni\, da pokukate v Hostel Pekarna in si izdelate svojo denarnico za naslednje potovanje\, v družbi študentov se lahko v Galeriji Media Nox podate na raziskovanje različnih materialov za ustvarjanje\, ali pa pokukate v ‘‘zakulisje’’ oziroma v prostore Upravne stavbe. Odprt bo tudi Kulturni inkubator\, ki bo hkrati tudi izhodišča točka za prav poseben sprehod po zgodovini MKC Maribor. \n\n\n\n\n\n\n\n\nLIKOVNA DELAVNICA @ GALERIJA MEDIA NOX \nŠtudentje likovne pedagogike Inja Ferlež\, Ines Sekač in Urban Vicman bodo ob razstavi Jesen 23 študentov Oddelka za likovno umetnost\, ki je med 18. oktobrom in 6. decembrom na ogled v Galeriji Media Nox\, na Dan odprtih vrat MKC Maribor izvedli likovno delavnico. \nNamen likovne delavnice je omogočiti obiskovalcem\, da bolj poglobljeno in s pomočjo lastne likovne izkušnje aktivno opazujejo razstavljena dela študentov\, se igrajo z likovnimi materiali in spontano odkrivajo njihove izrazne možnosti. \nLikovna delavnica je namenjena otrokom\, ki jih veseli likovno izražanje ter dijakom\, ki razmišljajo o študiju likovne pedagogike. Hkrati pa je likovna delavnica namenjena prav vsem\, ki že dolgo niso česa razrezali\, zmečkali\, sestavili in zalepili. \nIZDELOVANJE DENARNIC @ HOSTEL PEKARNA \nV Hostlu Pekarna na dan odprtih vrat vabijo na delavnico\, na kateri si bodo udeleženci lahko izdelali čisto svojo denarnico iz papirja\, ki bo zagotovo prišla prav na naslednjem potovanju. Na delavnici origamijev bomo preizkusili spretnosti natančnega pregibanja papirja in poleg denarnic izdelali različne predmete iz papirja. Papir in ostale potrebščine boste prejeli na delavnici. \nAktivnost bo vodila Nina\, receptorka Hostla Pekarna\, ki v prostem času rada tudi ustvarja. Starostna omejitev je od 5 let naprej. \n\n\n\n\n\n\nFACEBOOK DOGODEK\n\n\n\n\n\n\n\n\n\n16:00 SPREHOD PO ZGODOVINI MKC MARIBOR\n\n\n\n\n\n\n\n\nVabimo na sprehod po zgodovini in sedanjosti MKC Maribor. Ustavili se bomo na vseh točkah\, ki zdaj (so)oblikujejo MKC Maribor\, hkrati pa se bomo ustavili na lokacijah\, ki so predstavljale pomembne mejnike v zgodovini delovanja javnega zavoda MKC Maribor. \nKulturni inkubator na Koroški cesti\, Upravna stavba in Hostel Pekarna na območju Kulturnega centra Pekarna in Galerija Media Nox na Židovskem trgu so namreč le koščki pisane celote\, ki sestavjajo MKC Maribor. Spoznajte tiste bolj ali manj poznane ter tiste še povsem skrite zgodbe MKC Maribor in njegovih zaposlenih. Kolektiv že vse leto odstira zakulisje z anekdotami\, morda vam na sprehodu kakšno razkrijemo še v živo. \nSprehod bomo začeli pred Kulturnim inkubatorjem na Koroški cesti. \n\n\n\n\n\n\n\n\n\n\n\n\n\n\n\n\n\n\n\nFACEBOOK DOGODEK\n\n\n\n\n\n\nPRIJAVA NA DOGODEK\n\n\n\n\n\n\n\n\n\n\n\n18:00 filmski večer: zgodba save in pogovor z rokom rozmanom\n\n\n\n\n\n\n\n\n\n\n\n\n\n\n\n\n\n\n\nNAPOVEDNIK FILMA\n\n\n\n\n\n\n\n\nZaključek dneva bo v Kulturnem inkubatorju ob 18. uri ponudil tudi navdihujoč mednarodno nagrajen celovečerni dokumentarec Zgodba Save. \nPo ogledu bo sledil tudi pogovor z Rokom Rozmanom\, idejnim vodjem iniciative Balkan River Defence ter zagretim borcem za neokrnjeno naravo\, ki poslanstvo uresničuje z nasmehom ter brez dlake na jeziku\, s kančkom rock’n’rolla. \nFilm Ena za reko: Zgodba Save je bil sprejet na 27 filmskih festivalov v 16 državah\, kjer je prejel 11 nagrad. \n\n\n\n\n\n\n\n\n\n\n\n\n\nceloten program MKC maribor v malem\n\n\n\n\n\n\n\n\nPovezava do originalnega članka
URL:https://kultura.maribor.si/dogodek/30-let-mkc-maribor-4-dan-2023-10-22-15-00-00-2023-10-23-00-00-00/
LOCATION:MKC Maribor\, Hostel Pekarna\, Kulturni inkubator\, Galerija Media Nox
CATEGORIES:Dogodki,Festivali
ATTACH;FMTTYPE=image/jpeg:https://kultura.maribor.si/wp-content/uploads/2023/10/OBJAVEMKC30-6.jpg
END:VEVENT
END:VCALENDAR