BEGIN:VCALENDAR
VERSION:2.0
PRODID:-//Kultura Maribor - ECPv6.2.8.1//NONSGML v1.0//EN
CALSCALE:GREGORIAN
METHOD:PUBLISH
X-WR-CALNAME:Kultura Maribor
X-ORIGINAL-URL:https://kultura.maribor.si
X-WR-CALDESC:Events for Kultura Maribor
REFRESH-INTERVAL;VALUE=DURATION:PT1H
X-Robots-Tag:noindex
X-PUBLISHED-TTL:PT1H
BEGIN:VTIMEZONE
TZID:UTC
BEGIN:STANDARD
TZOFFSETFROM:+0000
TZOFFSETTO:+0000
TZNAME:UTC
DTSTART:20190101T000000
END:STANDARD
TZID:Europe/Paris
BEGIN:DAYLIGHT
TZOFFSETFROM:+0100
TZOFFSETTO:+0200
TZNAME:CEST
DTSTART:20180325T010000
END:DAYLIGHT
BEGIN:STANDARD
TZOFFSETFROM:+0200
TZOFFSETTO:+0100
TZNAME:CET
DTSTART:20181028T010000
END:STANDARD
END:VTIMEZONE
BEGIN:VEVENT
DTSTART;TZID=UTC:20191020T203000
DTEND;TZID=UTC:20191020T220000
DTSTAMP:20260422T185240
CREATED:20211106T203309Z
LAST-MODIFIED:20211106T203309Z
UID:996-1571603400-1571608800@kultura.maribor.si
SUMMARY:IVO DIMCHEV - THE LIVE CONCERT
DESCRIPTION:Že dvajset let je Ivo Dimchev\, koreograf\, performer\, vizualni umetnik in gejevski aktivist\, med zvermi eksperimentalne in radikalne umetnosti. Ljubezen do glasbe je v zadnjih letih odrinila ples\, prevzela in prežela je njegovo performersko ustvarjanje. Tako zelo\, da se je Dimchev leta 2018 po svojem vpadljivem preboju v britanski TV-oddaji X Factorlotil svetovne turneje. Njegov impresivno močan glas\, ki se pretaka od rock zvezde do primadonne\, in karizmatična odrska prisotnost sta soglasna. \nProducent Humarts Foundation (BG)\nAvtor glasbe in besedila Ivo Dimchev\nGlasbena produkcija Georgy Linev\, Sash & Blazh\, Ivo Dimchev \nDogodek bo v Minoritski cerkvi in traja 1 uro 10 minut.
URL:https://kultura.maribor.si/dogodek/ivo-dimchev-the-live-concert/
LOCATION:Minoritska cerkev\nVojašniški trg 2a Maribor\, Upravna enota Maribor\, 2000 Slovenia
ATTACH;FMTTYPE=image/jpeg:https://kultura.maribor.si/wp-content/uploads/2021/11/images.squarespace-cdn.com_content_v1_54e6903be4b0a4e937a0f2fc_1568887826151-AZEN25D7MZI0UUI4Y7WY_70194339_2463566910358877_5628925129581920256_n.jpgformat1000w.jpg
END:VEVENT
BEGIN:VEVENT
DTSTART;TZID=Europe/Paris:20181216T180000
DTEND;TZID=Europe/Paris:20181216T193000
DTSTAMP:20260422T185240
CREATED:20211106T215708Z
LAST-MODIFIED:20211106T215708Z
UID:4755-1544983200-1544988600@kultura.maribor.si
SUMMARY:SVETA NOČ - KONCERT OB 200. OBLETNICI GRUBERJEVE SVETE NOČI
DESCRIPTION:SVETA NOČ\nKoncert ob 200. obletnici Gruberjeve Svete noči \nKomorni zbor Hugo Wolf\, solisti in komorni orkester\nZborovodja: Aleš Marčič \nProgram:\n– božične skladbe od 15. stoletja do danes:\nF. X. Gruber\, J. P. Sweelinck\, J. S. Bach\, E. F. Richter\, C. Wood\, L. Kauffman\, M. Rener\, M. Sheppard\, J. Rutter\, trad.\n– dve noviteti:\nTadej Kušar: Stille Nacht\, heilige Nacht!\nFabio Nieder: Ein heiliger Weg in sechs Stationen zur stillen Nacht \nNedelja\, 16. december 2018\, ob 18.00\nMinoritska cerkev\, Maribor \nVstop prost! \nDruštvo nemško govorečih žena Mostovi\, Maribor
URL:https://kultura.maribor.si/dogodek/sveta-noc-koncert-ob-200-obletnici-gruberjeve-svete-noci/
LOCATION:Minoritska cerkev\nVojašniški trg 2a Maribor\, Upravna enota Maribor\, 2000 Slovenia
ATTACH;FMTTYPE=image/jpeg:https://kultura.maribor.si/wp-content/uploads/2021/11/images.squarespace-cdn.com_content_v1_54e6903be4b0a4e937a0f2fc_1544546661550-0MFLG0FX7HJC42C93G3R_hudo.jpgformat1000w.jpg
END:VEVENT
END:VCALENDAR