BEGIN:VCALENDAR
VERSION:2.0
PRODID:-//Kultura Maribor - ECPv6.2.8.1//NONSGML v1.0//EN
CALSCALE:GREGORIAN
METHOD:PUBLISH
X-WR-CALNAME:Kultura Maribor
X-ORIGINAL-URL:https://kultura.maribor.si
X-WR-CALDESC:Events for Kultura Maribor
REFRESH-INTERVAL;VALUE=DURATION:PT1H
X-Robots-Tag:noindex
X-PUBLISHED-TTL:PT1H
BEGIN:VTIMEZONE
TZID:Europe/Paris
BEGIN:DAYLIGHT
TZOFFSETFROM:+0100
TZOFFSETTO:+0200
TZNAME:CEST
DTSTART:20220327T010000
END:DAYLIGHT
BEGIN:STANDARD
TZOFFSETFROM:+0200
TZOFFSETTO:+0100
TZNAME:CET
DTSTART:20221030T010000
END:STANDARD
END:VTIMEZONE
BEGIN:VEVENT
DTSTART;TZID=Europe/Paris:20221226T170000
DTEND;TZID=Europe/Paris:20221226T170000
DTSTAMP:20260423T153052
CREATED:20221129T080308Z
LAST-MODIFIED:20221219T082752Z
UID:29038-1672074000-1672074000@kultura.maribor.si
SUMMARY:Trobla in ključ
DESCRIPTION:Predstava za otroke\, 3 + \nTo je zgodba o prijateljstvu\, ljubezni in ljubosumju. \nCirkusanta Trobla in Beno sta nerazdružljiv par. Skupaj preživljata prosti čas\, denar pa služita s plesno-glasbenimi nastopi. Nekega dne na njun oder zaide čudovita plesalka Ajša. Bena njena lepota poponoma očara\, Trobla pa postane ljubosumna. In ključ\, ki navija glasbeno skrinjico\, da ta lahko igra in Ajša čudovito pleše\, skrivnostno izgine … \nTrobla in ključ je lutkovno-igrana predstava z elementi plesa in glasbe. \n\nPovezava do originalnega članka
URL:https://kultura.maribor.si/dogodek/trobla-in-kljuc-2022-12-26-17-00-00-2022-12-26-00-00-00/
LOCATION:Maribor center / Vilinski oder\, Vetrinjski dvor (Vetrinjska ulica 30\, Maribor)
CATEGORIES:Dogodki,Gledališče
ATTACH;FMTTYPE=image/jpeg:https://kultura.maribor.si/wp-content/uploads/2022/11/trobla-in-kljuc1-b-jpg.jpg
END:VEVENT
BEGIN:VEVENT
DTSTART;TZID=Europe/Paris:20221223T190000
DTEND;TZID=Europe/Paris:20221223T190000
DTSTAMP:20260423T153052
CREATED:20221129T072950Z
LAST-MODIFIED:20221219T082449Z
UID:29020-1671822000-1671822000@kultura.maribor.si
SUMMARY:Balladero z bendom
DESCRIPTION:Koncert. \nKrasen glas\, prodoren pogled in nastop ter pesmi\, ki nas popeljejo v čaroben svet. \nBalladero je umetniško ime Dominika Bagole\, ki je priznan klavirski kantavtor in v Vilinski dvor prihaja v spremstvu benda. Ste pripravljeni\, da pod lučkami zapojemo skladbe Marelice\, Zlati časi\, Še živim\, Ponesi me\, Drugačen svet\, Najina in Potujem? Pričarajmo si najlepši večer\, poln glasbe\, melodij in čarobnosti. \nZasedba Balladero z bendom so: \n\nBalladero Dominik Bagola – klavir\,\nklaviature in vokal\,\nBoštjan Gradišek – bobni\,\nGoran Sarjaš – bas kitara\,\nMartin Lunder – električna kitara\,\nAmadej Herzog – klasična harmonika\n\n\nPovezava do originalnega članka
URL:https://kultura.maribor.si/dogodek/balladero-z-bendom-2022-12-23-19-00-00-2022-12-23-00-00-00/
LOCATION:Maribor center / Vilinski oder\, Vetrinjski dvor (Vetrinjska ulica 30\, Maribor)
CATEGORIES:Dogodki,Glasba
ATTACH;FMTTYPE=image/jpeg:https://kultura.maribor.si/wp-content/uploads/2022/11/balladero-foto-taja-kosir-popovic-1-b-jpg.jpg
END:VEVENT
BEGIN:VEVENT
DTSTART;TZID=Europe/Paris:20221217T203000
DTEND;TZID=Europe/Paris:20221217T203000
DTSTAMP:20260423T153052
CREATED:20221129T065712Z
LAST-MODIFIED:20221212T073225Z
UID:28856-1671309000-1671309000@kultura.maribor.si
SUMMARY:Vilinska Lacha: Blaž Mencinger
DESCRIPTION:Blaž je izurjen kantavtor\, ki nastop poveže v zgodbo intime\, začinjene s kančkom samoironije in humorja; v Mariboru je bil v solo izvedbi že večkrat toplo sprejet. Iskreno ga veseli\, da se bo Mariboru prav na Vilinskem odru predstavil še s celotno zasedbo. \nJe pevec\, kitarist\, pisec besedil\, predvsem pa pripovedovalec zgodb. Letos je samostojno ali z bendom nastopil na več kot dvajsetih odrih po Sloveniji\, odlikuje pa ga iskren nastop in povsod je deležen dobrega odziva publike. Pred kratkim je izdal debitantsko malo ploščo\, ki je bila na radijskih postajah dobro sprejeta. Nazadnje smo ga lahko slišali kot posebnega gosta v oddaji Izštekani\, pred tem pa v več intervjujih in radijskih nastopih na Radiu Maribor\, Prvi in Valu 202. \n“Gre za mladega ustvarjalca\, ki sklada zelo premišljen indie pop. In ta nas bo\, zagotavljam\, v prihodnje še velikokrat vsaj potolažil\, če ne nasmejal. Res odlično.” (24 ur\, M. Ambrožič). \nZasedba: Blaž Mencinger\, vokal in električna kitara\, Luka Dobnikar\, bas kitara\, Matic Štemberger\, klaviature\, Pavel Čebašek\, bobni \n\nPovezava do originalnega članka
URL:https://kultura.maribor.si/dogodek/vilinska-lacha-blaz-mencinger-2022-12-17-20-30-00-2022-12-17-00-00-00/
LOCATION:Maribor center / Vilinski oder\, Vetrinjski dvor (Vetrinjska ulica 30\, Maribor)
CATEGORIES:Dogodki,Festivali,Glasba
ATTACH;FMTTYPE=image/jpeg:https://kultura.maribor.si/wp-content/uploads/2022/11/blaz-mencinger-1-b-jpg.jpg
END:VEVENT
BEGIN:VEVENT
DTSTART;TZID=Europe/Paris:20221217T170000
DTEND;TZID=Europe/Paris:20221217T170000
DTSTAMP:20260423T153052
CREATED:20221129T065710Z
LAST-MODIFIED:20221212T072947Z
UID:28854-1671296400-1671296400@kultura.maribor.si
SUMMARY:O majhni Anici
DESCRIPTION:Predstava za otroke\, 2 + \nIzredno domiselna\, igriva predstava\, saj pripoveduje o deklici Anici\, ki ima na svet\, ker je sama še zelo majhen otrok\, zelo poseben\, radoveden pogled. Nekega dne izgubi svojo najljubšo igračo\, rumeno žogico\, in poda se v svet\, da bi jo našla. Med iskanjem z začudenjem ugotovi\, da je njena rumena žoga lahko kopica drugih stvari – že naslednji dan je lahko rumenjak\, tretji dan sonce … \nSpoznavajmo svet skozi oči majhne deklice in bodimo očarani nad njim.\nPredstava je lutkovno-igrana\, raznobarvno-gibalna\, zabavno-interaktivna\, skratka\, igriva. \nScenarij: Alice Čop\nAvtorja knjižne predloge: Inger in Lasse Sandberg\nRežija: Alice Čop in Kajetan Čop\nScenografija: Kajetan Čop in Alice Čop\nKostumografija: Noemi Čop\nOblikovanje luči: Davorin Štorgelj\nProducent: Festival Velenje 2020 \nNoemi Čop in Tajda Podvratnik \n\nPovezava do originalnega članka
URL:https://kultura.maribor.si/dogodek/o-majhni-anici-2022-12-17-17-00-00-2022-12-17-00-00-00/
LOCATION:Maribor center / Vilinski oder\, Vetrinjski dvor (Vetrinjska ulica 30\, Maribor)
CATEGORIES:Dogodki,Gledališče
ATTACH;FMTTYPE=image/jpeg:https://kultura.maribor.si/wp-content/uploads/2022/11/o-majhni-anici-1-b-jpg.jpg
END:VEVENT
BEGIN:VEVENT
DTSTART;TZID=Europe/Paris:20221216T190000
DTEND;TZID=Europe/Paris:20221216T190000
DTSTAMP:20260423T153052
CREATED:20221129T065700Z
LAST-MODIFIED:20221212T072530Z
UID:28841-1671217200-1671217200@kultura.maribor.si
SUMMARY:Ariel Vei Atanasovski\, Tina Sovič in Urška Gajšt
DESCRIPTION:Koncert. \nTradicija je v vseh nas. \nSlovenske in afriške tradicionalne skladbe\, kot jih sliši trio Mala Afrika\, ki je tako ali drugače povezan s slovenskim in afriškim izročilom. Štajerske čudovite zvezde\, ki svetijo zelo močno in nas vedno presenetijo z nečim še bolj žarečim\, so Ariel Vei Atanasovski\, Tina Sovič in Urška Gajšt. \nAriel Vei Atanasovski – kitara\, violončelo\, vokal\, Tina Sovič – afriška tolkala\, Urška Gajšt – vokal\, harmonika\, Plesna izba Maribor \n\nPovezava do originalnega članka
URL:https://kultura.maribor.si/dogodek/ariel-vei-atanasovski-tina-sovic-in-urska-gajst-2022-12-16-19-00-00-2022-12-16-00-00-00/
LOCATION:Maribor center / Vilinski oder\, Vetrinjski dvor (Vetrinjska ulica 30\, Maribor)
CATEGORIES:Dogodki,Glasba
ATTACH;FMTTYPE=image/jpeg:https://kultura.maribor.si/wp-content/uploads/2022/11/ariel-vei-atanasovski-tina-sovic-in-urska-gajst-b-jpg.jpg
END:VEVENT
BEGIN:VEVENT
DTSTART;TZID=Europe/Paris:20221214T170000
DTEND;TZID=Europe/Paris:20221214T170000
DTSTAMP:20260423T153052
CREATED:20221128T192907Z
LAST-MODIFIED:20221206T121434Z
UID:28791-1671037200-1671037200@kultura.maribor.si
SUMMARY:Za dober finiš: Mladi & dobra glasba
DESCRIPTION:Šolska kulturna produkcija\, koncert. \nOb koncu leta bodo učenci KUDA Coda uglasili inštrumente\, upeli glasove in z vsem pogumom ter znanjem\, ki so ga pridobili\, stopili na oder Vilinskega mesta. Pridružite se nam\, jih podprite ter z obiskom in aplavzom motivirajte za nove glasbene podvige v prihajajočem letu. Tekom pestrega glasbenega večera za vse glasbene okuse boste lahko spoznali najmlajše soliste\, mladeniče in mladenke v skupinskih zasedbah in izkušeno mentorsko ekipo\, ki že sedemnajst let skrbi\, da glasba pri KUD Coda ne pozna meja. \nKud Coda skrbi za izobraževanje\, rast in kreativno izražanje štajerske mladine. Glasbena šola neprestano širi okvire individualnega poučevanja inštrumentov\, med drugimi tudi z zborovskim petjem\, kreativnim ustvarjanjem glasbe in delovanjem na socialnem področju. \nKUD Coda \n\nPovezava do originalnega članka
URL:https://kultura.maribor.si/dogodek/za-dober-finis-mladi-dobra-glasba-2022-12-14-17-00-00-2022-12-14-00-00-00/
LOCATION:Maribor center / Vilinski oder\, Vetrinjski dvor (Vetrinjska ulica 30\, Maribor)
CATEGORIES:Dogodki,Glasba
ATTACH;FMTTYPE=image/jpeg:https://kultura.maribor.si/wp-content/uploads/2022/11/za-dober-finis-2-b-jpg.jpg
END:VEVENT
BEGIN:VEVENT
DTSTART;TZID=Europe/Paris:20221210T203000
DTEND;TZID=Europe/Paris:20221210T203000
DTSTAMP:20260423T153052
CREATED:20221128T185451Z
LAST-MODIFIED:20221205T100343Z
UID:28756-1670704200-1670704200@kultura.maribor.si
SUMMARY:Vilinska Lacha: Hauptman -  za Darwina z Lomboka
DESCRIPTION:Dobrodelni koncert. \nHauptman vabi na dobrodelni koncert za Darwina z Lomboka\, ki je nedolgo nazaj v potresu izgubil očeta in streho nad glavo. Sedaj živi sam na plaži\, njegovo preživetje pa je odvisno od turistov\, ki jih tam ni prav veliko. \nNamesto vstopnine zbiramo prostovoljne prispevke\, ki bodo v celoti namenjeni Darwinu in njegovi mami. \n\nPovezava do originalnega članka
URL:https://kultura.maribor.si/dogodek/vilinska-lacha-hauptman-za-darwina-z-lomboka-2022-12-10-20-30-00-2022-12-10-00-00-00/
LOCATION:Maribor center / Vilinski oder\, Vetrinjski dvor (Vetrinjska ulica 30\, Maribor)
CATEGORIES:Dogodki,Glasba
ATTACH;FMTTYPE=image/jpeg:https://kultura.maribor.si/wp-content/uploads/2022/11/hauptman2-b-jpg.jpg
END:VEVENT
BEGIN:VEVENT
DTSTART;TZID=Europe/Paris:20221210T170000
DTEND;TZID=Europe/Paris:20221210T170000
DTSTAMP:20260423T153052
CREATED:20221128T185449Z
LAST-MODIFIED:20221205T100228Z
UID:28754-1670691600-1670691600@kultura.maribor.si
SUMMARY:PU
DESCRIPTION:Predstava za otroke\, 3 + \nPu je predstava o medvedku\, tistem\, ki živi v stoletni hosti in ima najraje na svetu med. No\, in seveda svoje prijatelje\, pujska\, zajca in osla. Skupaj rešujejo uganke\, kot so: kako preslepiti roj čebel\, kako zvabiti v past slona\, kako pogostiti zmerom lačnega medvedka in katero darilo lahko razvedri velikega žalostnega osla? \nMedvedek Pu in njegova druščina so že vse od leta 1926 eni najbolj znanih in priljubljenih otroških junakov\, ki navdušujejo ter navdihujejo s svojimi dogodivščinami\, zabavnimi dialogi in sprejemanjem drug drugega. \nLutkovno gledališče Pupilla deluje na dvojezičnem področju Lendave in pri svojem ustvarjanju izkorišča čim več možnosti\, ki jih ponuja lutkovno gledališče. Prednost daje predstavam\, iz katerih se otroci na neprisiljen način lahko veliko naučijo\, razvijajo domišljijo ter doživijo veliko prijetnih trenutkov. \nPetra Kavaš\, Vitomir Vratarič\, Lutkovno gledališče Pupilla \n\nPovezava do originalnega članka
URL:https://kultura.maribor.si/dogodek/pu-2022-12-10-17-00-00-2022-12-10-00-00-00/
LOCATION:Maribor center / Vilinski oder\, Vetrinjski dvor (Vetrinjska ulica 30\, Maribor)
CATEGORIES:Dogodki,Gledališče
ATTACH;FMTTYPE=image/jpeg:https://kultura.maribor.si/wp-content/uploads/2022/11/pu-2-b-jpg.jpg
END:VEVENT
BEGIN:VEVENT
DTSTART;TZID=Europe/Paris:20221209T190000
DTEND;TZID=Europe/Paris:20221209T190000
DTSTAMP:20260423T153052
CREATED:20221128T185442Z
LAST-MODIFIED:20221205T095928Z
UID:28745-1670612400-1670612400@kultura.maribor.si
SUMMARY:AKA Neomi
DESCRIPTION:Koncert. \n“Živimo lahko na dva načina. Lahko se pretvarjamo\, kot da ni nič čudežno. Lahko pa imamo vse za čudež.” Albert Einstein \nZvok AKA Neomi premišljeno vijuga in se razvija med indie popom in trip hopom\, med akustično balado in psihedeličnim noise zvokom\, zadnje čase pa se spogleduje tudi z disko popom. In ker vilinke in vilinci radi poskakujemo ter plešemo\, so izvrstna glasbena izbira za petkov večer. \nSaši in Mariu\, ki sestavljata ustvarjalno jedro skupine\, je pomembno\, da se človek ob poslušanju novih stvaritev tudi nasmeji; tako se lažje znajde v teh čudnih časih\, ki jih živimo. \nAKA Neomi vsebuje nepogrešljivo noto predanosti\, ki se najbolj zrcali v inštrumentalno pestrih in dovršenih melodijah\, poetiki ter zvočno-lirični navezi Saše Vipotnik in Maria Babojelića\, ki v vsej svoji glasbeni razsežnosti ohranja prepoznavno pevsko nežnost in spremljajočo se melodijo srca\, razuma in duha. \nAKA Neomi so: Saša Vipotnik – pevka\, avtorica besedil in pesmi\, Mario Babojelić – kitarist\, avtor aranžmajev\, Dejan Slak – basist in klaviaturist\, Igor Matković – trobentač in Marko Grubar – bobnar \n\nPovezava do originalnega članka
URL:https://kultura.maribor.si/dogodek/aka-neomi-2022-12-09-19-00-00-2022-12-09-00-00-00/
LOCATION:Maribor center / Vilinski oder\, Vetrinjski dvor (Vetrinjska ulica 30\, Maribor)
CATEGORIES:Dogodki,Glasba
ATTACH;FMTTYPE=image/jpeg:https://kultura.maribor.si/wp-content/uploads/2022/11/aka-neomi-2jpg-b-jpg.jpg
END:VEVENT
END:VCALENDAR