BEGIN:VCALENDAR
VERSION:2.0
PRODID:-//Kultura Maribor - ECPv6.2.8.1//NONSGML v1.0//EN
CALSCALE:GREGORIAN
METHOD:PUBLISH
X-ORIGINAL-URL:https://kultura.maribor.si
X-WR-CALDESC:Events for Kultura Maribor
REFRESH-INTERVAL;VALUE=DURATION:PT1H
X-Robots-Tag:noindex
X-PUBLISHED-TTL:PT1H
BEGIN:VTIMEZONE
TZID:Europe/Paris
BEGIN:DAYLIGHT
TZOFFSETFROM:+0100
TZOFFSETTO:+0200
TZNAME:CEST
DTSTART:20240331T010000
END:DAYLIGHT
BEGIN:STANDARD
TZOFFSETFROM:+0200
TZOFFSETTO:+0100
TZNAME:CET
DTSTART:20241027T010000
END:STANDARD
BEGIN:DAYLIGHT
TZOFFSETFROM:+0100
TZOFFSETTO:+0200
TZNAME:CEST
DTSTART:20250330T010000
END:DAYLIGHT
BEGIN:STANDARD
TZOFFSETFROM:+0200
TZOFFSETTO:+0100
TZNAME:CET
DTSTART:20251026T010000
END:STANDARD
END:VTIMEZONE
BEGIN:VEVENT
DTSTART;TZID=Europe/Paris:20251229T190000
DTEND;TZID=Europe/Paris:20251229T200000
DTSTAMP:20260424T043726
CREATED:20251118T020352Z
LAST-MODIFIED:20251118T121715Z
UID:106557-1767034800-1767038400@kultura.maribor.si
SUMMARY:Ana Mrzla Mariborska: Vaš cirkus\, naš cirkus
DESCRIPTION:Klovnada in cirkus\, 3+ \nKlovn in žongler. Prvi žanje smeh\, drugi osuplost. Oba uveljavljena artista\, ki s svojim spretnostmi navdušujeta po vsem svetu. Ko svoje moči združita takšna mojstra\, kot sta Camilo Acosta Mendoza in Jakob Bergant\, nastane predstava\, kakršne še niste videli\, četudi ste redni obiskovalec cirkuških predstav. \nIn kar je najbolje – v tej lahko celo sodelujete! \n\nPovezava do originalnega članka
URL:https://kultura.maribor.si/dogodek/ana-mrzla-mariborska-vas-cirkus-nas-cirkus-2025-12-29-19-00-00-2025-12-29-20-00-00-2/
LOCATION:Maribor center / Trg svobode
CATEGORIES:Dogodki,Kulturno-umetnostna vzgoja
ATTACH;FMTTYPE=image/jpeg:https://kultura.maribor.si/wp-content/uploads/2025/11/vas-cirkus-nas-cirkus-f-luka-dakskobler-za-ana-monro1-1-jpg-20251117030007.jpg
END:VEVENT
BEGIN:VEVENT
DTSTART;TZID=Europe/Paris:20251227T190000
DTEND;TZID=Europe/Paris:20251227T200000
DTSTAMP:20260424T043726
CREATED:20251118T020632Z
LAST-MODIFIED:20251118T120826Z
UID:106631-1766862000-1766865600@kultura.maribor.si
SUMMARY:Ana Mrzla Mariborska: Influx
DESCRIPTION:Luči\, akrobacija in svetlobni učinki\, 5+ \nKo bliskanje preraste v mogočno silo\, se pred našimi očmi razpre celo vesolje\, polno avdio-vizualnih iluzij\, osupljivih posebnih učinkov pa tudi čudovitega humorja. Predstava\, ki preseže meje tradicionalne svetlobne predstave in ponudi poglobljeno\, malone kinematografsko doživetje. \n\nPovezava do originalnega članka
URL:https://kultura.maribor.si/dogodek/ana-mrzla-mariborska-influx-2025-12-27-19-00-00-2025-12-27-20-00-00/
LOCATION:Maribor center / Trg svobode
CATEGORIES:Dogodki,Gledališče,Kulturno-umetnostna vzgoja
ATTACH;FMTTYPE=image/jpeg:https://kultura.maribor.si/wp-content/uploads/2025/11/influx-kolin301-jpg-20251117030010.jpg
END:VEVENT
BEGIN:VEVENT
DTSTART;TZID=Europe/Paris:20251226T190000
DTEND;TZID=Europe/Paris:20251226T200000
DTSTAMP:20260424T043726
CREATED:20251118T021027Z
LAST-MODIFIED:20251118T101742Z
UID:106733-1766775600-1766779200@kultura.maribor.si
SUMMARY:Ana Mrzla Mariborska: Zrak in ogenj
DESCRIPTION:Zračne akrobacije in ogenj\, 5+ \nOgenj in zrak\, plamen in ples. Stopite v svet\, kjer se v vrtincu svilenih trakov in ognjenih obročev izpisuje zgodba dveh elementov. Kot ples ne more brez giba\, plamen ne more brez zraka. \nNaj zažarijo plameni\, naj se zavrtijo telesa\, naj iskre in plesalci poletijo visoko v nebo! \n\nPovezava do originalnega članka
URL:https://kultura.maribor.si/dogodek/ana-mrzla-mariborska-zrak-in-ogenj-2025-12-26-19-00-00-2025-12-26-20-00-00/
LOCATION:Maribor center / Trg svobode
CATEGORIES:Dogodki,Gledališče,Kulturno-umetnostna vzgoja
ATTACH;FMTTYPE=image/jpeg:https://kultura.maribor.si/wp-content/uploads/2025/11/air-flame-3-jpg-20251117030015.jpg
END:VEVENT
BEGIN:VEVENT
DTSTART;TZID=Europe/Paris:20251104T000000
DTEND;TZID=Europe/Paris:20251111T000000
DTSTAMP:20260424T043726
CREATED:20251106T020237Z
LAST-MODIFIED:20251106T130850Z
UID:105185-1762214400-1762819200@kultura.maribor.si
SUMMARY:Razstava Štajersko novo leto
DESCRIPTION:Vid Kmetič in Rok Kajzer: Hudomušno in veselo martinovanje \nMariboru\, kot najbrž že veste\, novo leto praznujemo dvakrat. Drugič 31. decembra\, prvič pa\, menda še bolj množično kot zadnji dan leta\, 11. novembra\, ko se (z)godi tisto pravo “štajersko novo leto” oziroma martinovanje. Tokrat že štirideseto. Ob tej priložnosti sta Zavod za turizem Maribor in Društvo Trafika pripravila hudomušen pregled martinovanj\, ki je na ogled na Trgu svobode\, kjer je bilo organizirano prvo množično praznovanje dneva\, ko naj bi po ljudskem prepričanju sveti Martin iz mošta naredil vino. \nNjen naslov je seveda Štajersko novo leto\, zavod in društvo pa z razstavo izpostavljata vzdušje\, obiskovalce\, ki se vsako leto ob krstu mošta in nato ob vinu ter glasbi veselijo nove letine skrbno pridelane kapljice vinarjev\, ki jo ponujajo na stojnicah v središču Maribora. \nAvtorja razstave Rok Kajzer in Vid Kmetič sta iz zakladnice fotografij izbrala dvajset fotografij\, ki so jih v minulih letih na Trgu svobode\, Glavnem trgu\, Trgu Leona Štuklja in na Koroški cesti posneli fotoreporterji Večera Sašo Bizjak\, Igor Napast\, Janko Rath in Boris Vugrinec. Fotografije so pospremljene s hudomušnimi\, zabavnimi naslovi. \n“Prav takšno je tudi martinovanje\, vsakokrat veselo\, a zmeraj nekoliko drugačno\,” še dodajata avtorja razstave in vabita k ogledu razstave na Trgu svobode. \n\nPovezava do originalnega članka
URL:https://kultura.maribor.si/dogodek/razstava-stajersko-novo-leto-2025-11-04-00-00-00-2025-11-11-00-00-00-2/
LOCATION:Maribor center / Trg svobode
CATEGORIES:Dogodki,Razstave
ATTACH;FMTTYPE=image/jpeg:https://kultura.maribor.si/wp-content/uploads/2025/11/razstava-razstava-stajersko-novo-leto-1.jpg
END:VEVENT
BEGIN:VEVENT
DTSTART;TZID=Europe/Paris:20251006T090000
DTEND;TZID=Europe/Paris:20251010T120000
DTSTAMP:20260424T043726
CREATED:20251004T020153Z
LAST-MODIFIED:20251006T105249Z
UID:102144-1759741200-1760097600@kultura.maribor.si
SUMMARY:Teden otroka
DESCRIPTION:Letošnji Teden otroka® nosi sporočilo: »𝑷𝒓𝒊𝒋𝒂𝒛𝒏𝒐𝒔𝒕 𝒕𝒊 𝒃𝒐 𝒌𝒓𝒊𝒍𝒂 𝒅𝒂𝒍𝒂 – 𝒗𝒆𝒅𝒏𝒐 𝒓𝒆𝒄𝒊 𝒑𝒓𝒐𝒔𝒊𝒎 𝒊𝒏 𝒉𝒗𝒂𝒍𝒂.« Na Trgu svobode bomo vsak dopoldan ustvarjali\, se igrali\, uživali v gledaliških predstavah in mnogo več. \nOd ponedeljka do petka \n\n9.00–12.00 – USTVARJALNE DELAVNICE\n9.00–12.00 – DELAVNICA – TEKSTIL TAKO IN DRUGAČE\n9.00–12.00 – RAZSTAVA “HVALA\, KER…”\n9.00–12.00 – KAMENČKI ZA MIR Otroci bodo na kamenčke zapisali ali narisali sporočila o miru\, sočutju in prijateljstvu\, ki bodo krasila skupno razstavo.\n9.00–12.00 – IGRE XXL Velike družabne igre za male in velike – ”Štrbunk”\, ”Kdo ulovi največjo ribo?”\, ”Nagajivi obročki”\, hodulje in še marsikaj.\n9.00 do 12.00 – PREDSTAVITVE NEVLADNIH ORGANIZACIJ\n\nPonedeljek\, 7. 10. \n\n10.00–12.00 – BRALNI MARATON Začetek nove sezone branja za Prežihovo bralno značko. Otroci berejo lastne pesmi in pesmi drugih avtorjev na temo »Otrok\, nepopisan list«.\n\nOd torka do petka \n\n10.00 – igrane predstave za otroke\n\nSreda\, 9. 10. \n\n9.00–18.00 – RAZSTAVA GOB\n9.00 – 13.00 Dan prometne varnosti\n16.00 – 18.00 Nastop Otroške folklorne skupine Študent Maribor in zaključek akcije “Kolesarim za otroške sanje”.\n\n\nPovezava do originalnega članka
URL:https://kultura.maribor.si/dogodek/teden-otroka-2025-10-06-09-00-00-2025-10-10-12-00-00-2/
LOCATION:Maribor center / Trg svobode
CATEGORIES:Delavnice,Dogodki,Kulturno-umetnostna vzgoja
ATTACH;FMTTYPE=image/jpeg:https://kultura.maribor.si/wp-content/uploads/2025/10/9cc26c9e-16b2-484a-af59-ce9b149cd762.jpg
END:VEVENT
BEGIN:VEVENT
DTSTART;TZID=Europe/Paris:20250304T000000
DTEND;TZID=Europe/Paris:20250304T000000
DTSTAMP:20260424T043726
CREATED:20250213T020137Z
LAST-MODIFIED:20250224T072447Z
UID:84057-1741046400-1741046400@kultura.maribor.si
SUMMARY:ZePeeMovo 66. pustovanje
DESCRIPTION:Pustno rajanje v Mariboru za majhe in velike \nPustni čas je tu in z njim tudi norčavo rajanje\, polno veselja\, plesa in pustnih norčij! 🥳 \nDOPOLDANSKO OTROŠKO RAJANJE (9:30 – 11:30) \nNajmlajše pustne šeme vabimo na čarobno dopoldne\, kjer bomo skupaj zakorakali v pustno pravljico. Klovnesa Tinka Šminka nas bo popeljala na cirkuško pustno potepanje skozi pravljične dežele\, kjer nas čakajo ples\, zabava in pustne vragolije! Skupaj bomo zarajali s kurenti Korant kluba Spomin in drugimi pisanimi maskami. \nVse pustne skupine iz vrtcev in šol vabimo\, da se prijavijo na tekmovanje skupinskih mask in se potegujejo za pustne nagrade! \nPOPOLDANSKO PUSTOVANJE (15:30 – 18:30) \nPustni duh se popoldne razširi po mestu! Vse maske – male\, velike in najpogumnejše – vabimo\, da s plesom in rajanjem preženemo zimo ter pozdravimo pomlad. Skozi val smeha in dobre volje nas bo vodil DJ Horvat\, na pustnem odru pa bomo zaplesali z našimi ZPM-jevčki\, Akademsko folklorno skupino Študent in Etnografskim društvom Kurent Maribor. Dogajanje bosta s pustno energijo povezovala ZPM-jevska cvetka in vrtnarček! 🌼🌿 \nNajpogumnejše maske\, ki se bodo predstavile na odru\, bodo nagrajene s slastnimi pustnimi krofi\, najbolj kreativne in izvirne pa bo strokovna komisija posebej nagradila! \nTudi ustvarjalne delavnice in poslikava obraza ne bosta manjkali! \n\nPovezava do originalnega članka
URL:https://kultura.maribor.si/dogodek/zepeemovo-66-pustovanje-2025-03-04-00-00-00-2025-03-04-00-00-00-2/
LOCATION:Maribor center / Trg svobode
CATEGORIES:Dogodki,Kulturno-umetnostna vzgoja
ATTACH;FMTTYPE=image/jpeg:https://kultura.maribor.si/wp-content/uploads/2025/02/zpm-pust-visit-maribor-pohorje-slovenia2.jpg
END:VEVENT
BEGIN:VEVENT
DTSTART;TZID=Europe/Paris:20241019T100000
DTEND;TZID=Europe/Paris:20241019T140000
DTSTAMP:20260424T043726
CREATED:20241003T125231Z
LAST-MODIFIED:20241007T120345Z
UID:77748-1729332000-1729346400@kultura.maribor.si
SUMMARY:Dobrodelno kuhanje v kotličkih
DESCRIPTION:Dobrodelno kuhanje v kotličkih \nV soboto\, 19. oktobra\, od 10.00 do 14.00 bo Rotary klub Maribor Lent\, na Trgu svobode v Mariboru\, organiziral kuhanje v kotličkih. \nZa prostovoljne prispevke bodo ponujali odlične jedi na žlico. Zbrane prispevke bodo namenili dvema osnovnima šolama za nakup folklornih oblačil. \nPreživite prijetno in okusno dopoldne v družbi amaterskih\, a odličnih kuharjev jedi na žlico. \n\nPovezava do originalnega članka
URL:https://kultura.maribor.si/dogodek/dobrodelno-kuhanje-v-kotlickih-2024-10-19-10-00-00-2024-10-19-14-00-00/
LOCATION:Maribor center / Trg svobode
CATEGORIES:Dogodki
ATTACH;FMTTYPE=image/jpeg:https://kultura.maribor.si/wp-content/uploads/2024/10/8ef026fa-d054-4833-a8b5-5e4b3482e39e.jpg
END:VEVENT
END:VCALENDAR