BEGIN:VCALENDAR
VERSION:2.0
PRODID:-//Kultura Maribor - ECPv6.2.8.1//NONSGML v1.0//EN
CALSCALE:GREGORIAN
METHOD:PUBLISH
X-WR-CALNAME:Kultura Maribor
X-ORIGINAL-URL:https://kultura.maribor.si
X-WR-CALDESC:Events for Kultura Maribor
REFRESH-INTERVAL;VALUE=DURATION:PT1H
X-Robots-Tag:noindex
X-PUBLISHED-TTL:PT1H
BEGIN:VTIMEZONE
TZID:Europe/Paris
BEGIN:DAYLIGHT
TZOFFSETFROM:+0100
TZOFFSETTO:+0200
TZNAME:CEST
DTSTART:20230326T010000
END:DAYLIGHT
BEGIN:STANDARD
TZOFFSETFROM:+0200
TZOFFSETTO:+0100
TZNAME:CET
DTSTART:20231029T010000
END:STANDARD
BEGIN:DAYLIGHT
TZOFFSETFROM:+0100
TZOFFSETTO:+0200
TZNAME:CEST
DTSTART:20240331T010000
END:DAYLIGHT
BEGIN:STANDARD
TZOFFSETFROM:+0200
TZOFFSETTO:+0100
TZNAME:CET
DTSTART:20241027T010000
END:STANDARD
END:VTIMEZONE
BEGIN:VEVENT
DTSTART;TZID=Europe/Paris:20240829T110000
DTEND;TZID=Europe/Paris:20240831T220000
DTSTAMP:20260425T013749
CREATED:20240111T134240Z
LAST-MODIFIED:20240819T061041Z
UID:68077-1724929200-1725141600@kultura.maribor.si
SUMMARY:Street Food Market Maribor
DESCRIPTION:Dobrote iz “food truckov” \nKo Trg Leona Štuklja postane prizorišče mednarodne ulične prehrambene scene. \nKaravana ulične hrane se bo ponovno ustavila v Mariboru in vas razvajala z dobrotami v okviru turneje Street Food Market Austria in Street Food Market Slovenija. \nZdaj že tradicionalno zadnji vikend v avgustu bo na največjem slovenskem trgu več kot 40 ponudnikov predstavilo svoje dobrote svetovne kuhinje iz svojih predelanih vozil – “food truckov”. \nVabljeni na kulinarično razvajanje\, ko bo Trg Leona Štuklja postal mednarodno prizorišče ulične prehrambene scene. \nNaj bo uživanje ob hrani pravo družabno doživetje!  \nMednarodni in domači mojstri ulične hrane prihajajo v Maribor in se bodo na Trgu Leona Štuklja ustavili konec avgusta 2024. Od 29. – 31. avgusta vas bodo pred vašimi očmi razvajali z dobrotami v okviru turneje Street food market Slovenija. \nVabljeni na kulinarično razvajanje\, ko bo Trg Leona Štuklja postal mednarodno prizorišče ulične kulinarične scene.\nPripravljamo pestro ponudbo ulične hrane\, glasbeni spremljevalni program ter aktivnosti za male in velike. \nVstop prost!\nNaj bo uživanje ob hrani pravo družabno doživetje! \n\nPovezava do originalnega članka
URL:https://kultura.maribor.si/dogodek/street-food-market-maribor-2024-08-29-11-00-00-2024-08-31-22-00-00/
LOCATION:Maribor center / The Leon Štukelj square
CATEGORIES:Dogodki,Festivali
ATTACH;FMTTYPE=image/jpeg:https://kultura.maribor.si/wp-content/uploads/2024/01/street-food-market-maribor-1.jpeg
END:VEVENT
BEGIN:VEVENT
DTSTART;TZID=Europe/Paris:20230824T000000
DTEND;TZID=Europe/Paris:20230826T000000
DTSTAMP:20260425T013749
CREATED:20230118T074210Z
LAST-MODIFIED:20230808T101950Z
UID:31183-1692835200-1693008000@kultura.maribor.si
SUMMARY:Street Food Market Maribor
DESCRIPTION:Dobrote iz “food truckov” \nKo Trg Leona Štuklja postane prizorišče mednarodne ulične prehrambene scene. \nKaravana ulične hrane se bo ponovno ustavila v Mariboru in vas razvajala z dobrotami v okviru turneje Street Food Market Austria in Street Food Market Slovenija. \nZdaj že tradicionalno zadnji vikend v avgustu bo na največjem slovenskem trgu več kot 40 ponudnikov predstavilo svoje dobrote svetovne kuhinje iz svojih predelanih vozil – “food truckov”. \nVabljeni na kulinarično razvajanje\, ko bo Trg Leona Štuklja postal mednarodno prizorišče ulične prehrambene scene. \nNaj bo uživanje ob hrani pravo družabno doživetje! \n\n  \nPovezava do originalnega članka
URL:https://kultura.maribor.si/dogodek/street-food-market-maribor-2023-08-24-00-00-00-2023-08-26-00-00-00/
LOCATION:Maribor center / The Leon Štukelj square
CATEGORIES:Dogodki,Glasba
ATTACH;FMTTYPE=image/jpeg:https://kultura.maribor.si/wp-content/uploads/2023/01/street-food-market-maribor-2017.jpg
END:VEVENT
END:VCALENDAR