BEGIN:VCALENDAR
VERSION:2.0
PRODID:-//Kultura Maribor - ECPv6.2.8.1//NONSGML v1.0//EN
CALSCALE:GREGORIAN
METHOD:PUBLISH
X-ORIGINAL-URL:https://kultura.maribor.si
X-WR-CALDESC:Events for Kultura Maribor
REFRESH-INTERVAL;VALUE=DURATION:PT1H
X-Robots-Tag:noindex
X-PUBLISHED-TTL:PT1H
BEGIN:VTIMEZONE
TZID:Europe/Paris
BEGIN:DAYLIGHT
TZOFFSETFROM:+0100
TZOFFSETTO:+0200
TZNAME:CEST
DTSTART:20220327T010000
END:DAYLIGHT
BEGIN:STANDARD
TZOFFSETFROM:+0200
TZOFFSETTO:+0100
TZNAME:CET
DTSTART:20221030T010000
END:STANDARD
BEGIN:DAYLIGHT
TZOFFSETFROM:+0100
TZOFFSETTO:+0200
TZNAME:CEST
DTSTART:20230326T010000
END:DAYLIGHT
BEGIN:STANDARD
TZOFFSETFROM:+0200
TZOFFSETTO:+0100
TZNAME:CET
DTSTART:20231029T010000
END:STANDARD
BEGIN:DAYLIGHT
TZOFFSETFROM:+0100
TZOFFSETTO:+0200
TZNAME:CEST
DTSTART:20240331T010000
END:DAYLIGHT
BEGIN:STANDARD
TZOFFSETFROM:+0200
TZOFFSETTO:+0100
TZNAME:CET
DTSTART:20241027T010000
END:STANDARD
END:VTIMEZONE
BEGIN:VEVENT
DTSTART;TZID=Europe/Paris:20240916T170000
DTEND;TZID=Europe/Paris:20241031T170000
DTSTAMP:20260425T005236
CREATED:20240910T093630Z
LAST-MODIFIED:20240910T093631Z
UID:76912-1726506000-1730394000@kultura.maribor.si
SUMMARY:HINKO KRAPEK - ČLOVEK SVOJEGA ČASA
DESCRIPTION:Ponedeljek\, 16. septembra 2024\, ob 17. uri\, preddverje Osrednje knjižnice TPC City\, Ulica Vita Kraigherja 5\, Maribor \nVabimo vas na odprtje razstave in predstavitev monografije o fotografu Hinku Krapku. Na ogled bo prav tako del Krapkovih razglednic iz zbirke Primoža Premzla. Razstava je nastala v soorganizaciji Mestne knjižnice Ivan Goran Kovačič iz Karlovca in Muzejev mesta Karlovec. \nPokrovitelj razstave je Veleposlaništvo Republike Slovenije v Zagrebu\, finančno jo je podprla Karlovška županija. \nFotograf Hinko Krapek se je rodil 27. marca 1841 v mestu Brno na Češkem. \nSvojo fotografsko pot je začel na Dunaju\, kasneje leta 1869 pa je odprl lasten fotografski atelje v Mariboru. Svoje fotografsko delovanje razširi tudi na Hrvaško kjer je nekaj časa ustvarjal v Zagrebu in kasneje predvsem v Karlovcu vse do konca leta 1896. Ukvarjal se je predvsem s portretno fotografijo\, znan pa je tudi po svojem obsežnem opusu fotografij kulturno zgodovinskih spomenikov\, pokrajin in mestnih vedut\, ki imajo veliko zgodovinsko vrednost v smislu dokumentiranja kulturne in zgodovinske dediščine. \nHinko Krapek je bil tudi prvi promotor turizma na območju Plitviških jezer. Zaslovel pa je tudi s svojim ogromnim opusom razglednic iz Slovenije kot tudi Hrvaške\, kjer velja za enega izmed pionirjev izdajanja razglednic.
URL:https://kultura.maribor.si/dogodek/hinko-krapek-clovek-svojega-casa/
LOCATION:Maribor center / TC City Maribor\, Mariborska knjižnica (Ulica Vita Kraigherja 5\, Maribor)
CATEGORIES:Dogodki,Literatura,Razstave
ATTACH;FMTTYPE=image/jpeg:https://kultura.maribor.si/wp-content/uploads/2024/09/e-vabilo-hinko-krapek-mbk.b2e48d0f068cb62ab899646cc57e5757.jpg
END:VEVENT
BEGIN:VEVENT
DTSTART;TZID=Europe/Paris:20240131T180000
DTEND;TZID=Europe/Paris:20240131T180000
DTSTAMP:20260425T005236
CREATED:20240116T102848Z
LAST-MODIFIED:20240117T120315Z
UID:68237-1706724000-1706724000@kultura.maribor.si
SUMMARY:Filozofija med knjigami: Dr. Luka Trebežnik
DESCRIPTION:V pogovoru se bomo dotaknili zanimivega razmerja med vero in razumom. Hkrati bomo nagovorili sodobni diskurz\, ki poteka v luči potencialne svetovne katastrofe. \nSreda\, 31. januarja\, ob 18. uri v Sodnem stolpu\, Pristan 8\, Maribor \nDelo Svetloba na obzorju\, ki je lani izšlo pri Založbi Apokalipsa\, nas reflektirajoče popelje skozi miselni tok štirih klasičnih mislecev: Fjodorja Mihajloviča Dostojevskega\, Sørena Kierkegaarda\, Maxa Webra in Güntherja Andersa. V pogovoru se bomo dotaknili zanimivega razmerja med vero in razumom. Hkrati bomo nagovorili sodobni diskurz\, ki poteka v luči potencialne svetovne katastrofe. Preizpraševali bomo\, v kakšnem razmerju so v zahodnem svetu kapitalizem\, tehnoznanost in krščanstvo. \nZ avtorjem monografije dr. Luko Trebežnikom se bo pogovarjal mag. Igor Černe. \nPovezava do originalnega članka
URL:https://kultura.maribor.si/dogodek/filozofija-med-knjigami-dr-luka-trebeznik-2024-01-31-18-00-00-2024-01-31-19-30-00/
LOCATION:Maribor center / TC City Maribor\, Mariborska knjižnica (Ulica Vita Kraigherja 5\, Maribor)
CATEGORIES:Literatura
ATTACH;FMTTYPE=image/jpeg:https://kultura.maribor.si/wp-content/uploads/2024/01/5ebae7b2-e2a0-4ce3-b817-04cae4eff694-1.jpg
END:VEVENT
BEGIN:VEVENT
DTSTART;TZID=Europe/Paris:20230414T130000
DTEND;TZID=Europe/Paris:20230414T163000
DTSTAMP:20260425T005236
CREATED:20230405T114200Z
LAST-MODIFIED:20230405T114200Z
UID:35090-1681477200-1681489800@kultura.maribor.si
SUMMARY:Slavnostna predaja knjig v ukrajinskem jeziku
DESCRIPTION:Mariborska knjižnica\, Veleposlaništvo Ukrajine v Republiki Sloveniji in Mestna občina Maribor vabijo na slavnostno predajo knjig v ukrajinskem jeziku. \nV petek\, 14. aprila 2023\, ob 13. uri prisrčno vabljeni v Pionirsko knjižnico TPC City\, Ulica Vita Kraigherja 5\, Maribor \nMariborska knjižnica je svojo zbirko obogatila z zbirko knjig v ukrajinskem jeziku\, ki so dar Veleposlaništva Ukrajine v Republiki Sloveniji. Zbirko bo Mariborski knjižnici v uporabo slavnostno predal nj. eks. Andrii Taran\, veleposlanik Ukrajine v RS\, ob prisotnosti Aleksandra Saše Arsenoviča\, župana Mestne občine Maribor in Klemna Brvarja\, direktorja Mariborske knjižnice. \nSlavnostni dogodek bodo s kratkim kulturnim programom pospremili učenci OŠ bratov Polančičev in Robert Kereži\, pripovedovalec Mariborske knjižnice. \nZbirka 214 knjig v ukrajinskem jeziku je namenjena predvsem mladim bralcem in je na voljo v Pionirski knjižnici TPC City\, Osrednji knjižnici TPC City\, Pionirski knjižnici Nova vas in Knjižnici Pobrežje.
URL:https://kultura.maribor.si/dogodek/slavnostna-predaja-knjig-v-ukrajinskem-jeziku/
LOCATION:Maribor center / TC City Maribor\, Mariborska knjižnica (Ulica Vita Kraigherja 5\, Maribor)
CATEGORIES:Dogodki,Literatura
ATTACH;FMTTYPE=image/jpeg:https://kultura.maribor.si/wp-content/uploads/2023/04/ukrajinske-knjige-predaja-april23.jpg
END:VEVENT
BEGIN:VEVENT
DTSTART;TZID=Europe/Paris:20220125T000000
DTEND;TZID=Europe/Paris:20220228T000000
DTSTAMP:20260425T005236
CREATED:20220224T133731Z
LAST-MODIFIED:20220225T082733Z
UID:18203-1643068800-1646006400@kultura.maribor.si
SUMMARY:Razstava "Zvezde brez nebes"
DESCRIPTION:Otroci v času holokavsta. Dokumentarna razstava. \nOtvoritev: 25. januar 2022\, ob 18. uri – virtualnega vodenja po razstavi. \nObiščite nas lahko: \n\nponedeljek-petek: 9.00-16.00\nsobota: 8.00-13.00\n\nV času holokavsta (1933–1945) so evropske judovske skupnosti prestajale krute pretrese\, doživljale strahotne socialne in družinske zlome. \nOtrokom\, ki so živeli v teh okoliščinah\, se je v prvi vrsti porušila dnevna rutina\, ki so je bili vajeni\, mnogi med njimi so bili tako rekoč čez noč prisiljeni »odrasti«. Kljub grozljivim okoliščinam in življenjskim razmeram\, v katere so bili pahnjeni\, pa so se vseeno predajali domišljijski igri\, risali in pisali\, izražali upanje\, sanje in strahove. Razstava z izborom risb\, pesmi\, pisem in igrač teh otrok ponuja ganljiv in navdihujoč vpogled v življenje judovskih otrok med holokavstom\, obenem pa s prikazom optimizma\, ustvarjalnosti in domišljije razkriva njihovo izjemno zmožnost\, da se kljub življenju v neopisljivih okoliščinah oklepajo življenjske sile. Razstavo je pripravil spominski center Yad Vashem\, za slovenski prevod pa je poskrbel Center judovske kulturne dediščine Sinagoga Maribor. \nTa razstava je priredba razstave »Stars Without a Heaven: Children in the Holocaust« kuratorke Yehudit Inbar\, ki je bila postavljena v Yad Vashemu. Razstavo je pripravil Traveling Exhibitions Department\, Museum Division\, Yad Vashem\, za grafično podobo pa je poskrbel Information Technology Division\, Yad Vashem. \nSlovensko različico razstave je ob finančni podpori Mestne občine Maribor leta 2021 pripravil Center judovske kulturne dediščine Sinagoga Maribor\, zanj direktor Boris Hajdinjak (prevajalka Saša Požek\, lektorica Darja Gabrovšek Homšak\, urednica Marjetka Bedrač\, recenzent Boris Hajdinjak). \n\nPovezava do originalnega članka
URL:https://kultura.maribor.si/dogodek/razstava-zvezde-brez-nebes-2022-01-25-00-00-00-2022-02-28-00-00-00/
LOCATION:Maribor center / TC City Maribor\, Mariborska knjižnica (Ulica Vita Kraigherja 5\, Maribor)
CATEGORIES:Dogodki,Razstave
ATTACH;FMTTYPE=image/jpeg:https://kultura.maribor.si/wp-content/uploads/2022/02/razstava_zvezde-brez-nebes_sinagoga-maribor.jpg
END:VEVENT
END:VCALENDAR