BEGIN:VCALENDAR
VERSION:2.0
PRODID:-//Kultura Maribor - ECPv6.2.8.1//NONSGML v1.0//EN
CALSCALE:GREGORIAN
METHOD:PUBLISH
X-ORIGINAL-URL:https://kultura.maribor.si
X-WR-CALDESC:Events for Kultura Maribor
REFRESH-INTERVAL;VALUE=DURATION:PT1H
X-Robots-Tag:noindex
X-PUBLISHED-TTL:PT1H
BEGIN:VTIMEZONE
TZID:Europe/Paris
BEGIN:DAYLIGHT
TZOFFSETFROM:+0100
TZOFFSETTO:+0200
TZNAME:CEST
DTSTART:20220327T010000
END:DAYLIGHT
BEGIN:STANDARD
TZOFFSETFROM:+0200
TZOFFSETTO:+0100
TZNAME:CET
DTSTART:20221030T010000
END:STANDARD
END:VTIMEZONE
BEGIN:VEVENT
DTSTART;TZID=Europe/Paris:20220604T170000
DTEND;TZID=Europe/Paris:20220604T170000
DTSTAMP:20260424T190840
CREATED:20220530T101644Z
LAST-MODIFIED:20220530T115028Z
UID:22880-1654362000-1654362000@kultura.maribor.si
SUMMARY:Maribor - Metropola
DESCRIPTION:O Mariboru in Mariborčanih kroži veliko urbanih legend in klišejev. Nekaj od tega drži\, marsikaj pa je privlečeno za lase\, a zvenijo kljub vsemu dobro – čisto po mariborsko. Sprehod z naslovom Maribor – metropola se dotika prav teh skritih zgodb o mestu in njegovi preteklosti\, tistih\, ki Maribor delajo takšnega kot je. Nekoliko robatega in okrušenega po robovih\, a ga imamo prav zaradi tega še toliko bolj radi. \nLahko bi rekli da ima Maribor vse kar imajo veliki\, morda celo še več\, a na naš\, mariborski način. Prepričani smo\, da boste po koncu sprehoda Maribor – metropola to spoznali tudi vi. \nKdaj: Sobota\, 4. junij 2022 ob 17.00 \nZbirna točka: Trg svobode \nTrajanje: 1\,5 – 2 uri \nSprehajalec: Vid Kmetič \nCena sprehoda je 13€ na osebo. \nNa sprehod se je potrebno prijaviti! \nPrijave zbiramo do petka\, 3. junija do 17.00 na mail info@rajzefiber.si ali telefon +386 590 21519 \nSprehod bo izveden\, če bodo nanj prijavljene minimalno 4 osebe. \n\n\n\n\n\n\nPovezava do originalnega članka
URL:https://kultura.maribor.si/dogodek/maribor-metropola-2022-06-04-17-00-00/
LOCATION:Maribor center / Rajzefiber (Ulica škofa Maksimilijana Držečnika 2\, Maribor)
CATEGORIES:Dogodki
ATTACH;FMTTYPE=image/jpeg:https://kultura.maribor.si/wp-content/uploads/2022/05/Maribor_Metropola_Foto_BoC5A1tjanSelinC5A1ek.jpg
END:VEVENT
BEGIN:VEVENT
DTSTART;TZID=Europe/Paris:20220423T170000
DTEND;TZID=Europe/Paris:20220423T170000
DTSTAMP:20260424T190840
CREATED:20220224T133724Z
LAST-MODIFIED:20220412T074503Z
UID:18201-1650733200-1650733200@kultura.maribor.si
SUMMARY:Protestni sprehod
DESCRIPTION:Na prvi pogled\, morda pa tudi na drugega in tretjega\, deluje Maribor kot zelo umirjeno in zaspano mesto\, a pod to na videz zaspano površino vedno brbota in je na meji da izbruhne\, kot že tolikokrat doslej. Na Protestnem sprehodu se bomo sprehodili prav skozi to zgodovino (pa tudi sedanjost) stavk in protestov\, ko nam je\, tako po mariborsko\, “dvignilo dekl”.\n\n\n\n\n\n\nKer nam je MAR In se BORimo za to mesto. \nKdaj: Sobota\, 23. april 2022 ob 17.00 \nZbirna točka: Trg generala Maistra\, pred občino \nTrajanje: 1 – 1\, 5 ure \nSprehajalec: Vid Kmetič \nCena sprehoda je 13€ na osebo. \nNa sprehod se je potrebno prijaviti! \nPrijave zbiramo do petka\, 22. aprila do 17.00 na mail info@rajzefiber.si ali telefon +386 590 21519 \nSprehod bo izveden\, če bodo nanj prijavljene minimalno 4 osebe.\n \n\n\n\n\nPovezava do originalnega članka
URL:https://kultura.maribor.si/dogodek/protestni-sprehod-2022-04-23-17-00-00/
LOCATION:Maribor center / Rajzefiber (Ulica škofa Maksimilijana Držečnika 2\, Maribor)
CATEGORIES:Dogodki
ATTACH;FMTTYPE=image/jpeg:https://kultura.maribor.si/wp-content/uploads/2022/02/Senzoricna_mestna_dogodivscina_Unuk_52.jpg
END:VEVENT
BEGIN:VEVENT
DTSTART;TZID=Europe/Paris:20220214T180000
DTEND;TZID=Europe/Paris:20220214T180000
DTSTAMP:20260424T190840
CREATED:20220206T152901Z
LAST-MODIFIED:20220211T082313Z
UID:16962-1644861600-1644861600@kultura.maribor.si
SUMMARY:(Ne)tolerančni sprehod
DESCRIPTION:Ponedeljek\, 14.2. ob 18.00\, Rajzefiber \nMed obema vojnama je bila v hiši na Taborski ulici 9 kavarna Drava\, beznica sumljivega slovesa\, ki ni bila nič drugega\, kot nelegalna javna hiša. Kasneje je bila dolga leta zapuščena\, občasno je nudila zavetje le kakšnemu brezdomcu. Ima pa zgodovina včasih tudi nekaj smisla za humor\, saj se je hiša\, kjer se je nekoč prodajala “ljubezen” vdala pod težo let in snega prav na dan zaljubljencev\, 14. februarja 2013. \nNa to “obletnico” in na dan\, ko “slavimo” ljubezen vas bo naša Madam M popeljala v kotičke mesta\, kjer se je nekoč prodajala ljubezen. \nPisal se je 7. marec 1919\, ko so se na Slovenski deželni vladi odločili narediti konec legalno odprtim javnim oziroma tolerančnim hišam\, kot se jim je reklo takrat. In tolerance do prodajanja ljubezni je bilo konec. Seveda pa s to prepovedjo prostitucije na naših tleh ni bilo konec\, le v ilegalo se je preselila. (Ne)tolerančni sprehod vas bo popeljal po mestnih ulicah\, kjer se uradno ni dogajalo nič\, a so vsi “ljubezni” željni prav dobro vedeli\, kam je treba zaviti. Spoznajte kraje ljubezni. \nSprehajalec: Madam M\nTrajanje: 1 ura \nDogodek je brezplačen. Obiskovalci morajo izpolnjevati PCT pogoj ter upoštevamo ostale napotke in ukrepe organizatorjev. Na sprehod pridemo le\, če smo zdravi! \n  \n\n\n\n\n\nPovezava do originalnega članka
URL:https://kultura.maribor.si/dogodek/ne-tolerancni-sprehod-2022-02-14-18-00-00/
LOCATION:Maribor center / Rajzefiber (Ulica škofa Maksimilijana Držečnika 2\, Maribor)
CATEGORIES:Dogodki
ATTACH;FMTTYPE=image/jpeg:https://kultura.maribor.si/wp-content/uploads/2022/02/FS20NEDnetoleranC48Dni10JD28129.jpg
END:VEVENT
END:VCALENDAR