BEGIN:VCALENDAR
VERSION:2.0
PRODID:-//Kultura Maribor - ECPv6.2.8.1//NONSGML v1.0//EN
CALSCALE:GREGORIAN
METHOD:PUBLISH
X-WR-CALNAME:Kultura Maribor
X-ORIGINAL-URL:https://kultura.maribor.si
X-WR-CALDESC:Events for Kultura Maribor
REFRESH-INTERVAL;VALUE=DURATION:PT1H
X-Robots-Tag:noindex
X-PUBLISHED-TTL:PT1H
BEGIN:VTIMEZONE
TZID:Europe/Paris
BEGIN:DAYLIGHT
TZOFFSETFROM:+0100
TZOFFSETTO:+0200
TZNAME:CEST
DTSTART:20250330T010000
END:DAYLIGHT
BEGIN:STANDARD
TZOFFSETFROM:+0200
TZOFFSETTO:+0100
TZNAME:CET
DTSTART:20251026T010000
END:STANDARD
BEGIN:DAYLIGHT
TZOFFSETFROM:+0100
TZOFFSETTO:+0200
TZNAME:CEST
DTSTART:20260329T010000
END:DAYLIGHT
BEGIN:STANDARD
TZOFFSETFROM:+0200
TZOFFSETTO:+0100
TZNAME:CET
DTSTART:20261025T010000
END:STANDARD
END:VTIMEZONE
BEGIN:VEVENT
DTSTART;TZID=Europe/Paris:20260408T180000
DTEND;TZID=Europe/Paris:20260408T210000
DTSTAMP:20260423T215058
CREATED:20260325T020546Z
LAST-MODIFIED:20260326T123739Z
UID:117126-1775671200-1775682000@kultura.maribor.si
SUMMARY:Maribere: Smrt v Benetkah
DESCRIPTION:Na našem naslednjem srečanju se bomo pogovarjali o knjigi Smrt v Benetkah avtorja Thomasa Manna. Srečanje bo 8. aprila ob 18. uri v prostoru Freske v 1. nadstropju Vetrinjskega dvora. \nGospod Aschenbach ali von Aschenbach živi v Münchnu in je star nekaj čez 50 let. Odloči se\, da bo odpotoval. Najprej odpotuje v Trst\, potem v Pulo\, od tam pa v Benetke\, kjer razhaja kolera. V kraj pride nekoliko razočaran nad sivino neba in neprijetno izkušnjo z gondoljerjem. Nakar en večer opazi družino iz Poljske\, med njimi pa zagleda 14-letnega fanta\, ki ga je popolnoma prevzel. Zaradi razlike v letih pa ni hotel pristopiti\, ampak ga je opazoval iz razdalje. \n“Aschenbach je presenečeno opazil\, da je deček popolno lep. Njegovo obličje\, bledo in prikupno vase zaprto\, obkodrano z lasmi medene barve\, z ravnim nosom\, z ljubkimi usti\, z izrazom mile in božanske resnobe\, je spominjalo na grške kipe iz najbolj žlahtne dobe…” \nPaul Thomas Mann (1875-1955) je bil nemški pisatelj\, družbeni kritik in esejist. V svoja dela je vključeval misli Goetheja\, Nietscheja in Schopenhauerja\, prav tako pa tudi biblijske in nemške pripovedi. Vse to mu je dajalo dober vpogled v delovanje človeške psihe\, kar se odraža tudi v njegovem pisanju. V času 2. svetovne vojne je zbežal sprva v Švico in kasneje v ZDA ter pisal literaturo\, s katero je nasprotoval Hitlerjevemu nacističnemu režimu.\nLeta 1929 je prejel Nobelovo nagrado za književnost za roman Buddenbrookovi. \nVabljeni\, da knjigo preberete in se udeležite srečanja. \nPreostali dogodki sezone: \n10. 6. 2026 Š. Jislová\, T. Drahoňovská: Brez las \nVabljeni!  \n\nPovezava do originalnega članka
URL:https://kultura.maribor.si/dogodek/maribere-smrt-v-benetkah-2026-04-08-18-00-00-2026-04-08-21-00-00-2/
LOCATION:Maribor center / Projektni prostor Freske
CATEGORIES:Dogodki,Literatura
ATTACH;FMTTYPE=image/jpeg:https://kultura.maribor.si/wp-content/uploads/2026/03/2024-04-vetrinjski-dvor-foto-janez-klenovsek-29-scaled-jpg-20260324030006-1.jpg
END:VEVENT
BEGIN:VEVENT
DTSTART;TZID=Europe/Paris:20260211T180000
DTEND;TZID=Europe/Paris:20260211T210000
DTSTAMP:20260423T215058
CREATED:20260129T020053Z
LAST-MODIFIED:20260129T123955Z
UID:112247-1770832800-1770843600@kultura.maribor.si
SUMMARY:Maribere: Mojster in Margareta
DESCRIPTION:Naše naslednje srečanje bo 11. 2. ob 18. uri v Vetrinjskem dvoru (prostor Freske v 1. nadstropju). Pogovarjali se bomo o knjigi Mihaila A. Bulgakova Mojster in Margareta. \nPisatelja Mihael Aleksandrovič Berlioz in Ivan Nikolajevič Ponirev – Bezdomni sta se dobila pozno popoldan na spomladanski dan. Pogovarjala sta se o protiverski pesnitvi\, ki jo je Bezdomni napisal za revijo\, katere urednik je Berlioz. Ob pogovoru o Jezusu se pojavi nenavadna meglica\, čez nekaj časa pa mimo pride tujec\, ki govori perfektno rusko. Pristopi k Berliozu in pesniku ter se vključi v pogovor o Jezusu in ateizmu. Kasneje se izkaže\, da je nenavadni tujec knez teme Woland. Oba želita oditi\, vendar en od njiju pade pod tramvaj in umre\, drug pa zaradi obupa pristane v psihiatrični bolnišnici\, kjer spozna Mojstra. Mojster mu pove tudi za svojo skrivno ženo Margareto. Kasneje Margareta odigra vlogo gostiteljice Satanovega plesa\, ki ga organizira Woland. Po koncu plesa se Wolandu pridružijo vsi njegovi spremljevalci in smo v središču zgodbe. \nMihail Afanasjevič Bulgakov (1891-1940) je bil ruski pisatelj\, dramatik in prevajalec. Roman Mojster in Margareta pa velja za eno največjo mojstrovin 20. stoletja. Prvi osnutek je napisal že leta 1928\, ampak ga je leta 1930 sežgal in je kasneje napisal še 5 različic. Zadnja različica je ob smrti Bulgakova bila nedokončana. Posthumno je roman objavila njegova žena. \nVabljeni\, da preberete roman in se udeležite srečanja. \nPreostali dogodki sezone: \n11. 3. 2026 Ana Schnabl: Mojstrovina\n8. 4. 2026 Thomas Mann: Smrt v Benetkah13. 5. 2026 Manca G. Renko: Živalsko mesto\n10. 6. 2026 Š. Jislová\, T. Drahoňovská: Brez las \nVabljeni!  \n\nPovezava do originalnega članka
URL:https://kultura.maribor.si/dogodek/maribere-mojster-in-margareta-2026-02-11-18-00-00-2026-02-11-21-00-00/
LOCATION:Maribor center / Projektni prostor Freske
CATEGORIES:Dogodki,Literatura
ATTACH;FMTTYPE=image/jpeg:https://kultura.maribor.si/wp-content/uploads/2026/01/2024-04-vetrinjski-dvor-foto-janez-klenovsek-29-scaled-jpg-20260128030004.jpg
END:VEVENT
BEGIN:VEVENT
DTSTART;TZID=Europe/Paris:20251210T190000
DTEND;TZID=Europe/Paris:20251210T210000
DTSTAMP:20260423T215058
CREATED:20251106T184145Z
LAST-MODIFIED:20251107T064312Z
UID:105375-1765393200-1765400400@kultura.maribor.si
SUMMARY:Maribere: Opraviti z Eddyjem
DESCRIPTION:Edouard Louise (rojen kot Eddy Belleguelle) v avtobiografskem romanu govori o svojem odraščanju v revni družini na francoskem podeželju. Nasilje je bilo del njegovega vsakdana\, saj je izstopal iz večine. Bil je suhljat najstnik\, za katerega so sumili\, da je gej. Posledica tega je bilo pogosto fizično nasilje predvsem s strani vrstnikov. Njegovo otroštvo je bilo tudi prežeto z revščino – znošena in strgana oblačila\, verižno kajenje odraslih in pogosta brezposelnost enega ali obeh staršev.\nKljub pritiskom okolice je uspel ostati zvest samemu sebi in priti ven iz tega okolja na fakulteto in v francosko prestolnico. \n\nEdouard Louise (1992) je francoski pisatelj in sociolog. Prvi v družini je šel študirat. Napisal je več romanov. V intervjujih je večkrat povedal\, da piše o temah\, ki se mu zdijo pomembne\, na način\, da bralca vzpodbudi k razmišljanju in akciji. Ko se zgodijo premiki na enem področju\, zamenja stil in temo pisanja. O svojem odraščanju je ob romanu Opraviti z Eddyjem napisal tudi krajši deli Kdo mi je ubil očeta\, Boji in preobrazbe neke ženske ter roman Spremeniti se: metoda.\n\nOpraviti z Eddyjem je prvi roman Edouarda Louisa\, ki je bil izdan 2014. Ob izidu romana so kritiki sprva vztrajali\, da življenje v Franciji v zdajšnjem času ni več tako\, kot ga je opisal. \n\nPreostali dogodki sezone: \n14. 1. 2026 Ožbolj Ilaunig: Črni križ pri Hrastovcu\n11. 2. 2026 Mihail A. Bulgakov: Mojster in Margareta\n11. 3. 2026 Ana Schnabl: Mojstrovina\n8. 4. 2026 Thomas Mann: Smrt v Benetkah13. 5. 2026 Manca G. Renko: Živalsko mesto\n10. 6. 2026 Š. Jislová\, T. Drahoňovská: Brez las \nVabljeni!  \n\nPovezava do originalnega članka
URL:https://kultura.maribor.si/dogodek/maribere-opraviti-z-eddyjem-2025-12-10-19-00-00-2025-12-10-21-00-00/
LOCATION:Maribor center / Projektni prostor Freske
CATEGORIES:Dogodki,Gledališče
ATTACH;FMTTYPE=image/jpeg:https://kultura.maribor.si/wp-content/uploads/2025/11/2024-04-vetrinjski-dvor-foto-janez-klenovsek-29-scaled-jpg-20251106030007.jpg
END:VEVENT
BEGIN:VEVENT
DTSTART;TZID=Europe/Paris:20251008T190000
DTEND;TZID=Europe/Paris:20251008T210000
DTSTAMP:20260423T215058
CREATED:20250917T020755Z
LAST-MODIFIED:20250926T065726Z
UID:100210-1759950000-1759957200@kultura.maribor.si
SUMMARY:Maribere: Misterij žene
DESCRIPTION:oktobra se bomo ob 18. uri pogovarjali o knjigi Zofke Kveder Misterij žene. Pogovor bo v prostoru Freske v 1. nadstropju Vetrinjskega dvora.\n\nV zbirki 6 črtic nas Zofka Kveder popelje skozi izbrane zgodbe. Kljub temu da so glavni liki nekaterih moški\, so vse zgodbe v svojem bistvu o usodi žensk\, ki je vse prej kot prijetna. Ženske so v tistem času bile pomaknjene v ozadje in pogosto doživljale nasilje moških ali drugih žensk nad njimi. Hkrati pa so cerkveni predstavniki slikali sliko idealne\, ljubeče\, tople družine\, ki je le redko bila resnična. Že v prvi zgodbi razgali družino svoje prijateljice\, kjer sta se starša ves čas kregala med sabo\, tepla otroke in je oče imel\, s sodobnimi besedami\, odvisnost od alkohola. Prvoosebna pripovedovalka pa je doživljala pomanjkanje in nasilje s strani različnih oseb.\nČrtice govorijo o prostitutkah\, nezakonskih otrocih\, trpljenju žensk med porodom in tako avtorica ruši stereotip poročene ženske\, ki je predana možu. \nZofka Kveder (1878-1926) je bila pisateljica in publicistka. Rodila se je v Ljubljani\, ampak se je njena družina že kmalu po rojstvu večkrat selila. Izdala je 10 romanov in 3 dramska dela. V svoja dela je pogosto vključevala temo ženskega vprašanja. \n\nPreostali dogodki sezone: \n10. 12. 2025 Edouard Louis: Opraviti z Eddyjem\n14. 1. 2026 Ožbolj Ilaunig: Črni križ pri Hrastovcu\n11. 2. 2026 Mihail A. Bulgakov: Mojster in Margareta\n11. 3. 2026 Ana Schnabl: Mojstrovina\n8. 4. 2026 Thomas Mann: Smrt v Benetkah13. 5. 2026 Manca G. Renko: Živalsko mesto\n10. 6. 2026 Š. Jislová\, T. Drahoňovská: Brez las \nVabljeni!  \n\nPovezava do originalnega članka
URL:https://kultura.maribor.si/dogodek/maribere-misterij-zene-2025-10-08-19-00-00-2025-10-08-21-00-00-2/
LOCATION:Maribor center / Projektni prostor Freske
CATEGORIES:Dogodki,Literatura
ATTACH;FMTTYPE=image/jpeg:https://kultura.maribor.si/wp-content/uploads/2025/09/2024-04-vetrinjski-dvor-foto-janez-klenovsek-29-scaled-jpg-20250916030006-1.jpg
END:VEVENT
BEGIN:VEVENT
DTSTART;TZID=Europe/Paris:20250409T190000
DTEND;TZID=Europe/Paris:20250409T210000
DTSTAMP:20260423T215058
CREATED:20250404T201731Z
LAST-MODIFIED:20250407T091649Z
UID:87804-1744225200-1744232400@kultura.maribor.si
SUMMARY:Maribere: Melanholija I
DESCRIPTION:Tokrat se bomo pogovarjali o knjigi Jona Fosse Melanholija I. Pogovor bo ob čaju tekel 9. aprila 2025 ob 19. uri v Freskah (1. nadstropje Vetrinjskega dvora). \nV biografskem romanu spremljamo tri dni Larsa Herterviga. Po enega v vsakem letu – 1853\, 1856 in 1991. V prvem delu je Lars 22-letni norveški študent na umetniški akademiji v Düsseldorfu. Glavna miselna okupacija Larsa je\, da danes pride velik umetnik v njegov atelje ocenit njegove slike. Lars hkrati nestrpno pričakuje ta pomemben obisk\, hkrati pa dvomi v kvaliteto svojih slik in ostaja v sobi. V najemniškem stanovanju se je zapletel z dosti mlajšo najemodajalkino hčerko\, kar vodi v spor z njenim stricem in izgon iz stanovanja. Ob vsem tem pa doživlja vidne halucinacije. Tri leta kasneje ga spremljamo v psihiatričnem zavodu\, kjer uporabljajo preštevilne represivne metode. V tretjem delu pa spoznamo odljudnega pisatelja\, daljnega Larsovega sorodnika\, ki se navduši nad eno od njegovih krajin v Narodni galeriji v Oslu. Ob enem njegovih del začuti nekaj mističnega in preblisk božanskega. V delih Melanholija I in Melanholija II opisuje namišljene dogodke iz življenja resnične osebe – Larsa Herterviga. \nJan Fosse (1959) je norveški dramatik\, pisatelj in prevajalec. Magistriral je iz književnosti. Sprva je delal kot novinar in učitelj pisanja. Poleg romanov in dram je napisal tudi številne novele\, kratke zgodbe\, pesniške zbirke in literaturo za otroke. Leta 2023 je za svoja dela prejel Nobelovo nagrado za književnosti. V slovenščino so prevedena štiri dela. Poglaviten razlog zakaj nimamo več prevodov je\, ker Fosse piše v “nynorsk” (dobesedno novi norveščini)\, ki jo uporablja dobrih 10 % Norvežanov. \nDogodki te sezone: \n14. 5. 2025 Tina Vrščaj: Na Klancu\n11. 6. 2025. Art Spiegelman: Maus \n  \n\nPovezava do originalnega članka
URL:https://kultura.maribor.si/dogodek/maribere-melanholija-i-2025-04-09-19-00-00-2025-04-09-21-00-00/
LOCATION:Maribor center / Projektni prostor Freske
CATEGORIES:Dogodki,Literatura
ATTACH;FMTTYPE=image/jpeg:https://kultura.maribor.si/wp-content/uploads/2025/04/2024-04-vetrinjski-dvor-foto-janez-klenovsek-29-scaled-jpg-20250403030005.jpg
END:VEVENT
BEGIN:VEVENT
DTSTART;TZID=Europe/Paris:20250312T190000
DTEND;TZID=Europe/Paris:20250312T210000
DTSTAMP:20260423T215058
CREATED:20250225T020041Z
LAST-MODIFIED:20250226T073702Z
UID:84783-1741806000-1741813200@kultura.maribor.si
SUMMARY:Maribere: Kralj ropotajočih duhov
DESCRIPTION:Naslednje srečanje bomo imeli 12. 3. ob 19. uri v prostoru Freske (1. nadstropje Vetrinjskega dvora). Na srečanju se bomo pogovarjali o knjigi Mihe Mazzinija Kralj ropotajočih duhov. \nMiha Mazzini nam v večkrat natisnjenem romanu pripoveduje o dvanajstletnem Egonu\, ki odrašča v času socialistične Jugoslavije. Egon si želi imeti normalne najstniške probleme\, vendar mu to\, zaradi različnih zlorab doma in v šoli\, ne uspeva.\nDoma živi z nono\, ki je preživela prvo svetovno vojno in halucinira duše mrtvih. Egona sili gledati podobe svetnikov in se opravičevati haluciniranim podobam iz prve svetovne vojne. Hkrati ga mama samohranilka zanemarja in mu nalaga krivdo. Mama in nona sta pa povrhu med sabo skregani\, kar Egona dodatno bremeni. Egon v šoli ne najde zatočišča\, saj tam doživlja spolno zlorabo s strani učitelja. Trenutke umirjenosti išče v zbiranju vinilk\, poslušanju glasbe na sposojenem gramofonu in gledanje filmov. Smisel vidi v tem\, da bi kupil svoj gramofon\, saj bi tako lažje dobil prijatelje ali celo punco. Na poti do gramofona pa ima mnogo ovir. \nMiha Mazzini (1961) je slovenski pisatelj\, kolumnist\, scenarist\, režiser in računalnikar. Objavil je več kot 30 proznih del\, ki so prevedena v 11 jezikov. Za svoje knjige in filme je prejel več različnih nagrad. Roman Kralj ropotajočih duhov je bil večkrat ponatisnjen in preveden v šest jezikov. Roman je nastal kot nadgradnja scenarija za film Sladke sanje. S to zgodbo se je Mazzini prvič lotil teme svojega odraščanja\, ki jo je kasneje raziskoval še v romanih Otroštvo in Osebno. \nDogodki te sezone: \n\n9. 4. 2025 Jon Fosse: Melanholija I\n14. 5. 2025 Tina Vrščaj: Na Klancu\n11. 6. 2025. Art Spiegelman: Maus\n\n\nPovezava do originalnega članka
URL:https://kultura.maribor.si/dogodek/maribere-kralj-ropotajocih-duhov-2025-03-12-19-00-00-2025-03-12-21-00-00/
LOCATION:2024-04-vetrinjski-dvor-foto-janez-klenovsek-29-scaled-jpg-20250222030005
CATEGORIES:Dogodki,Literatura
ATTACH;FMTTYPE=image/jpeg:https://kultura.maribor.si/wp-content/uploads/2025/02/2024-04-vetrinjski-dvor-foto-janez-klenovsek-29-scaled-jpg-20250222030005.jpg
END:VEVENT
END:VCALENDAR