BEGIN:VCALENDAR
VERSION:2.0
PRODID:-//Kultura Maribor - ECPv6.2.8.1//NONSGML v1.0//EN
CALSCALE:GREGORIAN
METHOD:PUBLISH
X-ORIGINAL-URL:https://kultura.maribor.si
X-WR-CALDESC:Events for Kultura Maribor
REFRESH-INTERVAL;VALUE=DURATION:PT1H
X-Robots-Tag:noindex
X-PUBLISHED-TTL:PT1H
BEGIN:VTIMEZONE
TZID:Europe/Paris
BEGIN:DAYLIGHT
TZOFFSETFROM:+0100
TZOFFSETTO:+0200
TZNAME:CEST
DTSTART:20250330T010000
END:DAYLIGHT
BEGIN:STANDARD
TZOFFSETFROM:+0200
TZOFFSETTO:+0100
TZNAME:CET
DTSTART:20251026T010000
END:STANDARD
END:VTIMEZONE
BEGIN:VEVENT
DTSTART;TZID=Europe/Paris:20250623T200000
DTEND;TZID=Europe/Paris:20250623T210000
DTSTAMP:20260425T134002
CREATED:20250423T020125Z
LAST-MODIFIED:20250620T062801Z
UID:89803-1750708800-1750712400@kultura.maribor.si
SUMMARY:Jazz Podij: Artbeaters
DESCRIPTION:Artbeaters je izvrstna jazzovska zasedba\, ki s svojo ustvarjalno energijo in muziciranjem že trinajst let plemeniti slovensko glasbeno krajino. Skupina je ustvarila svoj edinstven in prepoznaven zvok predvsem z vrhunsko jazz violino\, glasbilom\, ki se v jazz sestavih pojavlja izjemno redko. \nArtbeaters je izvrstna jazzovska zasedba\, ki s svojo ustvarjalno energijo in muziciranjem že trinajst let plemeniti slovensko glasbeno krajino. Skupina je ustvarila svoj edinstven in prepoznaven zvok predvsem z vrhunsko jazz violino\, glasbilom\, ki se v jazz sestavih pojavlja izjemno redko. \nSvoj prvenec Garden of Adventure so kot kvartet izdali leta 2013\, štiri leta zatem\, tokrat že kot kvintet\, pa še drugega za naslovom Life Compass On!. Album je doživel izjemen uspeh in požel navdušene kritike. Skupina je nedavno posnela svoj tretji studijski album\, ki vključuje osem popolnoma novih avtorskih skladb članov zasedbe. \nGlasba na novem albumu je napisana z namenom\, da ovekoveči turbulentni čas\, ki ga živimo\, hkrati pa nas ustavi ter nam sugerira – kdaj bomo ljudje vse\, kar se dogaja\, globoko premislili in predelali? \n\nPovezava do originalnega članka
URL:https://kultura.maribor.si/dogodek/jazz-podij-artbeaters-2025-06-23-20-00-00-2025-06-23-21-00-00/
LOCATION:Maribor center / Oder OTP banke
CATEGORIES:Dogodki,Festivali,Glasba
ATTACH;FMTTYPE=image/jpeg:https://kultura.maribor.si/wp-content/uploads/2025/04/jazz-podij-artbeaters-foto-nada-zgank-4-1-jpg.jpg
END:VEVENT
BEGIN:VEVENT
DTSTART;TZID=Europe/Paris:20250620T000000
DTEND;TZID=Europe/Paris:20250628T000000
DTSTAMP:20260425T134002
CREATED:20250423T020100Z
LAST-MODIFIED:20250609T061342Z
UID:89775-1750377600-1751068800@kultura.maribor.si
SUMMARY:Festival lent: Oder OTP banke
DESCRIPTION:Kjer se ustvarjajo spomini na nepozabni nastopi \nNajmlajši član festivalske družine se nahaja na slikovitem obrežju reke Drave\, ob najstarejši trti na svetu\, na nedavno obnovljeni promenadi\, ki je bila odprta sredinom leta 2023. To novo prizorišče ponuja edinstveno mešanico dogajanja\, kjer se srečujejo glasbeni okusi in ustvarjalni duh. Program ponuja eklektičen izbor raznoliki domačih in mednarodnih zasedb\, katerih energija in izvirnost pri ustvarjanju sta v središču pozornosti. Obiskovalcem omogoča izkušnjo svežih zvokov in inovativnih pristopov\, ki spodbujajo raziskovanje različnih glasbenih žanrov in kulturnih vplivov. \nTo je prostor\, kjer se narava in umetnost srečata\, ustvarjajo pa se spomini na nepozabne nastope in edinstvene glasbene trenutke. \n\nPovezava do originalnega članka
URL:https://kultura.maribor.si/dogodek/festival-lent-oder-otp-banke-2025-06-20-00-00-00-2025-06-28-00-00-00/
LOCATION:Festival lent: Otroški lent
CATEGORIES:Dogodki,Festivali,Glasba
ATTACH;FMTTYPE=image/jpeg:https://kultura.maribor.si/wp-content/uploads/2025/04/festival-lent-oder-stare-trte-visit-maribor-pohorje-slovenia-slovenijafestival-lent-oder-stare-trte-visit-maribor-pohorje-slovenia-slovenijafestival-lent-oder-stare-trte-visit-mar-1.jpg
END:VEVENT
END:VCALENDAR