BEGIN:VCALENDAR
VERSION:2.0
PRODID:-//Kultura Maribor - ECPv6.2.8.1//NONSGML v1.0//EN
CALSCALE:GREGORIAN
METHOD:PUBLISH
X-WR-CALNAME:Kultura Maribor
X-ORIGINAL-URL:https://kultura.maribor.si
X-WR-CALDESC:Events for Kultura Maribor
REFRESH-INTERVAL;VALUE=DURATION:PT1H
X-Robots-Tag:noindex
X-PUBLISHED-TTL:PT1H
BEGIN:VTIMEZONE
TZID:Europe/Paris
BEGIN:DAYLIGHT
TZOFFSETFROM:+0100
TZOFFSETTO:+0200
TZNAME:CEST
DTSTART:20250330T010000
END:DAYLIGHT
BEGIN:STANDARD
TZOFFSETFROM:+0200
TZOFFSETTO:+0100
TZNAME:CET
DTSTART:20251026T010000
END:STANDARD
END:VTIMEZONE
BEGIN:VEVENT
DTSTART;TZID=Europe/Paris:20251107T000000
DTEND;TZID=Europe/Paris:20251111T000000
DTSTAMP:20260425T001311
CREATED:20251007T020040Z
LAST-MODIFIED:20251007T075116Z
UID:102429-1762473600-1762819200@kultura.maribor.si
SUMMARY:Martinovanje v Mariboru
DESCRIPTION:Največje martinovanje v Sloveniji \nMartinovanje v Mariboru je urbana prireditev z mednarodnim značajem in največje javno martinovanje v Sloveniji\, ki vsako leto privabi številne obiskovalce iz domovine in tujine. \nMariborsko martinovanje presega okvirje najboljše martinove zabave ter vrhunske ponudbe vina in kulinarike. Na več prizoriščih se odvija bogat program\, ki združuje kulturno-zabavne vsebine\, glasbo in gastronomska doživetja ter privablja številne obiskovalce iz Slovenije in tujine. \nOsrednje dogajanje bo potekalo v petek in soboto\, 7. in 8. novembra\, na Koroški cesti\, ter v torek\, 11. novembra\, na Trgu Leona Štuklja. \nPosebno doživetje ponujajo gostilne s tradicijo\, vrhunske restavracije\, turistične kmetije in vinske kleti\, ki vabijo na Martinov Wine & Dine – skrbno pripravljena gastronomska razvajanja po enotnih cenah\, kjer lahko uživate v izbranih okusih jeseni. \nVse to dopolnjuje jesenska narava\, slikovite vinske poti in bogata tradicija\, ki Maribor postavljajo v središče praznovanja vina\, kulinarike in kulture ter ustvarjajo nepozabno izkušnjo za vse ljubitelje pristnih doživetij. \n\nPovezava do originalnega članka
URL:https://kultura.maribor.si/dogodek/martinovanje-v-mariboru-2025-11-07-00-00-00-2025-11-11-00-00-00-2/
LOCATION:Maribor center/Koroška cesta in Trg Leona Štuklja\, Maribor\, Slovenija
CATEGORIES:Dogodki
ATTACH;FMTTYPE=image/jpeg:https://kultura.maribor.si/wp-content/uploads/2025/10/11112023_martinovanje-2023_klemen-golob-219-1.jpg
END:VEVENT
END:VCALENDAR