BEGIN:VCALENDAR
VERSION:2.0
PRODID:-//Kultura Maribor - ECPv6.2.8.1//NONSGML v1.0//EN
CALSCALE:GREGORIAN
METHOD:PUBLISH
X-WR-CALNAME:Kultura Maribor
X-ORIGINAL-URL:https://kultura.maribor.si
X-WR-CALDESC:Events for Kultura Maribor
REFRESH-INTERVAL;VALUE=DURATION:PT1H
X-Robots-Tag:noindex
X-PUBLISHED-TTL:PT1H
BEGIN:VTIMEZONE
TZID:Europe/Paris
BEGIN:DAYLIGHT
TZOFFSETFROM:+0100
TZOFFSETTO:+0200
TZNAME:CEST
DTSTART:20250330T010000
END:DAYLIGHT
BEGIN:STANDARD
TZOFFSETFROM:+0200
TZOFFSETTO:+0100
TZNAME:CET
DTSTART:20251026T010000
END:STANDARD
END:VTIMEZONE
BEGIN:VEVENT
DTSTART;TZID=Europe/Paris:20250620T000000
DTEND;TZID=Europe/Paris:20250628T000000
DTSTAMP:20260423T153525
CREATED:20250531T020040Z
LAST-MODIFIED:20250609T061509Z
UID:93021-1750377600-1751068800@kultura.maribor.si
SUMMARY:Festival lent: StopTrik
DESCRIPTION:Umetnost oživi v senci vrta. \nSkriti vrt Galerije Obrat na desnem bregu Drave je pravcata urbana oaza\, ki s svojo intimno in nekoliko skrivnostno atmosfero ponuja edinstveno kuliso za filmske večere pod zvezdami. Na tem čarobnem prizorišču svoj izbor kratkih animiranih filmov predstavlja StopTrik – eden redkih mednarodnih festivalov na svetu\, posvečen izključno stoptrik tehniki animacije. Ta inovativna in umetniško izjemno zahtevna tehnika dobi v tem okolju poseben čar\, saj gledalci doživijo umetnost v prostoru\, ki že sam po sebi pripoveduje zgodbo. \nPoleg animacije pa se v vrtu odvijajo tudi večeri dokumentarnega filma – z izborom vsebinsko prodornih in družbeno angažiranih filmov se predstavlja mariborski festival Dokudoc\, ki pomembno sooblikuje dokumentarno krajino v Sloveniji. Skriti vrt tako postane prostor filmske refleksije\, ustvarjalnosti in razmisleka\, kjer se prepletajo umetnost\, narava in družbena aktualnost. \n\nPovezava do originalnega članka
URL:https://kultura.maribor.si/dogodek/festival-lent-stoptrik-2025-06-20-00-00-00-2025-06-28-00-00-00/
LOCATION:Maribor center / Galerija Obrat
CATEGORIES:Dogodki,Festivali
ATTACH;FMTTYPE=image/jpeg:https://kultura.maribor.si/wp-content/uploads/2025/05/festival-lent-dokudoc-stoptrik-visit-maribor-pohorje-slovenia-slovenija-1-1.jpg
END:VEVENT
BEGIN:VEVENT
DTSTART;TZID=Europe/Paris:20250408T200000
DTEND;TZID=Europe/Paris:20250505T220000
DTSTAMP:20260423T153525
CREATED:20250404T201724Z
LAST-MODIFIED:20250407T091627Z
UID:87799-1744142400-1746482400@kultura.maribor.si
SUMMARY:Rezidenca OPE.N: Sanja Merćep in Matej Ivušić
DESCRIPTION:Med 1. 4. 2025 in 4. 5. 2025 Pekarna Magdalenske mreže v sodelovanju z društvom Asociacija na rezidenci gosti umetnico/raziskovalko Sanjo Merćep in umetnika/raziskovalca Mateja Ivušića. V OBRATu bomo njiju in njuno delo spoznali v ponedeljek\, 8. 4. 2025 ob 20.00. \nRaziskovala bosta stanje in pozicijo neodvisne kulturne scene v Sloveniji\, s poudarkom na Mariboru. Tekom rezidence bosta spoznavala prostore in posameznike_ce\, ki so nosilci neodvisne kulture. Na podlagi pridobljenih izkušenj bosta ustvarila avtorske prispevke\, ki se konceptualno\, praktično ali neposredno navezujejo na zastavljeni okvir. Rezidenco bomo zaključili z razstavo v OBRATu\, prostoru umetnosti in participacije. \nSanja Merćep (1989) je diplomirana ekonomistka in magistrirana fotografinja s sedežem v Zagrebu. Leta 2024 je za svojo fotografsko serijo Obala prejela drugo nagrado Ivana Kožarića na natečaju za mlade umetnike\, ki ga organizira Muzej sodobnih umetnosti v Zagrebu\, nato pa je serija postala del muzejske zbirke. Za sabo ima več samostojnih in skupinskih razstav\, večinoma na Hrvaškem. \nMatej Ivušić (1989) je po izobrazbi zgodovinar\, po poklicu pa novinar s sedežem v Zagrebu. Je redni sodelavec portala tportal.hr\, sodeluje pa tudi z različnimi manjšimi mediji\, za katere večinoma piše o kulturi – s poudarkom na glasbi\, literaturi in filmu. Za svoje delo je prejel nagrado Tomašević-Bešker. \nRezidenta se bosta mariborski publiki prvič predstavila na javni predstavitvi svojega avtorskega dela v OBRATu\, 8. 4. 2025\, ob 20.00. Rezidenca je del projekta OPE.N.  \n\nPovezava do originalnega članka
URL:https://kultura.maribor.si/dogodek/rezidenca-ope-n-sanja-mer-ep-in-matej-ivusi-2025-04-08-20-00-00-2025-04-08-22-00-00/
LOCATION:ope-n-png
CATEGORIES:Dogodki,Razstave
ATTACH;FMTTYPE=image/jpeg:https://kultura.maribor.si/wp-content/uploads/2025/04/ope-n-png.jpg
END:VEVENT
END:VCALENDAR