BEGIN:VCALENDAR
VERSION:2.0
PRODID:-//Kultura Maribor - ECPv6.2.8.1//NONSGML v1.0//EN
CALSCALE:GREGORIAN
METHOD:PUBLISH
X-ORIGINAL-URL:https://kultura.maribor.si
X-WR-CALDESC:Events for Kultura Maribor
REFRESH-INTERVAL;VALUE=DURATION:PT1H
X-Robots-Tag:noindex
X-PUBLISHED-TTL:PT1H
BEGIN:VTIMEZONE
TZID:Europe/Paris
BEGIN:DAYLIGHT
TZOFFSETFROM:+0100
TZOFFSETTO:+0200
TZNAME:CEST
DTSTART:20260329T010000
END:DAYLIGHT
BEGIN:STANDARD
TZOFFSETFROM:+0200
TZOFFSETTO:+0100
TZNAME:CET
DTSTART:20261025T010000
END:STANDARD
END:VTIMEZONE
BEGIN:VEVENT
DTSTART;TZID=Europe/Paris:20260526T193000
DTEND;TZID=Europe/Paris:20260526T203000
DTSTAMP:20260424T043746
CREATED:20251016T020053Z
LAST-MODIFIED:20251021T133158Z
UID:102941-1779823800-1779827400@kultura.maribor.si
SUMMARY:Simfonični orkester SWR
DESCRIPTION:5. koncert Orkestrskega cikla 2025/2026 \nFrançois-Xavier Roth\, dirigent\nKristian Bezuidenhout\, klavir\nSpored\nJean Baptiste Lully: Suita iz baletne komedije Plemeniti meščan\, LWV 43\nWolfgang Amadeus Mozart: Koncert za klavir in orkester št. 27 v B-duru\, K 595\n***\nJoseph Haydn: Simfonija št. 101 v D-duru\, H 1/101\, »Ura« \nSimfonični orkester SWR\, osrednje izvajalsko telo nemškega Južnozahodnega radia\, s svojimi dosežki sodi med najboljše in najbolj prepoznavne nemške orkestre. Sedež ima v Stuttgartu\, kamor privabi najuglednejše interprete klasične glasbe in najdrznejše soustvarjalce glasbene sodobnosti. Orkester se je dokazal kot prepričljiv posrednik nove glasbe in inovativen interpret klasičnega repertoarja\, denimo v kontroverznih in izjemno uspešnih letih sodelovanja z dirigentom Teodorjem Currentzisom. \nZ letom 2025 prevzema mesto šefa dirigenta orkestra Francoz François-Xavier Roth\, ki nas bo na koncertu v Mariboru vodil skozi eleganten klasicistično-baročni spored. Odprla ga bo Lullyjeva suita iz baleta Plemeniti meščan\, ki združuje živahne plese za Molièrovo satirično baletno komedijo. V Mozartovem zadnjem klavirskem koncertu bomo imeli priložnost slišati enega izmed dandanes najbolj iskanih pianistov in velikega poznavalca Mozartove glasbe\, Kristiana Bezuidenhouta. Iskriv večer bo zaključila priljubljena Haydnova zvita in duhovita Simfonija št. 101\, ki se ima za svoj vzdevek »Ura« zahvaliti šaljivemu tiktakanju v drugem stavku. \nProgramska knjižica 2025/2026 \nVstopnice:\nRedna cena: 29 €\nUpokojenci in invalidi: 21 €\nŠtudenti\, dijaki: 7 € \nDružinska vstopnica: 26 € (odrasli)\, 7 € (otrok) \nE-nakup abonmaja Orkestrski cikel \n\nPovezava do originalnega članka
URL:https://kultura.maribor.si/dogodek/simfonicni-orkester-swr-2026-05-26-19-30-00-2026-05-26-20-30-00-2/
LOCATION:Maribor center / Dvorana Union
CATEGORIES:Dogodki,Glasba
ATTACH;FMTTYPE=image/jpeg:https://kultura.maribor.si/wp-content/uploads/2025/10/simfonicni-orkester-swr-foto-moritz-metzger-scaled-jpg.jpg
END:VEVENT
END:VCALENDAR