BEGIN:VCALENDAR
VERSION:2.0
PRODID:-//Kultura Maribor - ECPv6.2.8.1//NONSGML v1.0//EN
CALSCALE:GREGORIAN
METHOD:PUBLISH
X-ORIGINAL-URL:https://kultura.maribor.si
X-WR-CALDESC:Events for Kultura Maribor
REFRESH-INTERVAL;VALUE=DURATION:PT1H
X-Robots-Tag:noindex
X-PUBLISHED-TTL:PT1H
BEGIN:VTIMEZONE
TZID:Europe/Paris
BEGIN:DAYLIGHT
TZOFFSETFROM:+0100
TZOFFSETTO:+0200
TZNAME:CEST
DTSTART:20230326T010000
END:DAYLIGHT
BEGIN:STANDARD
TZOFFSETFROM:+0200
TZOFFSETTO:+0100
TZNAME:CET
DTSTART:20231029T010000
END:STANDARD
END:VTIMEZONE
BEGIN:VEVENT
DTSTART;TZID=Europe/Paris:20230610T100000
DTEND;TZID=Europe/Paris:20230610T123000
DTSTAMP:20260422T033219
CREATED:20230606T053325Z
LAST-MODIFIED:20230606T124706Z
UID:37791-1686391200-1686400200@kultura.maribor.si
SUMMARY:Ki & Aikido in daily life
DESCRIPTION:Ki & Aikido in daily life workshopThis workshop will transmit concepts\, approaches and exercises in a practical ‘hands on’ environment\, as continuously developed in the way of Ki Aikido (shin shin toitsu do) over the past 60 years.\nPartner work will be central\, so bring a partner if you can (no problem if not\, you will work with another participant)! \nKi is both basic and essential for the persistence and growth of life and human relationships. This study of body and mind promotes a way of living with uncertainty and danger that life today and ever presents. We can learn how to act better and create a new future. We train the perception and correct condition of mind and body so as to be able to act without ‘thinking’ or creating mental confusion. This is particularly relevant given the emergence of technology\, materiality and forms of violence in society. \nFurthermore\, Aikido is neither sport nor fighting art\, it is based on meditation and understanding life. \n\nPovezava do originalnega članka
URL:https://kultura.maribor.si/dogodek/ki-aikido-in-daily-life-2023-06-10-10-00-00-2023-06-10-12-30-00/
LOCATION:Maribor center / Center plesa\, Gosposka ulica 18\, Maribor
CATEGORIES:Dogodki
ATTACH;FMTTYPE=image/jpeg:https://kultura.maribor.si/wp-content/uploads/2023/06/6eddef32-eba8-4631-a89b-85ab6235ba46.jpg
END:VEVENT
END:VCALENDAR