BEGIN:VCALENDAR
VERSION:2.0
PRODID:-//Kultura Maribor - ECPv6.2.8.1//NONSGML v1.0//EN
CALSCALE:GREGORIAN
METHOD:PUBLISH
X-ORIGINAL-URL:https://kultura.maribor.si
X-WR-CALDESC:Events for Kultura Maribor
REFRESH-INTERVAL;VALUE=DURATION:PT1H
X-Robots-Tag:noindex
X-PUBLISHED-TTL:PT1H
BEGIN:VTIMEZONE
TZID:Europe/Paris
BEGIN:DAYLIGHT
TZOFFSETFROM:+0100
TZOFFSETTO:+0200
TZNAME:CEST
DTSTART:20240331T010000
END:DAYLIGHT
BEGIN:STANDARD
TZOFFSETFROM:+0200
TZOFFSETTO:+0100
TZNAME:CET
DTSTART:20241027T010000
END:STANDARD
END:VTIMEZONE
BEGIN:VEVENT
DTSTART;TZID=Europe/Paris:20241017T100000
DTEND;TZID=Europe/Paris:20241017T130000
DTSTAMP:20260425T143356
CREATED:20241002T072202Z
LAST-MODIFIED:20241007T115531Z
UID:77658-1729159200-1729170000@kultura.maribor.si
SUMMARY:Predavanje in okrogla miza z Aljošo Bagolo: Image poklicev gostoljubja
DESCRIPTION:Skupaj za boljšo prihodnost gostoljubja: Kako lahko šolstvo in gospodarstvo združita moči? \nPredavanje in okrogla miza z Aljošo Bagolo na temo “ODštekani mladi vs. IZštekan biznis” je namenjena strokovni javnosti\, ki se vsakodnevno sooča s pomanjkanjem kadrov. Zakaj mladi obupajo nad delom v poklicih gostoljubja? \nKljub dnevnemu porastu povpraševanja po poklicno izobraženih kadrih na področju gostinstva in turizma pa na vprašanje »kje so se izgubili izobraženi kadri« odgovora nimamo. Ugled poklicev iz leta v leto upada\, tako je današnje stanje na trgu že alarmantno. \nZakaj primanjkuje kadrov?  \nZakaj mladi obupajo nad delom v poklicih gostoljubja? Kaj lahko naredimo mi\, predstavniki šolstva\, gospodarstva\, mentorji v podjetjih? Na že tradicionalnem dogodku Dan mentorjev\, želimo predstavnike gospodarstva in drugih ustanov spodbuditi k akciji\, spremembi v razmišljanju in pristopih ter ozavestiti korake za spreobrnitev trenda. \nVaša prisotnost in izkušnje bi nedvomno prispevale k pomembnim vprašanjem\, ki jih je nujno nasloviti\, če želimo spodbuditi medsebojno sodelovanje ter poiskati nove pristope za reševanje nastale situacije. \nVeselimo se vašega odziva in upamo\, da se nam boste lahko pridružili. \n\nPovezava do originalnega članka
URL:https://kultura.maribor.si/dogodek/predavanje-in-okrogla-miza-z-aljoso-bagolo-image-poklicev-gostoljubja-2024-10-17-10-00-00-2024-10-17-13-00-00/
LOCATION:Maribor center / Cafova ulica 7\, 2000 Maribor
CATEGORIES:Dogodki
ATTACH;FMTTYPE=image/jpeg:https://kultura.maribor.si/wp-content/uploads/2024/10/bagola-vsgst-visit-maribor-pohorje-slovenija-slovenia.jpg
END:VEVENT
END:VCALENDAR