BEGIN:VCALENDAR
VERSION:2.0
PRODID:-//Kultura Maribor - ECPv6.2.8.1//NONSGML v1.0//EN
CALSCALE:GREGORIAN
METHOD:PUBLISH
X-ORIGINAL-URL:https://kultura.maribor.si
X-WR-CALDESC:Events for Kultura Maribor
REFRESH-INTERVAL;VALUE=DURATION:PT1H
X-Robots-Tag:noindex
X-PUBLISHED-TTL:PT1H
BEGIN:VTIMEZONE
TZID:Europe/Paris
BEGIN:DAYLIGHT
TZOFFSETFROM:+0100
TZOFFSETTO:+0200
TZNAME:CEST
DTSTART:20240331T010000
END:DAYLIGHT
BEGIN:STANDARD
TZOFFSETFROM:+0200
TZOFFSETTO:+0100
TZNAME:CET
DTSTART:20241027T010000
END:STANDARD
END:VTIMEZONE
BEGIN:VEVENT
DTSTART;TZID=Europe/Paris:20240823T110000
DTEND;TZID=Europe/Paris:20240823T130000
DTSTAMP:20260421T140743
CREATED:20240821T062921Z
LAST-MODIFIED:20240821T090939Z
UID:75889-1724410800-1724418000@kultura.maribor.si
SUMMARY:Postavljanje klopotca pod Kalvarijo na posestvu Biotehniške šole Maribor
DESCRIPTION:Tradicionalna etnografska prireditev poteka na posestvu Biotehniške šole Maribor \nVabljeni v mesto najstarejše trte na svetu\, kjer na tradicionalni prireditvi postavljamo klopotec\, edinstveni simbol lokalne vinske pokrajine\, ki je postavljen vse tja do martinovanja. \n\nPovezava do originalnega članka
URL:https://kultura.maribor.si/dogodek/postavljanje-klopotca-pod-kalvarijo-na-posestvu-biotehniske-sole-maribor-2024-08-23-11-00-00-2024-08-23-13-00-00/
LOCATION:Maribor center / Biotehniška šola Maribor\, Vrbanska cesta 30\, 2000 Maribor
CATEGORIES:Dogodki
ATTACH;FMTTYPE=image/jpeg:https://kultura.maribor.si/wp-content/uploads/2024/08/4_postavljanje_klopotca_2023_lokacija_posestvo_biotehniske_sole_maribor_pod_kalvarijo_foto_nina_petric-1.jpg
END:VEVENT
END:VCALENDAR