BEGIN:VCALENDAR
VERSION:2.0
PRODID:-//Kultura Maribor - ECPv6.2.8.1//NONSGML v1.0//EN
CALSCALE:GREGORIAN
METHOD:PUBLISH
X-ORIGINAL-URL:https://kultura.maribor.si
X-WR-CALDESC:Events for Kultura Maribor
REFRESH-INTERVAL;VALUE=DURATION:PT1H
X-Robots-Tag:noindex
X-PUBLISHED-TTL:PT1H
BEGIN:VTIMEZONE
TZID:Europe/Paris
BEGIN:DAYLIGHT
TZOFFSETFROM:+0100
TZOFFSETTO:+0200
TZNAME:CEST
DTSTART:20260329T010000
END:DAYLIGHT
BEGIN:STANDARD
TZOFFSETFROM:+0200
TZOFFSETTO:+0100
TZNAME:CET
DTSTART:20261025T010000
END:STANDARD
END:VTIMEZONE
BEGIN:VEVENT
DTSTART;TZID=Europe/Paris:20260408T170000
DTEND;TZID=Europe/Paris:20260408T220000
DTSTAMP:20260423T233215
CREATED:20260327T020429Z
LAST-MODIFIED:20260331T074330Z
UID:117508-1775667600-1775685600@kultura.maribor.si
SUMMARY:Navdihovalnice #3: Tipografija kot eden izmed temeljev podobe blagovne znamke
DESCRIPTION:Delavnica z oblikovalko tipografije Aljo Herlah\, ki skozi konkretne projekte predstavlja proces nastajanja črkovnih vrst in vlogo tipografije pri oblikovanju prepoznavnih blagovnih znamk. \nKako nastane črkovna vrsta in kakšno vlogo ima tipografija pri oblikovanju blagovne znamke? Na tretjih Navdihovalnicah v Aritmiji gostimo oblikovalko tipografije Aljo Herlah\, ki oblikuje unikatne črkovne vrste in ustvarja prepoznavne grafične podobe s poudarkom na izvirni tipografiji. \nSkozi konkretne projekte bo predstavila svoj proces dela – od prvih korakov v type designu do sodelovanj z naročniki in razvoja lastnih tipografskih projektov. Med drugim bo predstavila tudi projekte za mednarodne naročnike\, delo v okviru Type Salona ter izbrane slovenske projekte. \nBrezplačen dogodek je namenjen vsem\, ki jih zanimajo tipografija\, oblikovanje in vizualne komunikacije. \nŠtevilo mest je omejeno. \n\nPovezava do originalnega članka
URL:https://kultura.maribor.si/dogodek/navdihovalnice-3-tipografija-kot-eden-izmed-temeljev-podobe-blagovne-znamke-2026-04-08-17-00-00-2026-04-08-22-00-00/
LOCATION:6a3a07fb-2195-4ebf-963f-f558173e7da3
CATEGORIES:Delavnice,Dogodki
ATTACH;FMTTYPE=image/jpeg:https://kultura.maribor.si/wp-content/uploads/2026/03/6a3a07fb-2195-4ebf-963f-f558173e7da3-1.jpg
END:VEVENT
END:VCALENDAR