BEGIN:VCALENDAR
VERSION:2.0
PRODID:-//Kultura Maribor - ECPv6.2.8.1//NONSGML v1.0//EN
CALSCALE:GREGORIAN
METHOD:PUBLISH
X-WR-CALNAME:Kultura Maribor
X-ORIGINAL-URL:https://kultura.maribor.si
X-WR-CALDESC:Events for Kultura Maribor
REFRESH-INTERVAL;VALUE=DURATION:PT1H
X-Robots-Tag:noindex
X-PUBLISHED-TTL:PT1H
BEGIN:VTIMEZONE
TZID:Europe/Paris
BEGIN:DAYLIGHT
TZOFFSETFROM:+0100
TZOFFSETTO:+0200
TZNAME:CEST
DTSTART:20230326T010000
END:DAYLIGHT
BEGIN:STANDARD
TZOFFSETFROM:+0200
TZOFFSETTO:+0100
TZNAME:CET
DTSTART:20231029T010000
END:STANDARD
BEGIN:DAYLIGHT
TZOFFSETFROM:+0100
TZOFFSETTO:+0200
TZNAME:CEST
DTSTART:20240331T010000
END:DAYLIGHT
BEGIN:STANDARD
TZOFFSETFROM:+0200
TZOFFSETTO:+0100
TZNAME:CET
DTSTART:20241027T010000
END:STANDARD
BEGIN:DAYLIGHT
TZOFFSETFROM:+0100
TZOFFSETTO:+0200
TZNAME:CEST
DTSTART:20250330T010000
END:DAYLIGHT
BEGIN:STANDARD
TZOFFSETFROM:+0200
TZOFFSETTO:+0100
TZNAME:CET
DTSTART:20251026T010000
END:STANDARD
BEGIN:DAYLIGHT
TZOFFSETFROM:+0100
TZOFFSETTO:+0200
TZNAME:CEST
DTSTART:20260329T010000
END:DAYLIGHT
BEGIN:STANDARD
TZOFFSETFROM:+0200
TZOFFSETTO:+0100
TZNAME:CET
DTSTART:20261025T010000
END:STANDARD
END:VTIMEZONE
BEGIN:VEVENT
DTSTART;TZID=Europe/Paris:20260221T100000
DTEND;TZID=Europe/Paris:20260221T100000
DTSTAMP:20260424T144921
CREATED:20260107T020005Z
LAST-MODIFIED:20260119T113444Z
UID:110091-1771668000-1771668000@kultura.maribor.si
SUMMARY:Zgodba o barvah 6+
DESCRIPTION:Zgodba o barvah 6+\n\nSubcomandante Marcos\n\n\nPodelimo si pipo miru in prisluhnimo zgodbi o vseh barvah\, ki jih na svojem perju čuva papiga ara. Poglejmo jo – to pisano papigo! Težko verjamemo\, da je na eni  ptici toliko barv. Nekoč pa ni bila taka. Bila je črno bela. In svet\, po katerem je letala\, je bil črno bel – in bilo je dolgočasno. Na svetu ni bilo veselja. Bogovi so bili zato sitni in prepirljivi\, a tudi modri. Dogovorili so se\, da bodo svet pobarvali. Barve so našli v srcu zemlje\, visoko na nebu\, v otroškem smehu in upanju.\nPotem so se barve pomešale in se ljubile in nastajale so nove in nove. Z njimi so bogovi pobarvali svet. Nekaj barve je padlo tudi na ljudi\, zato so ti različnih barv in različno razmišljajo. In vse barve so shranjene na ari\, da ljudje ne bi pozabili nanje. In svet bo srečen\, ko bo imela na njem vsaka barva in vsak način razmišljanja svoje mesto. Podelimo si pipo miru \nZgodba o barvah prihaja iz Mehike\, iz pokrajine Chiapas\, kjer se zapatisti že 30 let borijo za dostojanstveno in avtonomno življenje staroselske skupnosti. \nNjen avtor Subcomandante Marcos je bil dolga leta glasnik zapatističnega gibanja. Moder\, duhovit\, neizprosen borec za življenje. Za svet mnogoterih svetov. Za človeka\, ki živi z naravo in ne proti njej. \n\n\nNakup kart \n\n\nPovezava do originalnega članka
URL:https://kultura.maribor.si/dogodek/zgodba-o-barvah-6-2026-02-20-17-00-00/
LOCATION:Lutkovno gledališče Maribor
CATEGORIES:Dogodki,Kulturno-umetnostna vzgoja
ATTACH;FMTTYPE=image/jpeg:https://kultura.maribor.si/wp-content/uploads/2026/01/6A7A5423_h-1.jpg
END:VEVENT
BEGIN:VEVENT
DTSTART;TZID=Europe/Paris:20250926T090000
DTEND;TZID=Europe/Paris:20250926T094500
DTSTAMP:20260424T144921
CREATED:20250906T020323Z
LAST-MODIFIED:20250924T125258Z
UID:99385-1758877200-1758879900@kultura.maribor.si
SUMMARY:StopTrik: Muca copatarica in prijatelji
DESCRIPTION:Med 24. in 28. 9. v Mariboru poteka 15. StopTrik\, Mednarodni filmski festival\, ki je posvečen stop animaciji. Že deveto leto zapored ponuja kvaliteten program tudi za najmlajše občinstvo. \nFilmski program sestavljajo 4 selekcije za otroke\, ki so prilagojene različnim starostnim skupinam. Posebnost festivala je otroški tekmovalni program v teh delih\, ki prikazuje izbor najboljših animiranih filmov\, prispelih na poziv\, otroci pa med njimi izbrajo zmagovalce v vsaki kategoriji. Filmske projekcije so pospremljene s krajšimi vodenimi pedagoškimi pogovori. Kuratorka bo z otroki med posameznimi animiranimi filmi govorila o zgodbi\, sporočilu\, tehniki animacije in vrednotenju\numetniškega dela (filma). \nMuca Copatarica / Slipper Keeper Kitty\nRok Predin (Staragara\, RTV Slovenija)\, 2024\, Slovenija\, 10’30” \nV Majhni vasi živijo otroci\, ki ne pospravljajo copatkov. Copatki zjutraj izginejo\, saj jih je odnesla Muca Copatarica. Otroci se podajo na pot v gozd\, da bi jo prosili\, naj jim jih vrne. \nAnimirana verzija kultne slovenske pravljice o Muci Copatarici\, ki v letu 2024 praznuje 65 let. \nGospod Filodendron in jablana / Mr. Philodendron and The Apple Three\nGrega Mastnak (OZOR zavod za gibljive slike\, RTV Slovenija)\, 2016\, Slovenija\, 6′ \nGospod Filodendron je žejen\, vendar je vrč za vodo prazen. Takrat nanj padejo kapljice iz oblaka\, ki ga strašno tišči na dež. Filodendron ga prosi za malo vode\, toda oblaku je nerodno\, zato zbeži. Gospod Filodendron pa za njim! V diru se zaleti v jablano\, kar ga zelo razhudi. Nato pa je tu še zoprna mušica. Le kaj lahko pomiri jezo gospoda Filodendrona? Morda slasten jabolčni sok? \nHribci: Zajtrk / Hribci: Breakfast\nMarjan Manček (DZS – Državna založba slovenije)\, 1993\, Slovenija\, 5′ \nNe recite\, da še niste slišali za Hribce – že od pradavnine so tu\, le dobro čez hrib je treba pogledati. Tako se začnejo znameniti Hribci\, strip\, ki ga je napisal in ilustriral Marjan Manček\, in tako se začne tudi avtorjev animirani film. \nV tej zgodbi si zjutraj zaželijo zajtrka\, jajce se skotali v vodo\, namesto ribe pa ujamejo zlato ribico. Kot vedno se jim dogajajo same pra-smešne stvari\, njihove modrosti v obliki hecno zasukanih pregovorov pa so veljavne še danes. \nKoyaa: Vesele vilice / Koyaa: Happy Fork\nKolja Saksida (Zavod ZVVIKS\, RTV Slovenija\, NuFrame)\, 2019\, Slovenija\, 2’45” \nKoyaa pripravlja piknik. Ko je vse nared in želi prijeti vilice\, da bi nanje nabodel sočen paradižnik\, te poletijo in švigajo naokoli\, da jih ni moč ujeti. Le z domiselno idejo lahko Koyii naposled uspe! \nEgon Klobuk / Egon the Hat\nIgor Šinkovec (Kid Animation)\, 2011\, Slovenija\, 2’35’’ \nEgon svoja čustva in razpoloženjska stanja izraža skozi svoj klobuk\, ki ob tem ustrezno spreminja barvo in obliko. Ko se znajde pod drevesom\, ugotovi\, da je lačen in si zaželi jabolko. Toda jabolka ne doseže\, previsoko raste. Pri dogodivščinah Egona spremlja modri kuža\, mu pomaga in ga ob tem uči o pomembnosti sodelovanja in medsebojne pomoči. \nDolžina programa: cca. 45 min
URL:https://kultura.maribor.si/dogodek/stoptrik-muca-copatarica-in-prijatelji-2025-09-26-09-00-00-02-00-2025-09-26-09-45-00-02-00-2/
LOCATION:Lutkovno gledališče Maribor
CATEGORIES:Dogodki,Festivali
ATTACH;FMTTYPE=image/jpeg:https://kultura.maribor.si/wp-content/uploads/2025/09/1720605981-lgmb_default_img_xml_b-4.jpg
END:VEVENT
BEGIN:VEVENT
DTSTART;TZID=Europe/Paris:20250917T160000
DTEND;TZID=Europe/Paris:20250917T160000
DTSTAMP:20260424T144921
CREATED:20250829T020209Z
LAST-MODIFIED:20250915T061343Z
UID:98830-1758124800-1758124800@kultura.maribor.si
SUMMARY:Otroška delavnica stop animacije
DESCRIPTION:Delavnico bo vodila Sandra Jovanovska\, multimedijska umetnica\, ki deluje na področju avdiovizualne umetnosti\, njena asistentka pa bo Brina Fekonja. Na delavnici bomo v tehniki stop animacije ustvarile_i kratek animirani film. Delavnica bo tako kot letošnja festivalska edicija tematsko posvečena komediji\, raziskovali bomo\, kako humor in groteska oblikujeta naše dojemanje sveta. Udeleženci bodo ustvarili kratke animacije s pomočjo piksilacije (tehnika animacije\, v kateri so glavni junaki ljudje)\, z uporabo svojih teles in rabljenih materialov. Med ustvarjanjem bomo raziskovali trajnostne vidike umetnosti in preučevali\, kako lahko ustvarjamo brez odpadkov\, prihranimo čas ter se ob tem zabavamo. Cilj delavnice je razviti kratke animirane filme\, ki izražajo kritičen pogled na družbena vprašanja\, hkrati pa spodbujajo razmislek o uporabnih materialih in naši vlogi v ustvarjalnem procesu. Delavnica je sestavljena iz štirih zaporednih srečanj\, potekala bo v Lutkovnem gledališču Maribor. Termini srečanj:\nsreda\, 17. 9. – petek\, 19. 9. • 16.00 – 19.00\nsobota\, 20. 9. • 11.00 – 16.00 Delavnica je namenjena otrokom in mladim\, starim med 8 in 15 let. Udeležba na delavnici je brezplačna. Število mest je omejeno\, potrebne so predhodne prijave na brina@stoptrik.com. Prijave zbiramo do četrtka\, 11. 9. 2025 oz. do zapolnitve 8 prostih mest.
URL:https://kultura.maribor.si/dogodek/otroska-delavnica-stop-animacije-2025-09-17-16-00-00-02-00/
LOCATION:Lutkovno gledališče Maribor
CATEGORIES:Delavnice
ATTACH;FMTTYPE=image/jpeg:https://kultura.maribor.si/wp-content/uploads/2025/08/1756368336-480584730_1241906387763150_7133137540128316039_n-4.jpg
END:VEVENT
BEGIN:VEVENT
DTSTART;TZID=Europe/Paris:20250911T110000
DTEND;TZID=Europe/Paris:20250911T110000
DTSTAMP:20260424T144921
CREATED:20250827T020307Z
LAST-MODIFIED:20250903T070208Z
UID:98558-1757588400-1757588400@kultura.maribor.si
SUMMARY:Dlani lutkovnih tehnologov
DESCRIPTION:Moderatorka Martina Maurič Lazar \nGostje: Žiga Lebar\, Gregor Lorenci\, Mitja Ritmanič\, Zoran Srdić Janežič \nDogodek se navezuje na pogovore s štirimi lutkovnimi tehnologi\, objavljenimi v katalogu letošnjega Bienala\, kjer mojstri lutkovne tehnologije odkrito in pronicljivo razmišljajo o lutkovni umetnosti\, o njeni umeščenosti v slovenski gledališki in kulturni prostor\, predvsem pa o svojem delu in sebi. Pogovor z njimi se bo potrudil še dodatno osvetliti njihov prispevek k razvoju in stanju slovenske lutkovne tehnologije\, predvsem pa opisati poklic lutkovnega tehnologa\, tega redkega in zelo iskanega\npoklica. Kje se ga je moč priučiti\, kako pristopiti\, kako poiskati lutkovne delavnice in znanja o izdelavi lutk ter seveda kako zdržati v tem tako občutljivem delu z rokami\, ko se nam ob bok postavlja nova tehnologija? Dlani lutkovnih tehnologov govorijo zase\, njihovi “lastniki” pa so izjemni misleci lutkovnosti\, pomembni in nepogrešljivi v vsaki zgodbi ustvarjanja z lutko. \n\nPovezava do originalnega članka
URL:https://kultura.maribor.si/dogodek/dlani-lutkovnih-tehnologov-2025-09-11-11-00-00-02-00/
LOCATION:Lutkovno gledališče Maribor
CATEGORIES:Delavnice
ATTACH;FMTTYPE=image/jpeg:https://kultura.maribor.si/wp-content/uploads/2025/08/1756203213-izdelava-lutke-za-animiran-film-slovo-2016_arhiv-zige-lebarja_bw.jpg
END:VEVENT
BEGIN:VEVENT
DTSTART;TZID=Europe/Paris:20230304T190000
DTEND;TZID=Europe/Paris:20230304T190000
DTSTAMP:20260424T144921
CREATED:20230228T165811Z
LAST-MODIFIED:20230301T085020Z
UID:33237-1677956400-1677956400@kultura.maribor.si
SUMMARY:Film v Minoritih: Smučarske sanje
DESCRIPTION:V soboto\, 4. 3. 2023\, te ob 19.00 vabimo v Lutkovno gledališče Maribor na mariborsko premiero filma Smučarske sanje in pogovor s filmsko ekipo.\n\n\n\n\nNadaljujemo sezono filmskih večerov v izjemni družbi: programska selekcija konzorcija Film in Maribor napoveduje nagrajene\, opazne\, prodorne\, pomembne naslove\, ki razpirajo sodobne teme\, nove poglede in zastavljajo pomembna vprašanja vsakdanjosti. Niz projekcij – sicer poznan kot Filmske nedelje (in sobote) – je bil preoblikovan v Film v Minoritih in te vse do 22. aprila ob sobotah vabimo v Veliko dvorano Lutkovnega gledališča Maribor. \n\n\n\n\n\n\n\n\n\n\n\n\n\n\nPredfilm: Izbor festivala DokuDoc \n\n\n\n\n\n\n\n\n* SMUČARSKE SANJE\n\n\n\n\n\n\n\n\n\nDokumentarni / Haidy Kancler / Slovenija\, Avstrija\, Finska / 2022 / 83′ \nRežija Haidy Kancler scenarij Haidy Kancler\, Iza Strehar\, Boštjan Virc direktorica fotografije Heini Mäntylä montaža Matthias Gugler\, Haidy Kancler glasba Victor Gangl oblikovanje zvoka Julij Zornik\, Samo Jurca grafična oprema Nataša Vugrinec producenti Boštjan Virc\, Ari Matikainen\, Sabine Gruber\, Peter Drossler produkcija Studio Virc (Slovenija) koprodukcija FlairFilm (Avstrija)\, Kinocompany (Finska) organizatorji produkcije Tilen Ravnikar\, Peter Drössler\, Nastja Kotnik Minik\, Nataša Vugrinec\, Tuukka Vartiainen\, Sini Hormio nastopajoče Zakia Mohammadi\, Fariba Ahmadi\, Fatima Nazari\, Ana Tasič\, Ines Vrabič. \n\n\n\n\n\n\n\n\n\n\nV afganistanskem mestu Bamyan Zakia (25)\, Fatima (21) in Fariba (16) sanjajo o tem\, da bi postale profesionalne smučarke in se udeležile olimpijskih iger. Ko jim njihova slovenska trenerka smučanja Ana (30) sporoči\, da lahko odidejo v Evropo na intenzivno usposabljanje za učiteljice smučanja\, se zdi\, da so še korak bližje k uresničitvi svojih sanj. \nDekleta se dve leti intenzivno pripravljajo na potovanje. Ko končno prispejo v Evropo\, pa se takoj soočijo z nepremostljivimi kulturnimi razlikami in strogimi standardi evropskega profesionalnega športa. Dekleta se spopadajo z razočaranjem\, zato jih mikajo druge možnosti\, vključno z nezakonitim pobegom v Nemčijo. Kar se začne kot priložnost slediti svojim sanjam\, se spremeni v nepredvidljiv čustveni tobogan z neprijetnimi posledicami. \nSanje deklet so univerzalne in se je z njimi preprosto identificirati\, njihova kultura pa je veliko bolj zapletena in iz drugih vidikov pogosto težko razumljiva. \nFilm ne obsoja in ne zavzema nobene strani\, ampak ponuja vpogled v čustveno nepredvidljivo potovanje smučarskih sanj. \n\n\n\n\n\n\n\n\n\n\nFilm mariborske filmarke je filmski kritik časopisa Večer Matic Majcen izbral za najboljši film leta 2022. \n\n\n\n\n\n\n\n\n\n\n\n\n\n\n\n\n\n\n\n\n\n\n\n\n\n\n\n\n\n\n\n\n\n\n\n\nvstopnice\n\n\n\n\n\n\n\nOrganizacija in izvedba: Kulturna četrt Minoriti\, Lutkovno gledališče Maribor • programska selekcija: Konzorcij Film in Maribor • program financira: Mestna občina Maribor. \n\n\n\n\n\n\n\n\n\n\n\n\nPovezava do originalnega članka
URL:https://kultura.maribor.si/dogodek/film-v-minoritih-smucarske-sanje-2023-03-04-19-00-00/
LOCATION:Lutkovno gledališče Maribor
CATEGORIES:Dogodki
ATTACH;FMTTYPE=image/jpeg:https://kultura.maribor.si/wp-content/uploads/2023/02/332431040_1896484354064938_1049075720520276062_n.jpg
END:VEVENT
END:VCALENDAR