BEGIN:VCALENDAR
VERSION:2.0
PRODID:-//Kultura Maribor - ECPv6.2.8.1//NONSGML v1.0//EN
CALSCALE:GREGORIAN
METHOD:PUBLISH
X-ORIGINAL-URL:https://kultura.maribor.si
X-WR-CALDESC:Events for Kultura Maribor
REFRESH-INTERVAL;VALUE=DURATION:PT1H
X-Robots-Tag:noindex
X-PUBLISHED-TTL:PT1H
BEGIN:VTIMEZONE
TZID:Europe/Paris
BEGIN:DAYLIGHT
TZOFFSETFROM:+0100
TZOFFSETTO:+0200
TZNAME:CEST
DTSTART:20220327T010000
END:DAYLIGHT
BEGIN:STANDARD
TZOFFSETFROM:+0200
TZOFFSETTO:+0100
TZNAME:CET
DTSTART:20221030T010000
END:STANDARD
TZID:UTC
BEGIN:STANDARD
TZOFFSETFROM:+0000
TZOFFSETTO:+0000
TZNAME:UTC
DTSTART:20190101T000000
END:STANDARD
END:VTIMEZONE
BEGIN:VEVENT
DTSTART;TZID=Europe/Paris:20220813T170000
DTEND;TZID=Europe/Paris:20220813T235900
DTSTAMP:20260421T172241
CREATED:20220803T101424Z
LAST-MODIFIED:20220804T132047Z
UID:24631-1660410000-1660435140@kultura.maribor.si
SUMMARY:LA MATINÉE
DESCRIPTION:La matinée je dnevni get together\, ki temelji na glasbi\, vibraciji in dobri družbi. Popolna simbioza Vas\, plesa željnih obiskovalcev\, ki vas neizmerno cenimo in želimo ugoditi vašim željam ter prebivalcev srca mesta\, ki jim cena\, katere niso pripravljeni plačati\, predstavlja nočni mir.\nZakaj ne bi živeli v harmoniji? Zakaj nam ne bi uspelo\, če pa so po podobnem vzoru temeljev na dnevnem dogajanju narejeni premnogi festivali kot naprimer Awakenings in Garden? \nDa matineja uspe potrebujemo čim bolj širok konsenz. Mi se bomo zbrali kar v največjem številu\, katerega odraža all-star družinski line up. Od tebe pa pričakujemo\, da se dogodka udeležiš kar se da zgodaj\, kar spodbujajo tudi prijazne cene vstopnic za early arrival in free čevapi pred sončnim zahodom… \nVozni red:\nPolner\nDacho b2b Marc Mare\nRotorMotor\nGlorex\nPholia \n\nVstopnina:\n5€ do 18.00\n7€ do 20.00\n12€ po 20.00 \nStarostna omejitev: 18+ \n\n\nTovarna urbane kulture \n\n\n\nPovezava do originalnega članka
URL:https://kultura.maribor.si/dogodek/la-matin-e-2022-08-13-17-00-00-2022-08-13-23-59-00/
LOCATION:Klub Wetrinsky\n30 Vetrinjska ulica Maribor\, Upravna enota Maribor\, 2000 Slovenia
CATEGORIES:Dogodki,Glasba
ATTACH;FMTTYPE=image/jpeg:https://kultura.maribor.si/wp-content/uploads/2022/08/La-Matinee-13.08._b.jpg
END:VEVENT
BEGIN:VEVENT
DTSTART;TZID=Europe/Paris:20220812T170000
DTEND;TZID=Europe/Paris:20220812T170000
DTSTAMP:20260421T172241
CREATED:20220803T112103Z
LAST-MODIFIED:20220804T131955Z
UID:24633-1660323600-1660323600@kultura.maribor.si
SUMMARY:Zorica x Wetrinsky
DESCRIPTION:Junija nismo imeli sreče z vremenom\, tokrat pa verjamemo\, da bodo meteorološki bogovi na naši strani.\nDve kafani dveh največjih slovenskih mest bosta v duhu povezovanja izvedli nepričakovani preobrat\, tako imenovani OI’ switcheroo. V prvi ediciji sklopa dogodkov bo Wetrinsky za en dan postal Zorica. Obrazi Zorice bodo tako za mešalko\, kot na drugi strani barskega pulta\, pričakujete pa lahko tudi kakšen twist v ponudbi cocktailov. \nZačenjamo ob 17:00\, z druženjem in plesnimi koraki pa nadaljujemo tudi po sončnem zahodu.. \n\n\nTovarna urbane kulture \n\n\n\nPovezava do originalnega članka
URL:https://kultura.maribor.si/dogodek/zorica-x-wetrinsky-2022-08-12-17-00-00/
LOCATION:Klub Wetrinsky\n30 Vetrinjska ulica Maribor\, Upravna enota Maribor\, 2000 Slovenia
CATEGORIES:Dogodki,Glasba
ATTACH;FMTTYPE=image/jpeg:https://kultura.maribor.si/wp-content/uploads/2022/08/Vetrinjski_sreda_ZORICA-1-5_b.jpg
END:VEVENT
BEGIN:VEVENT
DTSTART;TZID=UTC:20190622T234500
DTEND;TZID=UTC:20190623T020000
DTSTAMP:20260421T172241
CREATED:20211106T215048Z
LAST-MODIFIED:20211106T215048Z
UID:3493-1561247100-1561255200@kultura.maribor.si
SUMMARY:YADAVA (GBR)
DESCRIPTION:Yadava Campbell\, soustanovitelj 5-članskega manchestrskega kolektiva So Flute\, je prisoten na britanski glasbeni sceni že vrsto let\, a je nase najbolj opozoril preteklo leto z izdajo albuma It Rains Here pri skoraj že kultni londonski house založbi Church.\nPoleg produkcije se ukvarja še z vrtenjem glasbe\, prav tako vodi svojo radijsko oddajo na radio NTS. Izdaja pri založbah Church\, Banoffe Pies ter AdHoc Records.\nV Maribor\, v Wetrinsky\, prihaja s skrbno izbrano »soulful« plesno kolekcijo\, zelo obetavno za dolgo festivalsko soboto.
URL:https://kultura.maribor.si/dogodek/yadava-gbr-/
LOCATION:Klub Wetrinsky\n30 Vetrinjska ulica Maribor\, Upravna enota Maribor\, 2000 Slovenia
ATTACH;FMTTYPE=image/jpeg:https://kultura.maribor.si/wp-content/uploads/2021/11/images.squarespace-cdn.com_content_v1_54e6903be4b0a4e937a0f2fc_1561112921018-X8WGGH0SNNRVQ2CXAM3C_yadava.jpgformat750w.jpg
END:VEVENT
END:VCALENDAR