BEGIN:VCALENDAR
VERSION:2.0
PRODID:-//Kultura Maribor - ECPv6.2.8.1//NONSGML v1.0//EN
CALSCALE:GREGORIAN
METHOD:PUBLISH
X-ORIGINAL-URL:https://kultura.maribor.si
X-WR-CALDESC:Events for Kultura Maribor
REFRESH-INTERVAL;VALUE=DURATION:PT1H
X-Robots-Tag:noindex
X-PUBLISHED-TTL:PT1H
BEGIN:VTIMEZONE
TZID:UTC
BEGIN:STANDARD
TZOFFSETFROM:+0000
TZOFFSETTO:+0000
TZNAME:UTC
DTSTART:20190101T000000
END:STANDARD
END:VTIMEZONE
BEGIN:VEVENT
DTSTART;TZID=UTC:20190920T190000
DTEND;TZID=UTC:20191012T200000
DTSTAMP:20260424T010953
CREATED:20211106T203325Z
LAST-MODIFIED:20211106T203325Z
UID:1197-1569006000-1570910400@kultura.maribor.si
SUMMARY:NATAŠA PROSENC STEARNS: KODA L – FRAGMENTI
DESCRIPTION:Nataša Prosenc Stearns: koda L – Fragmenti\n20. 9.–12. 10. 2019\nKiBela / MMC KIBLA\, odprtje v petek\, 20. 9. 2019\, ob 19. uri \nKODA L – Fragmenti\, video postavitev v galeriji KiBela\, predstavlja izbor iz nove serije videov Nataše Prosenc Stearns\, ki jih je posnela za istoimensko opero Milka Lazarja.  \nPo besedah libretistke Eve Kraševec “koda L pričuje o moči in globini človeškega čustvovanja – je svojevrsten izbor v današnji čas in prostor ujetih trenutkov emocionalne kulture\, ki se po navdihu Barthesovih Fragmentov ljubezenskega diskurza napaja iz mitov\, arhetipov\, filozofskih del in intimnega.” \nProjekcije na prosojne paravane integrirajo sence\, silhuete in odseve arhitekturnih elementov. Pojavi se prostor v prostoru\, ki se je v operi vzpostavil na odru\, v galeriji pa gledalci vanj vstopajo. \nTema človeške intime je umetnici blizu že od začetka njenega ustvarjanja. Zanima jo “human condition” – kaj se dogaja s človekom v sodobnem svetu\, kje je naša psiha\, naša duša\, naše srce. Kot že velikokrat prej\, raziskuje te teme skozi interpretacije človeškega telesa\, figure\, ki pa je vedno integrirana v okolje. Dela so gibljivi kolaži\, ki temeljijo na plastenju podob. Upodabljajo stanja neprestanega porajanja\, integriteta telesa razpada\, vzpostavlja nove povezave z okoljem in sugerira nove možnosti regeneracije. Transformacije se dogajajo pod vplivom vode\, peska in drugih elementov\, ki se v delu Nataše Prosenc Stearns iz naravnih elementov spreminjajo v likovne elemente dekonstrukcije ali integracije – v nekaterih delih povzročajo razpad podobe\, v drugih pa so snov\, ki povezuje in varuje.  \nIntenzivno ukvarjanje s telesom je umetničin odziv na odtujeno eksistenco sodobnega človeka\, ki postaja vse bolj “breztelesna”\, ker je velik del medčloveških odnosov preseljen iz fizičnega sveta na ekrane in v virtualni prostor Interneta. \nVljudno vabljeni na odprtje video postavitve z naslovom koda L – Fragmenti\, ki bo v petek\, 20. 9. 2019\, ob 19. uri\, v galeriji KiBela (MMC KIBLA)\, Ulica kneza Koclja 9\, Maribor. \n——- \nkoda L – Fragmenti\nVideo instalacija Nataše Prosenc Stearns \nPo motivih opere koda L skladatelja Milka Lazarja\nOblikovanje paravanov Rocc \nOpera koda L po libretu Eve Kraševec\, v režiji in scenografiji Rocca je bila krstno uprizorjena marca 2019 v SNG Opera in Balet Ljubljana.  \nV videu nastopajo:\nJasmine Akakpo\, Issac Silva\, Carmela Segal\, Andrew English\, Jmack\, Frankie Arounwong\, Danielle Viale in Ellis Moye \nSnemalka: Lisa Stoll
URL:https://kultura.maribor.si/dogodek/natasa-prosenc-stearns-koda-l-fragmenti/
LOCATION:Kibla\nUlica kneza Koclja 9 Maribor\, Upravna enota Maribor\, 2000 Slovenia
ATTACH;FMTTYPE=image/jpeg:https://kultura.maribor.si/wp-content/uploads/2021/11/images.squarespace-cdn.com_content_v1_54e6903be4b0a4e937a0f2fc_1568622694336-A6I3GVW3QNOI5F4RY300_70502764_2554474337933604_5669925819397439488_n.jpgformat1000w.jpg
END:VEVENT
END:VCALENDAR