BEGIN:VCALENDAR
VERSION:2.0
PRODID:-//Kultura Maribor - ECPv6.2.8.1//NONSGML v1.0//EN
CALSCALE:GREGORIAN
METHOD:PUBLISH
X-WR-CALNAME:Kultura Maribor
X-ORIGINAL-URL:https://kultura.maribor.si
X-WR-CALDESC:Events for Kultura Maribor
REFRESH-INTERVAL;VALUE=DURATION:PT1H
X-Robots-Tag:noindex
X-PUBLISHED-TTL:PT1H
BEGIN:VTIMEZONE
TZID:UTC
BEGIN:STANDARD
TZOFFSETFROM:+0000
TZOFFSETTO:+0000
TZNAME:UTC
DTSTART:20190101T000000
END:STANDARD
END:VTIMEZONE
BEGIN:VEVENT
DTSTART;TZID=UTC:20191030T200000
DTEND;TZID=UTC:20191030T213000
DTSTAMP:20260423T105711
CREATED:20211106T203304Z
LAST-MODIFIED:20211106T203304Z
UID:946-1572465600-1572471000@kultura.maribor.si
SUMMARY:STAND UP AVTMIGECI - GOST: MARKO ŽERJAL
DESCRIPTION:STAND UP AVTMIGECI – GOST: MARKO ŽERJAL\nNova sezona Avtmigecov je tu ! \n V KGB se bomo meli fajn v sredo 30.10. ob osmih zvečer.  \n Aja – kaj sploh smo Avtmigeci ? Smo mladi Štajerski komiki\, se nam pa pridružijo na odru tudi ostali iz drugih koncev Slovenije. Vedno torej vidiš nove ljudi na odru\, vedno slišiš nove fore\, lahko pa se nam pred mikrofonom pridružiš tudi ti 😉 \n Povezoval bo tokrat Marko Žerjal\, skupaj z njim pa bomo na odru: David Gorinšek\, Rok Škrlep\, Matej Pušnik in Matic Ačko. \n Pridi se smejat z nami 🙂 30.10. ob 20:00 v KGB.
URL:https://kultura.maribor.si/dogodek/stand-up-avtmigeci-gost-marko-zerjal/
LOCATION:KGB MARIBOR\nVojašniški trg 5 2000 MARIBOR
ATTACH;FMTTYPE=image/jpeg:https://kultura.maribor.si/wp-content/uploads/2021/11/images.squarespace-cdn.com_content_v1_54e6903be4b0a4e937a0f2fc_1571059395481-Q6VS3SR1OJSID0QHTNK6_72222375_798673720545901_8023901706758651904_n.jpgformat1000w.jpg
END:VEVENT
END:VCALENDAR