BEGIN:VCALENDAR
VERSION:2.0
PRODID:-//Kultura Maribor - ECPv6.2.8.1//NONSGML v1.0//EN
CALSCALE:GREGORIAN
METHOD:PUBLISH
X-ORIGINAL-URL:https://kultura.maribor.si
X-WR-CALDESC:Events for Kultura Maribor
REFRESH-INTERVAL;VALUE=DURATION:PT1H
X-Robots-Tag:noindex
X-PUBLISHED-TTL:PT1H
BEGIN:VTIMEZONE
TZID:UTC
BEGIN:STANDARD
TZOFFSETFROM:+0000
TZOFFSETTO:+0000
TZNAME:UTC
DTSTART:20210101T000000
END:STANDARD
TZID:Europe/Paris
BEGIN:DAYLIGHT
TZOFFSETFROM:+0100
TZOFFSETTO:+0200
TZNAME:CEST
DTSTART:20190331T010000
END:DAYLIGHT
BEGIN:STANDARD
TZOFFSETFROM:+0200
TZOFFSETTO:+0100
TZNAME:CET
DTSTART:20191027T010000
END:STANDARD
END:VTIMEZONE
BEGIN:VEVENT
DTSTART;TZID=UTC:20210923T120000
DTEND;TZID=UTC:20210923T173000
DTSTAMP:20260421T205347
CREATED:20211106T214341Z
LAST-MODIFIED:20211109T162920Z
UID:3136-1632398400-1632418200@kultura.maribor.si
SUMMARY:MEDNARODNA KONFERENCA HAPPY CITY: MLADI PO PANDEMIJI/ YOUTH AFTER PANDEMIC
DESCRIPTION:Mednarodna konferenca Happy City: Mladi po pandemiji bo naslovila teme mentalnega zdravja\, perspektiv prihodnosti ter mest prihodnosti\, ki jih bodo oblikovali mladi. S svojih perspektiv bodo sodelovali in iskali prave odgovore za nadaljnje delovanje odločevalci\, strokovnjaki in vodilni mladi iz lokalnih okolij in evropskih nivojev delovanja.\nV novembru 2020 je prva konferenca Happy City naslovila spremembo položaja mladih v evropskih mestih v času pandemije virusa COVID-19. Čeprav pandemije še ni konec\, pa so imela evropska mesta možnost preoblikovati svoje realnosti\, medtem\, ko se precepljenost populacije zvišuje.\nA kljub temu bodo določene posledice zdravstvene krize ostale z nami več let\, morda celo desetletje. Kaj se je spremenilo\, na katere stvari gledamo drugače\, kako lahko evropska mesta in mladi pot razvoja nadaljujejo skupaj?\nNa konferenci HAPPY CITY bodo sodelovali predstavniki in predstavnice Organizacije združenih narodov\, Evropske komisije\, Evropskega mladinskega foruma\, Mreže evropskih prestolnic mladih in drugih.\nKonferenca bo potekala v angleškem jeziku.\n PRIJAVA ZA UDELEŽBO V ŽIVO\nPRIJAVA ZA SPREMLJANJE ČEZ SPLET\nPROGRAM (SREDNJEEVROPSKI ČAS)\n12.00 – 12.20: Uvodni pozdrav gostiteljev\n12.20 – 13.30: Sklop 1: Podpora mest mladim\, ki se soočajo z izzivi na področju mentalnega zdravja\n13.30 – 14.15: Odmor za malico / Odmor od ekranov\n14.15 – 15.30: Sklop 2: Podpora mest mladim v njihovem odločanju o lastni prihodnosti\n15.30 – 16.00: Odmor za malico / Odmor od ekranov\n16.00 – 17.15: Sklop 3: Angažma mladih v oblikovanju mest prihodnosti\n Vse aktivnosti v organizaciji MKC Maribor so izvedene v skladu z veljavnimi odredbami vlade za preprečevanje širjenja COVID-19 in priporočili NIJZ.\nOrganizacija: PONT Group Cluj-Napoca in MKC Maribor\nSerija dogodkov Happy City poteka v sklopu projekta Urban Citizen Y\, ki je podprt v programu Evropa za državljane Evropske unije. Partnerji projekta so: PONT Group (v imenu Mestne občine Cluj-Napoca\, Romunija)\, Mladinski kulturni center (v imenu Mestne občine Maribor\, Slovenija)\, Fundaçao Bracara Augusta (v imenu Mestne občine Braga\, Portugalska)\, UNESCO Youth Club (v imenu Mestne občine Solun\, Grčija)\, OPENS (v imenu Mestne občine Novi Sad\, Srbija) in Mestna občina Amiens (Francija).
URL:https://kultura.maribor.si/dogodek/mednarodna-konferenca-happy-city-mladi-po-pandemiji-youth-after-pandemic/
LOCATION:IZUM Maribor\n17 Prešernova ulica Maribor\, Upravna enota Maribor\, 2000 Slovenia
CATEGORIES:Delavnice
ATTACH;FMTTYPE=image/png:https://kultura.maribor.si/wp-content/uploads/2021/11/images.squarespace-cdn.com_content_v1_54e6903be4b0a4e937a0f2fc_1631877889469-MXEBZBNGP2ZW3WYMLT65_TDPfbPOST2021-09-14.pngformat1000w.png
END:VEVENT
BEGIN:VEVENT
DTSTART;TZID=Europe/Paris:20190515T180000
DTEND;TZID=Europe/Paris:20190515T210000
DTSTAMP:20260421T205347
CREATED:20211106T215425Z
LAST-MODIFIED:20211106T215425Z
UID:3807-1557943200-1557954000@kultura.maribor.si
SUMMARY:RUDI URAN - FOTOGRAFSKA RAZSTAVA
DESCRIPTION:Vabimo vas in vaše prijatelje\,\nna otvoritev razstave fotografij RUDIJA URANA\,\nter odprtja RAZSTAVIŠČA IZUM\,\nki bo v sredo 15. maja\, ob 18.00 uri.\nRazstavo in novo razstavišče bo odprl direktor IZUM-a\,\ndr. Aleš Bošnjak.\nPo otvoritvi vas vabimo na manjšo pogostitev in druženje.
URL:https://kultura.maribor.si/dogodek/rudi-uran-fotografska-razstava/
LOCATION:IZUM Maribor\n17 Prešernova ulica Maribor\, Upravna enota Maribor\, 2000 Slovenia
ATTACH;FMTTYPE=image/jpeg:https://kultura.maribor.si/wp-content/uploads/2021/11/images.squarespace-cdn.com_content_v1_54e6903be4b0a4e937a0f2fc_1557481127453-OWWG2D92RB4M1GIY0TIQ_rudi.jpgformat1000w.jpg
END:VEVENT
BEGIN:VEVENT
DTSTART;TZID=Europe/Paris:20190514T130000
DTEND;TZID=Europe/Paris:20190514T143000
DTSTAMP:20260421T205347
CREATED:20211106T215444Z
LAST-MODIFIED:20211106T215444Z
UID:3825-1557838800-1557844200@kultura.maribor.si
SUMMARY:STOP STRESU IN IZGORELOSTI NA DELOVNEM MESTU (PREDAVANJE)
DESCRIPTION:Vabimo vas na brezplačno predavanje v okviru Tedna vseživljenjskega učenja:\nSTOP STRESU IN IZGORELOSTI NA DELOVNEM MESTU\nPredavatelj: dr. Uroš Dobnikar\, dr. med.\,\nzavod Šola luči\n__________________________________________________\n14. maj 2019\, ob 13.00\nIZUM – Velika dvorana\, Prešernova 17\, Maribor \nStres je glavni povzročitelj slabega počutja\, izčrpanosti\, slabe volje\, slabih odnosov in bolezni. Današnji  način življenja je že v osnovi stresno naravnan. Vedno bolj živimo zunaj sebe in vedno več časa porabimo\, da zadovoljimo potrebe in pričakovanja drugih. V službi smo večji del življenja\, zato je pomembno\, kako kvalitetno ta čas preživimo. Sistem\, v katerem delamo\, na žalost ni nastavljen tako\, da bi skrbel za naše dobro počutje in zdravje. Pomembno je\, da se tega zavedamo in da vemo\, da moramo sami poskrbeti za svoje počutje\, razpoloženje in zdravje. Tako lahko bistveno zmanjšamo stres in njegov učinek na naše življenje.
URL:https://kultura.maribor.si/dogodek/stop-stresu-in-izgorelosti-na-delovnem-mestu-predavanje-/
LOCATION:IZUM Maribor\n17 Prešernova ulica Maribor\, Upravna enota Maribor\, 2000 Slovenia
ATTACH;FMTTYPE=image/jpeg:https://kultura.maribor.si/wp-content/uploads/2021/11/images.squarespace-cdn.com_content_v1_54e6903be4b0a4e937a0f2fc_1557488380339-OZTL3FKXMV9NZKTKLG1P_stres1.jpgformat1000w.jpg
END:VEVENT
END:VCALENDAR