BEGIN:VCALENDAR
VERSION:2.0
PRODID:-//Kultura Maribor - ECPv6.2.8.1//NONSGML v1.0//EN
CALSCALE:GREGORIAN
METHOD:PUBLISH
X-ORIGINAL-URL:https://kultura.maribor.si
X-WR-CALDESC:Events for Kultura Maribor
REFRESH-INTERVAL;VALUE=DURATION:PT1H
X-Robots-Tag:noindex
X-PUBLISHED-TTL:PT1H
BEGIN:VTIMEZONE
TZID:UTC
BEGIN:STANDARD
TZOFFSETFROM:+0000
TZOFFSETTO:+0000
TZNAME:UTC
DTSTART:20190101T000000
END:STANDARD
END:VTIMEZONE
BEGIN:VEVENT
DTSTART;TZID=UTC:20190920T190000
DTEND;TZID=UTC:20191213T204500
DTSTAMP:20260425T182735
CREATED:20211106T203325Z
LAST-MODIFIED:20211106T203325Z
UID:1199-1569006000-1576269900@kultura.maribor.si
SUMMARY:TRANCEWORKS - POTOVANJA Z DIHOM IN ZVOKOM
DESCRIPTION:TranceWorks\n:::::::::::::::::::::\nEnkrat mesečno vas vabim na eksperimentalno-izkustvene delavnice/”potopitvene” koncerte\, ki bodo v prvem delu vsebovali predstavitev in izvedbo zelo intenzivnih dihalnih vaj; v drugem delu pa bodo udeleženci popeljani na notranje potovanje in/ali globoko sprostitev s pomočjo zvočno-glasbenega izvajanja v živo s chakapo\, tolkali\, ropotuljami\, glasom\, piščalmi\, Koshi bells\, itd.\nV okviru delavnic bom predstavil tudi lastno delo z določenimi drugimi tehnikami in pristopi.  \nKJE – Holističen center Moč srca\, Maribor \nKDAJ – v PETEK 20.09. od 19:00 do 21:00\n PETEK 18.10. od 19:00 do 21:00\n PETEK 15.11. od 19:00 do 21:00\n PETEK 13.12. od 19:00 do 21:00 \nKDO – vodi Andrej Hrvatin alias Nimetu\, glasbenik in oblikovalec zvoka ter avtor Nimetu Antidepressant metode (več informacij: www.nimetu.org ) \nCENA: prostovoljni prispevki \nPRIJAVE na: info@satoration.org \nUdeleženci s seboj prinesete podlogo za ležanje (nekaj jih je na voljo v prostoru)\, vodo in po želji kakšno koco za pokriti. Oblečeni bodite v udobna oblačila \n:::::::::::::::::::::::::::::::::::::::::::::::::::: \nNamen delavnice – butičnega zvočnega dogodka je\, da hkrati odnesete s seboj nekaj koristnih tehnik za domačo uporabo\, kakšen nov (v)pogled ali inspiracijo ter da doživite posebno zvočno doživetje\, ki vas lahko popelje v globoko imaginacijo in notranje svetove.  \nAndrej Hrvatin -.Nimetu je glasbenik in oblikovalec zvoka\, ki več kot 20 let raziskuje tudi spremenjena stanja zavesti ter globlje učinke zvoka na ljudi.  \nKakovost njegovega tovrstnega delovanja so prepoznali tudi nekateri vodilni “igralci” na tem področju iz tujine\, saj je pravkar izšla njegova glasba z dodanimi Hemi-sync frekvencami\, za pomembno ameriško založbo Hemi-sync ( https://hemi-sync.com/product/heros-journey/ – zapuščina Robert A.Monroe-ja) ter sodeluje na novem “šamansko-potovalnem” albumu tolkalca in transpersonalnega psihologa Byrona Metcalfa in pevke Jennifer Grais (oba glasbenika\, ki sta sicer imela tudi impresivno kariero v “običajni” glasbi) sta napredna praktikanta core šamanizma\, Byron Metcalf pa je tudi transpersonalni psiholog ter legenda “trans” vzbujajoče tolkalske glasbe – sodeloval je tudi s takimi legendami “psihadelične” revolucije\, kot sta Stanislav Grof in Ralf Metzner)  \nVeč informacij o avtorju delavnice: www.nimetu.org \nVideo: https://vimeo.com/268138675  \nIntervju v Večeru: https://www.vecer.com/publiko-razvajam-ne-podcenjujem-je-6245701
URL:https://kultura.maribor.si/dogodek/tranceworks-potovanja-z-dihom-in-zvokom/
LOCATION:Holistični center\n12 Vetrinjska ulica Maribor\, Upravna enota Maribor\, 2000 Slovenia
ATTACH;FMTTYPE=image/jpeg:https://kultura.maribor.si/wp-content/uploads/2021/11/images.squarespace-cdn.com_content_v1_54e6903be4b0a4e937a0f2fc_1568914723946-4KGQ2LUX4PZI13W00W4Y_67820876_2409238179115678_4913810403328262144_n.jpgformat1000w.jpg
END:VEVENT
END:VCALENDAR