BEGIN:VCALENDAR
VERSION:2.0
PRODID:-//Kultura Maribor - ECPv6.2.8.1//NONSGML v1.0//EN
CALSCALE:GREGORIAN
METHOD:PUBLISH
X-ORIGINAL-URL:https://kultura.maribor.si
X-WR-CALDESC:Events for Kultura Maribor
REFRESH-INTERVAL;VALUE=DURATION:PT1H
X-Robots-Tag:noindex
X-PUBLISHED-TTL:PT1H
BEGIN:VTIMEZONE
TZID:Europe/Paris
BEGIN:DAYLIGHT
TZOFFSETFROM:+0100
TZOFFSETTO:+0200
TZNAME:CEST
DTSTART:20180325T010000
END:DAYLIGHT
BEGIN:STANDARD
TZOFFSETFROM:+0200
TZOFFSETTO:+0100
TZNAME:CET
DTSTART:20181028T010000
END:STANDARD
BEGIN:DAYLIGHT
TZOFFSETFROM:+0100
TZOFFSETTO:+0200
TZNAME:CEST
DTSTART:20190331T010000
END:DAYLIGHT
BEGIN:STANDARD
TZOFFSETFROM:+0200
TZOFFSETTO:+0100
TZNAME:CET
DTSTART:20191027T010000
END:STANDARD
END:VTIMEZONE
BEGIN:VEVENT
DTSTART;TZID=Europe/Paris:20190201T210000
DTEND;TZID=Europe/Paris:20190201T235900
DTSTAMP:20260424T130529
CREATED:20211106T215623Z
LAST-MODIFIED:20211106T215623Z
UID:4495-1549054800-1549065540@kultura.maribor.si
SUMMARY:EKLEKTIKA #13 - WHO
DESCRIPTION:M U Z I K A – As Soulful As It Gets\nI Z B I R A – WHO aka ATA-TEKA\n#nuffsaid
URL:https://kultura.maribor.si/dogodek/eklektika-13-who/
LOCATION:Gramofonoteka\n7 Tyrševa ulica Maribor\, Upravna enota Maribor\, 2000 Slovenia
ATTACH;FMTTYPE=image/jpeg:https://kultura.maribor.si/wp-content/uploads/2021/11/images.squarespace-cdn.com_content_v1_54e6903be4b0a4e937a0f2fc_1549020229041-AOU3CW4NALIXIIGKVSDU_predstava.jpgformat1000w.jpg
END:VEVENT
BEGIN:VEVENT
DTSTART;TZID=Europe/Paris:20190130T210000
DTEND;TZID=Europe/Paris:20190130T230000
DTSTAMP:20260424T130529
CREATED:20211106T215625Z
LAST-MODIFIED:20211106T215625Z
UID:4512-1548882000-1548889200@kultura.maribor.si
SUMMARY:SWING POSLUŠALNICA: RAGTIME
DESCRIPTION:Pozor\, pozor! Bliža se prva edicija swing poslušalnice. \nSWING POSLUŠALNICA je sklop mini/ kratkih predavanj o zgodovini swing glasbe in plesa na katerih se bodo zavrteli tudi komadi iz vinilk oz. gramofonskih plošč. \nTema prve poslušalnice\, ki bo v sredo\, 30. 1.\, ob 21ih\, je Ragtime – zvrst glasbe\, ki je doživela svoj vrhunec med letoma 1895 in 1918. Imela je značilen sinkopiran ritem\, po katerem je dobila tudi ime. Med vidne izvajalce te zvrsti sodi Scott Joplin. \nNa srečanjih\, ki se bodo zvrstila okvirno enkrat mesečno (ob sredah)\, bomo skupaj potovali skozi zgodovino swing glasbe in raziskovali posamezna obdobja in žanre. \nVstopnine ni!\nČaka vas dobra družba\, novo znanje in odličen ambient! \nSe vidimo v Gramofonoteka! \nVaši\,\nThe SwingBrats \nAvtorica risbe | Mina Gølc
URL:https://kultura.maribor.si/dogodek/swing-poslusalnica-ragtime/
LOCATION:Gramofonoteka\n7 Tyrševa ulica Maribor\, Upravna enota Maribor\, 2000 Slovenia
ATTACH;FMTTYPE=image/jpeg:https://kultura.maribor.si/wp-content/uploads/2021/11/images.squarespace-cdn.com_content_v1_54e6903be4b0a4e937a0f2fc_1548715877224-UQZEM0V9P07OAE3EFQWX_ragitime.jpgformat1000w.jpg
END:VEVENT
BEGIN:VEVENT
DTSTART;TZID=Europe/Paris:20181231T210000
DTEND;TZID=Europe/Paris:20190101T030000
DTSTAMP:20260424T130529
CREATED:20211106T215651Z
LAST-MODIFIED:20211106T215651Z
UID:4626-1546290000-1546311600@kultura.maribor.si
SUMMARY:SREČNA NOVA DISKO-TEKA!
DESCRIPTION:Za gramofoni: Who in Urbadur\nGlasba: Disco\, NuDisco\nDressCode: Disco\nRazpoloženje: Disco\nTemaPogovorov: Disco\nVstopnina: 0\nRezervacija miz: nema \n#notanotherdiscoparty
URL:https://kultura.maribor.si/dogodek/srecna-nova-disko-teka-/
LOCATION:Gramofonoteka\n7 Tyrševa ulica Maribor\, Upravna enota Maribor\, 2000 Slovenia
ATTACH;FMTTYPE=image/jpeg:https://kultura.maribor.si/wp-content/uploads/2021/11/images.squarespace-cdn.com_content_v1_54e6903be4b0a4e937a0f2fc_1545328845969-NZB3KEV8PXDN1HCECMCI_gramfonoteka2.jpgformat1000w.jpg
END:VEVENT
BEGIN:VEVENT
DTSTART;TZID=Europe/Paris:20181208T210000
DTEND;TZID=Europe/Paris:20181209T010000
DTSTAMP:20260424T130529
CREATED:20211106T215714Z
LAST-MODIFIED:20211106T215714Z
UID:4826-1544302800-1544317200@kultura.maribor.si
SUMMARY:SELEKTIKA #01: WHO & URBADUR
DESCRIPTION:Selektika #01 \nGlasbeni večer\, kjer izbirčnost nadvlada razum\, tihe melodije preglasijo glasne\, analogno odpihne digitalno\, večer ki prisili didžeja\, da poseže še globje v svoje krejte\, gost pa mora vsemu temu prisluhniti.  \nIzbirata in razvajata Who in Urbadur \nSe vidimo!
URL:https://kultura.maribor.si/dogodek/selektika-01-who-urbadur/
LOCATION:Gramofonoteka\n7 Tyrševa ulica Maribor\, Upravna enota Maribor\, 2000 Slovenia
ATTACH;FMTTYPE=image/jpeg:https://kultura.maribor.si/wp-content/uploads/2021/11/images.squarespace-cdn.com_content_v1_54e6903be4b0a4e937a0f2fc_1544007118810-AEYLVLDBH1AFA1ODFGUB_selektika.jpgformat1000w.jpg
END:VEVENT
BEGIN:VEVENT
DTSTART;TZID=Europe/Paris:20181207T200000
DTEND;TZID=Europe/Paris:20181208T010000
DTSTAMP:20260424T130529
CREATED:20211106T215727Z
LAST-MODIFIED:20211106T215727Z
UID:4846-1544212800-1544230800@kultura.maribor.si
SUMMARY:EKLEKTIKALIVE #6: KOOLADE
DESCRIPTION:Koolade (Blackout Entertainment Croatia\, Blvnt Records) \nMatko Šašek aka Koolade se je na hrvaški podtalni sceni pojavlja od leta 1996\, je nepogrešljiv člen ekipe Blackout Ent. Croatia\, ki je najbolj zaslužna za preboj in uveljavitev hip-hop glasbe na hrvaški glasbeni sceni.  \nBite je do danes zložil za številne svetovno priznane umetnike\, kot so Masta Ace\, Ghostface Killah\, Bow Wow\, Sadat X\, Styles P\, Diamond D\, Das EFX\, Peedi Crakk itd\, medtem ko je na balkanu najbolj znan po kolaboracijah s Tram 11 in Edo Maajko ter Frenkijem. \nV Mariboru bo nastopil prvič\, česar se veselimo tako mi\, kot on sam. Pričakujte izbrano selekcijo multižanrskih beatov preko katerih bo preigraval sinth! \nPred nami prva decembrska eklektika\, ki je preprosto ne gre zamuditi!
URL:https://kultura.maribor.si/dogodek/eklektikalive-6-koolade/
LOCATION:Gramofonoteka\n7 Tyrševa ulica Maribor\, Upravna enota Maribor\, 2000 Slovenia
ATTACH;FMTTYPE=image/jpeg:https://kultura.maribor.si/wp-content/uploads/2021/11/images.squarespace-cdn.com_content_v1_54e6903be4b0a4e937a0f2fc_1543267578983-PGRCF2Z3Q5JCDBAIUHHF_gramofonoteka_eklektika6.jpgformat1000w.jpg
END:VEVENT
BEGIN:VEVENT
DTSTART;TZID=Europe/Paris:20181201T200000
DTEND;TZID=Europe/Paris:20181201T235900
DTSTAMP:20260424T130529
CREATED:20211106T215737Z
LAST-MODIFIED:20211106T215737Z
UID:4892-1543694400-1543708740@kultura.maribor.si
SUMMARY:DIDN'T HAPPEN #1
DESCRIPTION:Nisi bil\, nisi videl!\nNi fotk\, ni bilo dogodka! \nGramofonoteka predstavlja serijo dogodkov\, ki se nikoli niso in nikoli ne bodo zgodili – Didn’t Happen! Ali bo to koncert\, DJ dogodek\, filmska projekcija\, izobraževalna delavnica\, degustacija… še sami ne vemo\, saj si nismo zastavili nikakršnih pravil\, naše edino vodilo je\, da mora biti zabavno in da ne bomo najavljali vsebin\, morda zgolj podali kakšen namig tu in tam! \nVabljeni na prvi Didn’t Happen v soboto 1. decembra ob približno 20 uri!
URL:https://kultura.maribor.si/dogodek/didn-t-happen-1/
LOCATION:Gramofonoteka\n7 Tyrševa ulica Maribor\, Upravna enota Maribor\, 2000 Slovenia
ATTACH;FMTTYPE=image/jpeg:https://kultura.maribor.si/wp-content/uploads/2021/11/images.squarespace-cdn.com_content_v1_54e6903be4b0a4e937a0f2fc_1543267457251-G8V2H35V1HQNM1YQGDL3_gramofonoteka_didnt-happened.jpgformat1000w.jpg
END:VEVENT
BEGIN:VEVENT
DTSTART;TZID=Europe/Paris:20181130T210000
DTEND;TZID=Europe/Paris:20181201T010000
DTSTAMP:20260424T130529
CREATED:20211106T215737Z
LAST-MODIFIED:20211106T215737Z
UID:4902-1543611600-1543626000@kultura.maribor.si
SUMMARY:EKLEKTIKA #5: YNGFIREFLY
DESCRIPTION:Urban Senekovič aka YNGFirefly – tisti najbolj talentirani domači beatmaker\, ki sta ga slava in denar iz hip-hopa zapeljala v t-c-rap vode ter hkrati tisti podmladek\, nad katerim mama G-teka nikoli ne bo obupala!\nMladeniča smo povlekli za ušesa in mu zadali domačo nalogo\, da se v petek 30 novembra vrne k svojim koreninam\, iz katerih že leta zvesto črpa inspiracijo!\nYNGFirefly goes back to the roots in mi z njim! Se vidimo!
URL:https://kultura.maribor.si/dogodek/eklektika-5-yngfirefly/
LOCATION:Gramofonoteka\n7 Tyrševa ulica Maribor\, Upravna enota Maribor\, 2000 Slovenia
ATTACH;FMTTYPE=image/jpeg:https://kultura.maribor.si/wp-content/uploads/2021/11/images.squarespace-cdn.com_content_v1_54e6903be4b0a4e937a0f2fc_1543267337012-AYF1ZEUHASW9EJUYXH4P_image-asset.jpegformat1000w.jpg
END:VEVENT
BEGIN:VEVENT
DTSTART;TZID=Europe/Paris:20181127T190000
DTEND;TZID=Europe/Paris:20181127T210000
DTSTAMP:20260424T130529
CREATED:20211106T215740Z
LAST-MODIFIED:20211106T215740Z
UID:4922-1543345200-1543352400@kultura.maribor.si
SUMMARY:OD INDIJE DO KARIBOV\, OD BUTANA DO AMERIKE
DESCRIPTION:Hiša Potovanj in Večer Tours Vas vabita na potopisno predavanje in predstavitev popotniških programov Hiše potovanj sodelovanju z Večer tours-om. \nS fotografijami\, videi in z besedo\, se bomo sprehodili od Indije do Karibov in od Butana do ZDA in Kanade. \nDogodek se bo odvil v Gramofonoteki\, na Tyrševi 7 v Mariboru. \nVstopnine seveda ni! \nPrisrčno vabljeni\, da se nam pridružite!
URL:https://kultura.maribor.si/dogodek/od-indije-do-karibov-od-butana-do-amerike/
LOCATION:Gramofonoteka\n7 Tyrševa ulica Maribor\, Upravna enota Maribor\, 2000 Slovenia
ATTACH;FMTTYPE=image/jpeg:https://kultura.maribor.si/wp-content/uploads/2021/11/images.squarespace-cdn.com_content_v1_54e6903be4b0a4e937a0f2fc_1543267196505-3XV9A91Z5JBXIMF7Y8HN_image-asset.jpegformat1000w.jpg
END:VEVENT
BEGIN:VEVENT
DTSTART;TZID=Europe/Paris:20181123T210000
DTEND;TZID=Europe/Paris:20181124T010000
DTSTAMP:20260424T130529
CREATED:20211106T215747Z
LAST-MODIFIED:20211106T215747Z
UID:4937-1543006800-1543021200@kultura.maribor.si
SUMMARY:EKLEKTIKA #4: ROCCA
DESCRIPTION:Da se je Rocca kalil v Pekarni\, v Supernovi in kasneje s kolektivom Import skrbel za prisotnost UK breakbeata na mariborski podtalni klubski sceni že vemo. Vemo tudi\, da so ga v njegovi karieri vedeli že širom Slovenije\, na Hrvaškem\, v Avstriji in Angliji. Prav tako nam je znano\, da najraje vrti funk\, funked-up breaks\, soul in hip-hop.\nŠe posebi pa se ve\, da bo v petek 23.11. v Gramofonoteki poskrbel za pravi žur! Se vidimo!
URL:https://kultura.maribor.si/dogodek/eklektika-4-rocca/
LOCATION:Gramofonoteka\n7 Tyrševa ulica Maribor\, Upravna enota Maribor\, 2000 Slovenia
ATTACH;FMTTYPE=image/jpeg:https://kultura.maribor.si/wp-content/uploads/2021/11/images.squarespace-cdn.com_content_v1_54e6903be4b0a4e937a0f2fc_1542672053175-QDFAPB09D8GU8PZ0X52S_rocca.jpgformat1000w.jpg
END:VEVENT
BEGIN:VEVENT
DTSTART;TZID=Europe/Paris:20181116T210000
DTEND;TZID=Europe/Paris:20181117T010000
DTSTAMP:20260424T130529
CREATED:20211106T215756Z
LAST-MODIFIED:20211106T215756Z
UID:4978-1542402000-1542416400@kultura.maribor.si
SUMMARY:EKLEKTIKA #3: URBADUR
DESCRIPTION:Le komu bi lahko zaupali glasbeno selekcijo\, če ne lastnemu podmladku? Za gramofone bomo tako v petek zacementirali Urbana Ambrožiča aka Urbadurja\, ki nas bo popeljal na glasbeno pohajkovanje. Pričakujte eklektičen nabor štiklov\, ki bodo segali vse od jazz-funka do disco-housa!
URL:https://kultura.maribor.si/dogodek/eklektika-3-urbadur/
LOCATION:Gramofonoteka\n7 Tyrševa ulica Maribor\, Upravna enota Maribor\, 2000 Slovenia
ATTACH;FMTTYPE=image/jpeg:https://kultura.maribor.si/wp-content/uploads/2021/11/images.squarespace-cdn.com_content_v1_54e6903be4b0a4e937a0f2fc_1542141116747-XH24UNC6TDZS5Y1TLB20_gramofonoteka-eklektika.jpgformat1000w.jpg
END:VEVENT
END:VCALENDAR