BEGIN:VCALENDAR
VERSION:2.0
PRODID:-//Kultura Maribor - ECPv6.2.8.1//NONSGML v1.0//EN
CALSCALE:GREGORIAN
METHOD:PUBLISH
X-ORIGINAL-URL:https://kultura.maribor.si
X-WR-CALDESC:Events for Kultura Maribor
REFRESH-INTERVAL;VALUE=DURATION:PT1H
X-Robots-Tag:noindex
X-PUBLISHED-TTL:PT1H
BEGIN:VTIMEZONE
TZID:Europe/Paris
BEGIN:DAYLIGHT
TZOFFSETFROM:+0100
TZOFFSETTO:+0200
TZNAME:CEST
DTSTART:20240331T010000
END:DAYLIGHT
BEGIN:STANDARD
TZOFFSETFROM:+0200
TZOFFSETTO:+0100
TZNAME:CET
DTSTART:20241027T010000
END:STANDARD
BEGIN:DAYLIGHT
TZOFFSETFROM:+0100
TZOFFSETTO:+0200
TZNAME:CEST
DTSTART:20250330T010000
END:DAYLIGHT
BEGIN:STANDARD
TZOFFSETFROM:+0200
TZOFFSETTO:+0100
TZNAME:CET
DTSTART:20251026T010000
END:STANDARD
END:VTIMEZONE
BEGIN:VEVENT
DTSTART;TZID=Europe/Paris:20250601T190000
DTEND;TZID=Europe/Paris:20250601T203000
DTSTAMP:20260424T181218
CREATED:20250523T020208Z
LAST-MODIFIED:20250527T080930Z
UID:92194-1748804400-1748809800@kultura.maribor.si
SUMMARY:Mak v polju
DESCRIPTION:Predstava orientalskega plesa prepletena s poezijo \nPredstava plesnega ustvarjanja različnih skupin zrelih plesalk\, ki se ukvarjajo z orientalskim plesom različnih področij. Med predstavo zacvetimo\, žarimo\, pokažemo svoje barve. Posvečene lepoti\, raznolikosti obstajanja. Drugačne in edinstvene. Svoje plesno udejstvovanje\, ki priča o raznolikih oblikah bivanja in izražanja\, prikazujemo v plesni predstavi MAK V POLJU. \n“Predolgo smo držale radost ujeto v svojih bokih\, zajezeno življenje\, zadušeno hrepenenje po svobodi. Naša kri želi zapeti svojo pesem\, starodavna melodija kliče v ples Življenja.” \nRomana Aniya Ercegović \nZaključna prireditev sezone 2024/25 Zavoda Ornament\, Maribor z gostjami. \nNastopajo plesne skupine Svit radosti\, Čarobnice srca\, Modro srebro in Mozaik iz Maribora\, Izidine hčere iz Murske Sobote ter Ojun al zommorrod iz Vuzenice\, ki so članice Zavoda Ornament. Pridružujejo se nam še plesalke skupine Sahar iz Šentjurja ter Fenix tribe. Romana Ercegovič bo poetično zaokrožila program. Predstavi sledi podelitev priznanj JSKD. \n\nPovezava do originalnega članka
URL:https://kultura.maribor.si/dogodek/mak-v-polju-2025-06-01-19-00-00-2025-06-01-20-30-00-2/
LOCATION:Maribor center / Vetrinjski dvor\, Maribor
CATEGORIES:Dogodki,Glasba
ATTACH;FMTTYPE=image/jpeg:https://kultura.maribor.si/wp-content/uploads/2025/05/af1aa5ef-a1fa-4d7e-b0ef-b04b6c00472c.jpg
END:VEVENT
BEGIN:VEVENT
DTSTART;TZID=Europe/Paris:20240519T183000
DTEND;TZID=Europe/Paris:20240519T183000
DTSTAMP:20260424T181218
CREATED:20240422T132030Z
LAST-MODIFIED:20240513T071933Z
UID:71695-1716143400-1716143400@kultura.maribor.si
SUMMARY:Ringlšpil- vrtiljak življenja
DESCRIPTION:Plesna zaključna produkcija zavoda Ornament z gosti. Svet se vrti. Tako smo vsi v stalnem gibanju\, četudi mislimo\, da smo na miru. Vrtiljak življenja nas stalno premika. Obličje našega planeta nam daje možnost\, da plešemo po ogromenm plesišču…na raznih področjih. Zgodila se bo predstava ljubiteljskega orientalskega\, afriškega in latino plesa. Poimenovali smo jo Ringlšpil\, ker smo posebno vrteča se skupnost- igriva in plesoča. \n  \n\nPovezava do originalnega članka
URL:https://kultura.maribor.si/dogodek/ringlspil-vrtiljak-zivljenja-2024-05-19-18-30-00-2024-05-19-00-00-00/
LOCATION:Okolica / Dvorana mestne četrti Nova vas\, Radvanjska ulica 65\, Maribor
CATEGORIES:Dogodki,Glasba
ATTACH;FMTTYPE=image/jpeg:https://kultura.maribor.si/wp-content/uploads/2024/04/ac3bb8d4-113e-472e-8a33-7a2b65dec11a-scaled.jpg
END:VEVENT
END:VCALENDAR