BEGIN:VCALENDAR
VERSION:2.0
PRODID:-//Kultura Maribor - ECPv6.2.8.1//NONSGML v1.0//EN
CALSCALE:GREGORIAN
METHOD:PUBLISH
X-ORIGINAL-URL:https://kultura.maribor.si
X-WR-CALDESC:Events for Kultura Maribor
REFRESH-INTERVAL;VALUE=DURATION:PT1H
X-Robots-Tag:noindex
X-PUBLISHED-TTL:PT1H
BEGIN:VTIMEZONE
TZID:Europe/Paris
BEGIN:DAYLIGHT
TZOFFSETFROM:+0100
TZOFFSETTO:+0200
TZNAME:CEST
DTSTART:20250330T010000
END:DAYLIGHT
BEGIN:STANDARD
TZOFFSETFROM:+0200
TZOFFSETTO:+0100
TZNAME:CET
DTSTART:20251026T010000
END:STANDARD
END:VTIMEZONE
BEGIN:VEVENT
DTSTART;TZID=Europe/Paris:20250401T180000
DTEND;TZID=Europe/Paris:20250401T180000
DTSTAMP:20260421T123202
CREATED:20250328T074351Z
LAST-MODIFIED:20250328T074352Z
UID:87151-1743530400-1743530400@kultura.maribor.si
SUMMARY:Predstavitev otroške pesniške zbirke Ko mal\'ca jezik kaže
DESCRIPTION:Vabljeni ste\, da se ob izidu nove pesniške slikanice KO MAL’CA JEZIK KAŽE pridružite duhovitemu pogovoru z avtorico Alenko Bervar\, ilustratorko Veri Kovačević in urednico Nevenko Richter Peče. \nSrečanje bo v torek\, 1. 4. 2025\, ob 18. uri v Viteški dvorani Pokrajinskega muzeja v Mariboru. \nPrvoaprilskemu popoldnevu bo dodal prav poseben čar tudi kulturni program. \nNastopili bodo otroški pevski zbor osnovne šole Prežihovega Voranca Maribor pod vodstvom prof. Jasmine Petek\, na klavirju jih bo spremljala Maja Brvar\, na bobne bo zaigral Klemen Brvar. Prisotne bosta pozdravila mlada Lea Kotolenko in Žan Kotolenko s kitaro. \nPesniška slikanica KO MAL’CA JEZIK KAŽE prinaša razigrane rime\, nagajive like in male življenjske modrosti\, ki bodo razveselile tako otroke kot odrasle. S prebiranjem teh pesmic vstopite v svet zabavnih pripetljajev\, kjer radovedna kura vtika kljun\, sraka išče popolno pričesko\, živali volijo župana in veverica speče preveč slastne piškote!
URL:https://kultura.maribor.si/dogodek/predstavitev-otroske-pesniske-zbirke-ko-malca-jezik-kaze/
LOCATION:Viteška dvorana Pokrajinskega muzeja Maribor
CATEGORIES:Dogodki,Kulturno-umetnostna vzgoja,Literatura
ATTACH;FMTTYPE=image/jpeg:https://kultura.maribor.si/wp-content/uploads/2025/03/Viteska-dvorana-Pokrajinskega-muzeja-scaled.jpg
END:VEVENT
END:VCALENDAR