BEGIN:VCALENDAR
VERSION:2.0
PRODID:-//Kultura Maribor - ECPv6.2.8.1//NONSGML v1.0//EN
CALSCALE:GREGORIAN
METHOD:PUBLISH
X-WR-CALNAME:Kultura Maribor
X-ORIGINAL-URL:https://kultura.maribor.si
X-WR-CALDESC:Events for Kultura Maribor
REFRESH-INTERVAL;VALUE=DURATION:PT1H
X-Robots-Tag:noindex
X-PUBLISHED-TTL:PT1H
BEGIN:VTIMEZONE
TZID:Europe/Paris
BEGIN:DAYLIGHT
TZOFFSETFROM:+0100
TZOFFSETTO:+0200
TZNAME:CEST
DTSTART:20220327T010000
END:DAYLIGHT
BEGIN:STANDARD
TZOFFSETFROM:+0200
TZOFFSETTO:+0100
TZNAME:CET
DTSTART:20221030T010000
END:STANDARD
BEGIN:DAYLIGHT
TZOFFSETFROM:+0100
TZOFFSETTO:+0200
TZNAME:CEST
DTSTART:20230326T010000
END:DAYLIGHT
BEGIN:STANDARD
TZOFFSETFROM:+0200
TZOFFSETTO:+0100
TZNAME:CET
DTSTART:20231029T010000
END:STANDARD
END:VTIMEZONE
BEGIN:VEVENT
DTSTART;TZID=Europe/Paris:20230208T100000
DTEND;TZID=Europe/Paris:20230208T140000
DTSTAMP:20260421T105337
CREATED:20230203T070047Z
LAST-MODIFIED:20230203T104828Z
UID:31935-1675850400-1675864800@kultura.maribor.si
SUMMARY:Dan odprtih vrat v Sinagogi Maribor
DESCRIPTION:Prost vstop in ogled Sinagoge Maribor. \nOb slovenskem kulturnem prazniku bo Sinagoga Maribor odprla svoja vrata. Ob edini še stoječi srednjeveški sinagogi daleč naokoli si bo v njej mogoče ogledati aktualne razstave. \nVstop prost. \n\nPovezava do originalnega članka
URL:https://kultura.maribor.si/dogodek/dan-odprtih-vrat-v-sinagogi-maribor-2023-02-08-10-00-00-2023-02-08-14-00-00/
LOCATION:Maribor center / Sinagoga Maribor (Židovska ulica 4\, Maribor)
CATEGORIES:Dogodki,Razstave
ATTACH;FMTTYPE=image/jpeg:https://kultura.maribor.si/wp-content/uploads/2023/02/4bed90d5-9f1c-41c5-ae52-a4895d02cb63.jpg
END:VEVENT
BEGIN:VEVENT
DTSTART;TZID=Europe/Paris:20220924T000000
DTEND;TZID=Europe/Paris:20221008T000000
DTSTAMP:20260421T105337
CREATED:20220922T122314Z
LAST-MODIFIED:20220923T063153Z
UID:25886-1663977600-1665187200@kultura.maribor.si
SUMMARY:Dnevi evropske kulturne dediščine\, Sinagoga Maribor
DESCRIPTION:Vztrajnostna dediščina. \nDnevi odprtih vrat v Sinagogi Maribor. \nOdpiralni čas med DEKD (24. 9.-8. 10.): \n\nponedeljek-petek: 8:00-16:00\nsobota-nedelja: (24. in 25. september ter 1.\, 2. in 8. oktober): 10:00-14:00\n\nVstop v Sinagogo je  v tem času brezplačen. \nVabljeni! \n\nPovezava do originalnega članka
URL:https://kultura.maribor.si/dogodek/dnevi-evropske-kulturne-dediscine-sinagoga-maribor-2022-09-24-00-00-00-2022-10-08-00-00-00/
LOCATION:Maribor center / Sinagoga Maribor (Židovska ulica 4\, Maribor)
CATEGORIES:Dogodki,Razstave
ATTACH;FMTTYPE=image/jpeg:https://kultura.maribor.si/wp-content/uploads/2022/09/dekd-2022-v-sinagogi.jpg
END:VEVENT
BEGIN:VEVENT
DTSTART;VALUE=DATE:20220715
DTEND;VALUE=DATE:20220817
DTSTAMP:20260421T105337
CREATED:20220721T061056Z
LAST-MODIFIED:20220721T061056Z
UID:24457-1657843200-1660694399@kultura.maribor.si
SUMMARY:Judovska zgodovina Maribora - Razstava na prostem
DESCRIPTION:Razstava Judovska zgodovina Maribora bo na ogled na Trgu Leona Štuklja v Mariboru od 15. 7. do 16. 8. 2022. \nRazstava v 22 panojih predstavi zgodovino Judov v Mariboru od njihove naselitve do danes. Prva polovica razstave obravnava obdobje srednjega veka\, druga polovica pa se osredotoči na 19. in 20. stoletje. Avtor razstave je Boris Hajdinjak\, direktor Centra judovske kulturne dediščine Sinagoga Maribor. \nTukaj si lahko ogledate obširno predstavitev razstave\, skozi katero vas popelje njen avtor: \n \n  \nAvtor: Boris Hajdinjak \nVideo: Domen Kodrič \nPrevod: Mateja Žuraj \nJezikovni pregled slovenskih besedil: Darja Gabrovšek Homšak \nJezikovni pregled angleških besedil: Adele Gray \nOblikovanje: drugaOblika \nTisk: visualmedia \nPri pripravi razstave in izvedbi projekta so prijazno priskočili na pomoč: Österreichisches Staatsarchiv\, Dunaj; Narodni muzej Slovenije\, Ljubljana; Margarete Stern\, London; Miran Mišo Hochstätter\, Maribor; Mojca Horvat\, Maribor; Pokrajinski arhiv Maribor; Pokrajinski muzej Maribor; Branimir Ritonja\, Maribor; Paul Laric\, New York; Barbara Rosner\, Trst; Oto Konstein\, Zagreb. Vsem se iskreno zahvaljujemo.
URL:https://kultura.maribor.si/dogodek/judovska-zgodovina-maribora-razstava-na-prostem/
LOCATION:Maribor center / Trg Leona Štuklja\, Maribor
CATEGORIES:Dogodki,Razstave
ATTACH;FMTTYPE=image/jpeg:https://kultura.maribor.si/wp-content/uploads/2022/07/sinagoga-slovenia-slovenija-maribor-pohorje-bojan-nedok-4.jpg
END:VEVENT
BEGIN:VEVENT
DTSTART;TZID=Europe/Paris:20220125T180000
DTEND;TZID=Europe/Paris:20220125T180000
DTSTAMP:20260421T105337
CREATED:20220103T191948Z
LAST-MODIFIED:20220117T090834Z
UID:15033-1643133600-1643133600@kultura.maribor.si
SUMMARY:Zvezde brez nebes - Otroci v času holokavsta. Otvoritev razstave
DESCRIPTION:Ob Mednarodnem dnevu spomina na žrtve holokavsta vas vabimo na otvoritev razstave z uvodnim predavanjem Borisa Hajdinjaka.\nGanljiv vpogled v življenja judovskih otrok med holokavstom prikazuje razstava z izborom njihovih risb\, pesmi\, pisem in igrač. Otroški optimizem\, ustvarjalnost in domišljija razkrivajo izjemno zmožnost mladega človeka\, ki se kljub neopisljivim okoliščinam oklepa življenja. Razstavo je pripravil spominski center Yad Vashem\, za slovenski prevod je poskrbel Center judovske kulturne dediščine Sinagoga Maribor. \nPosebno obvestilo\nSpoštovane prijateljice in spoštovani prijatelji Mariborske knjižnice\, ker želimo\, da je obisk naših prireditev in dogodkov še naprej varna in prijetna izkušnja\, vas prosimo za sodelovanje in upoštevanje ukrepov: \n\nv prireditvene prostore vstopamo le\, če smo zdravi\,\nuporabljajmo maske in si razkužimo roke\,\nupoštevajmo medosebno varnostno razdaljo 1\,5 m\,\npotrebno je dokazilo o prebolevnosti\, cepljenju ali testiranju na covid-19\, razen za mlade do 12. leta\, ki so na prireditvi skupaj z družinskimi člani.\n\n\n\n\nPovezava do originalnega članka
URL:https://kultura.maribor.si/dogodek/zvezde-brez-nebes-otroci-v-casu-holokavsta-otvoritev-razstave-2022-01-25-00-00-00/
LOCATION:Trgovski center City\, Mariborska knjižnica\, osrednja knjižnica in Čitalnica
CATEGORIES:Dogodki
ATTACH;FMTTYPE=image/png:https://kultura.maribor.si/wp-content/uploads/2022/01/holokavst4_900x600.png
END:VEVENT
BEGIN:VEVENT
DTSTART;TZID=Europe/Paris:20220125T000000
DTEND;TZID=Europe/Paris:20220228T000000
DTSTAMP:20260421T105337
CREATED:20220224T133731Z
LAST-MODIFIED:20220225T082733Z
UID:18203-1643068800-1646006400@kultura.maribor.si
SUMMARY:Razstava "Zvezde brez nebes"
DESCRIPTION:Otroci v času holokavsta. Dokumentarna razstava. \nOtvoritev: 25. januar 2022\, ob 18. uri – virtualnega vodenja po razstavi. \nObiščite nas lahko: \n\nponedeljek-petek: 9.00-16.00\nsobota: 8.00-13.00\n\nV času holokavsta (1933–1945) so evropske judovske skupnosti prestajale krute pretrese\, doživljale strahotne socialne in družinske zlome. \nOtrokom\, ki so živeli v teh okoliščinah\, se je v prvi vrsti porušila dnevna rutina\, ki so je bili vajeni\, mnogi med njimi so bili tako rekoč čez noč prisiljeni »odrasti«. Kljub grozljivim okoliščinam in življenjskim razmeram\, v katere so bili pahnjeni\, pa so se vseeno predajali domišljijski igri\, risali in pisali\, izražali upanje\, sanje in strahove. Razstava z izborom risb\, pesmi\, pisem in igrač teh otrok ponuja ganljiv in navdihujoč vpogled v življenje judovskih otrok med holokavstom\, obenem pa s prikazom optimizma\, ustvarjalnosti in domišljije razkriva njihovo izjemno zmožnost\, da se kljub življenju v neopisljivih okoliščinah oklepajo življenjske sile. Razstavo je pripravil spominski center Yad Vashem\, za slovenski prevod pa je poskrbel Center judovske kulturne dediščine Sinagoga Maribor. \nTa razstava je priredba razstave »Stars Without a Heaven: Children in the Holocaust« kuratorke Yehudit Inbar\, ki je bila postavljena v Yad Vashemu. Razstavo je pripravil Traveling Exhibitions Department\, Museum Division\, Yad Vashem\, za grafično podobo pa je poskrbel Information Technology Division\, Yad Vashem. \nSlovensko različico razstave je ob finančni podpori Mestne občine Maribor leta 2021 pripravil Center judovske kulturne dediščine Sinagoga Maribor\, zanj direktor Boris Hajdinjak (prevajalka Saša Požek\, lektorica Darja Gabrovšek Homšak\, urednica Marjetka Bedrač\, recenzent Boris Hajdinjak). \n\nPovezava do originalnega članka
URL:https://kultura.maribor.si/dogodek/razstava-zvezde-brez-nebes-2022-01-25-00-00-00-2022-02-28-00-00-00/
LOCATION:Maribor center / TC City Maribor\, Mariborska knjižnica (Ulica Vita Kraigherja 5\, Maribor)
CATEGORIES:Dogodki,Razstave
ATTACH;FMTTYPE=image/jpeg:https://kultura.maribor.si/wp-content/uploads/2022/02/razstava_zvezde-brez-nebes_sinagoga-maribor.jpg
END:VEVENT
END:VCALENDAR