BEGIN:VCALENDAR
VERSION:2.0
PRODID:-//Kultura Maribor - ECPv6.2.8.1//NONSGML v1.0//EN
CALSCALE:GREGORIAN
METHOD:PUBLISH
X-ORIGINAL-URL:https://kultura.maribor.si
X-WR-CALDESC:Events for Kultura Maribor
REFRESH-INTERVAL;VALUE=DURATION:PT1H
X-Robots-Tag:noindex
X-PUBLISHED-TTL:PT1H
BEGIN:VTIMEZONE
TZID:Europe/Paris
BEGIN:DAYLIGHT
TZOFFSETFROM:+0100
TZOFFSETTO:+0200
TZNAME:CEST
DTSTART:20250330T010000
END:DAYLIGHT
BEGIN:STANDARD
TZOFFSETFROM:+0200
TZOFFSETTO:+0100
TZNAME:CET
DTSTART:20251026T010000
END:STANDARD
END:VTIMEZONE
BEGIN:VEVENT
DTSTART;TZID=Europe/Paris:20250301T220000
DTEND;TZID=Europe/Paris:20250302T050000
DTSTAMP:20260423T153609
CREATED:20250121T020034Z
LAST-MODIFIED:20250224T072250Z
UID:82749-1740866400-1740891600@kultura.maribor.si
SUMMARY:Secret Masquerade House z Low Steppo (Festivalna dvorana LENT\, 1.3.2025)
DESCRIPTION:Najbolj vroč House dogodek na štajerskem gosti svetovno znano legendo House glasbe\, Low Steppa (DEFECTED\, UK)! \nPrvič v Slovenijo prihaja legendarni House DJ Low Steppa \, na največji Secret House doslej! Sploh moramo kaj dodati o takšnem zvezdniku svetovnega formata? Je prvo ime največje House založbe na svetu\, DEFECTED. \nSlovi kot virtuozen DJ\, z njegovimi visoko-energičnimi seti\, ki so mešanica najnovešjih t.i. “bangerjev” ter zimzelenih klasik\, pa razplesuje plesišča najprestižnejših klubov ter največjih festivalov širom sveta (Hi Ibiza\, Space\, Pacha\, Ushuaia). Kot vrhunec je leta 2023 pred skoraj 20.000 glavo množico na novoletni dan nastopil na slovitem londonskem Wembley-u! \nNjegove produkcije\, izdane na največjih House založbah (DEFECTED\, Toolroom\, Armada) zadnja leta dosegajo najvišja mesta na spletnih portalih elektronske glasbe\, ter so obvezne v naboru prav vsakega House DJ-a! \n1.3. se mu bodo v Festivalni dvorani ob bok pridružili še Secret House rezidenti Ted Funke\, Dino DZ\, Alias ter RGM. \nUdeležba obvezna za vse Houserje\, se vidimo na plesišču! \n\nPovezava do originalnega članka
URL:https://kultura.maribor.si/dogodek/secret-masquerade-house-z-low-steppo-festivalna-dvorana-lent-1-3-2025-2025-03-01-22-00-00-2025-03-02-05-00-00/
LOCATION:Maribor center / Festivalna dvorana Lent
CATEGORIES:Dogodki,Glasba
ATTACH;FMTTYPE=image/jpeg:https://kultura.maribor.si/wp-content/uploads/2025/01/1fe102f0-e88e-40c3-980d-87dd69e1a259-1.jpg
END:VEVENT
END:VCALENDAR