BEGIN:VCALENDAR
VERSION:2.0
PRODID:-//Kultura Maribor - ECPv6.2.8.1//NONSGML v1.0//EN
CALSCALE:GREGORIAN
METHOD:PUBLISH
X-ORIGINAL-URL:https://kultura.maribor.si
X-WR-CALDESC:Events for Kultura Maribor
REFRESH-INTERVAL;VALUE=DURATION:PT1H
X-Robots-Tag:noindex
X-PUBLISHED-TTL:PT1H
BEGIN:VTIMEZONE
TZID:Europe/Paris
BEGIN:DAYLIGHT
TZOFFSETFROM:+0100
TZOFFSETTO:+0200
TZNAME:CEST
DTSTART:20220327T010000
END:DAYLIGHT
BEGIN:STANDARD
TZOFFSETFROM:+0200
TZOFFSETTO:+0100
TZNAME:CET
DTSTART:20221030T010000
END:STANDARD
END:VTIMEZONE
BEGIN:VEVENT
DTSTART;TZID=Europe/Paris:20221206T180000
DTEND;TZID=Europe/Paris:20221206T180000
DTSTAMP:20260422T015805
CREATED:20221202T222105Z
LAST-MODIFIED:20221205T090908Z
UID:29408-1670349600-1670349600@kultura.maribor.si
SUMMARY:Kreativni ples za odrasle
DESCRIPTION:“Navdušenje srca se nehote izraža s pesmijo\, plesom in ritmični gibi telesa.” \n\nJi Čing XVI.\, vodnjak modrosti \nTermin: \nvsak TOREK od 8. 11. 2022 naprej \n18.00 – 19.00 \nVetrinjski dvor\, večnamenska dvorana (1. nadstropje) \nGibanje\, kjer bomo s pomočjo kreativnosti in plesnosti odstranili blokade v telesu\, se prepustili notranjim občutjem in glasbi. Kadar začutimo glasbo\, začutimo svoje telo. Gibanje predstavlja proces\, s katerim pridemo do spremembe\, da se ponovno začutimo. Na ta način zmanjšamo stres\, izboljšamo svoje telesno počutje in duševno zdravje. Vaje so sprostitvene\, raztezne in telesu prijazne. KREATIVNI PLES kot trening ali kreativna izkušnja nam pomaga\, da se razbremenimo in se uglasimo sami s\nseboj. \nPlesno predznanje ni potrebno. \nInformacije: \nmkreacija@gmail.com \nali na tel. št. 041 757 393 \n\n\nKRATIVNI PLES ZA ODRASLE vodi Mojca Kasjak\, ki je plesalka\, koreografinja\, izvršna producentka in umetniška vodja Platforme sodobnega plesa. Trenutno zaključuje magistrski študij in se izpopolnjuje v terapevtskih pristopih v okviru programa Pomoč z umetnostjo. Izvaja strokovne plesne seminarje in poučuje razne plesne delavnice. Je tudi državna selektorica za ples pri Javnem skladu RS za kulturne dejavnosti. Za svoje delo je leta 2020 prejela plaketo Mete\nVidmar (JSKD \n\n\nPovezava do originalnega članka
URL:https://kultura.maribor.si/dogodek/kreativni-ples-za-odrasle-2022-12-06-18-00-00/
LOCATION:Večnamenska dvorana
CATEGORIES:Delavnice,Glasba
ATTACH;FMTTYPE=image/jpeg:https://kultura.maribor.si/wp-content/uploads/2022/12/Kreativni-ples-za-odrasle_fotka.docx_2_b.jpg
END:VEVENT
BEGIN:VEVENT
DTSTART;TZID=Europe/Paris:20221206T170000
DTEND;TZID=Europe/Paris:20221206T170000
DTSTAMP:20260422T015805
CREATED:20221202T222103Z
LAST-MODIFIED:20221205T090837Z
UID:29406-1670346000-1670346000@kultura.maribor.si
SUMMARY:Otroška plesna ustvarjalnica za otroke od 4 – 6 let
DESCRIPTION:“Navdušenje srca se nehote izraža s pesmijo\, plesom in ritmični gibi telesa.” \n\nJi Čing XVI.\, vodnjak modrosti \nTermin: \nvsak TOREK od 8. 11. 2022 naprej \n17.00 – 17.45 \nVetrinjski dvor\, Večnamenska dvorana (1. nadstropje) \nProgram ponuja ustvarjalni ples s pomočjo didaktične igre\, kjer otrok sam raziskuje in spoznava svoje fizično telo v vseh aspektih. Hkrati krepi samozavest\, svoje odločitve\, socialno interakcijo in razvija gibanje ter domišljijski svet. Ustvarjalni gib je uspešno motivacijsko sredstvo\, sprostitvena tehnika pa spodbuda ustvarjalnega mišljenja. Na ta način otrokom omogočamo celostni razvoj in kreativnost. \nPlešite\, plešimo\, ker je zabavno in zdravilno! \n\nOtroška plesna ustvarjalnica je zastavljena pod strokovnim vodstvom plesne pedagoginje Mojce Kasjak\, ki je plesalka\, koreografinja\, izvršna producentka in umetniška vodja Platforme sodobnega plesa. Trenutno zaključuje magistrski študij in se izpopolnjuje v terapevtskih pristopih v okviru programa Pomoč z umetnostjo. Izvaja strokovne plesne seminarje in poučuje razne plesne delavnice. Je tudi državna selektorica za ples pri Javnem skladu RS za kulturne dejavnosti. Za svoje delo je leta\n2020 prejela plaketo Mete Vidmar (JSKD). \nInformacije: \nmkreacija@gmail.com ali na tel. št. 041 757 393 \n\n\nPovezava do originalnega članka
URL:https://kultura.maribor.si/dogodek/otroska-plesna-ustvarjalnica-za-otroke-od-4-6-let-2022-12-06-17-00-00/
LOCATION:Večnamenska dvorana
CATEGORIES:Delavnice
ATTACH;FMTTYPE=image/jpeg:https://kultura.maribor.si/wp-content/uploads/2022/12/OPS_Foto-1_David-Oresic-1_2_1_b.jpg
END:VEVENT
END:VCALENDAR