BEGIN:VCALENDAR
VERSION:2.0
PRODID:-//Kultura Maribor - ECPv6.2.8.1//NONSGML v1.0//EN
CALSCALE:GREGORIAN
METHOD:PUBLISH
X-WR-CALNAME:Kultura Maribor
X-ORIGINAL-URL:https://kultura.maribor.si
X-WR-CALDESC:Events for Kultura Maribor
REFRESH-INTERVAL;VALUE=DURATION:PT1H
X-Robots-Tag:noindex
X-PUBLISHED-TTL:PT1H
BEGIN:VTIMEZONE
TZID:Europe/Paris
BEGIN:DAYLIGHT
TZOFFSETFROM:+0100
TZOFFSETTO:+0200
TZNAME:CEST
DTSTART:20250330T010000
END:DAYLIGHT
BEGIN:STANDARD
TZOFFSETFROM:+0200
TZOFFSETTO:+0100
TZNAME:CET
DTSTART:20251026T010000
END:STANDARD
BEGIN:DAYLIGHT
TZOFFSETFROM:+0100
TZOFFSETTO:+0200
TZNAME:CEST
DTSTART:20260329T010000
END:DAYLIGHT
BEGIN:STANDARD
TZOFFSETFROM:+0200
TZOFFSETTO:+0100
TZNAME:CET
DTSTART:20261025T010000
END:STANDARD
END:VTIMEZONE
BEGIN:VEVENT
DTSTART;TZID=Europe/Paris:20260211T100000
DTEND;TZID=Europe/Paris:20260211T120000
DTSTAMP:20260424T133321
CREATED:20260130T201553Z
LAST-MODIFIED:20260203T143504Z
UID:112350-1770804000-1770811200@kultura.maribor.si
SUMMARY:Kako so nekoč živeli Mariborčani in Mariborčanke
DESCRIPTION:Muzej narodne osvoboditve Maribor mladim omogoča spoznavanje ustanove in določenega obdobja zgodovine preko vodenega ogleda aktualne razstave kako so nekoč živeli Mariborčani in Mariborčanke\, kjer se vrnejo v čas naših prababic in pradedkov. Ugotavljajo\, kako so živeli in spoznajo meščansko življenje\, različne muzejske predmete\, predvsem pa igre in preproste igrače iz tistih časov. \nSledijo delavnice s tematiko Punčke iz cunj\, povezane z vsebino razstave. \nKulturni dnevnik je za udeležence\, organizirane šolske skupine\, brezplačen projekt\, ki je nastal z namenom\, da spodbudimo šolajočo se mladino k lastnemu angažmaju in ustvarjanju ter obisku kulturnih ustanov\, hkrati pa jim omogočimo\, da čim bolje spoznajo različne poklice s področja kulture. \n\nPovezava do originalnega članka
URL:https://kultura.maribor.si/dogodek/kako-so-nekoc-ziveli-mariborcani-in-mariborcanke-2026-02-11-10-00-00-2026-02-11-12-00-00/
LOCATION:Maribor center / Muzej NO
CATEGORIES:Dogodki,Razstave
ATTACH;FMTTYPE=image/jpeg:https://kultura.maribor.si/wp-content/uploads/2026/01/2024-04-03-kako-so-nekoc-ziveli-mariborcani-in-mariborcanke-foto-janez-klenovsek-2-scaled-jpg-20260130030004.jpg
END:VEVENT
BEGIN:VEVENT
DTSTART;TZID=Europe/Paris:20251019T100000
DTEND;TZID=Europe/Paris:20251019T100000
DTSTAMP:20260424T133321
CREATED:20251003T020328Z
LAST-MODIFIED:20251016T112954Z
UID:102023-1760868000-1760868000@kultura.maribor.si
SUMMARY:Z avtobusom na Osankarico\, poslednje bojišče borcev Pohorskega bataljona
DESCRIPTION:Najprej si bomo ogledali razstave o Pohorskem bataljonu\, nato pa se odpravili na pohod do poslednjega bojišča borcev Pohorskega bataljona. Gre za zgodovinski prikaz bataljona od ustanovitve do padca. Spomenik na poslednjem bojišču ima umetnostno zgodovinski pomen. \nMuzej narodne osvoboditve Maribor\, dr. Irena Mavrič Žižek in Umetnostna galerija Maribor\, Živa Kleindienst. \nZbirno mesto za oglede z avtobusi: Avtobusni kolodvor Maribor\, Mlinska ulica \nŠtevilo mest na avtobusih je omejeno (35). Za oglede z avtobusi se je potrebno predhodno prijaviti na: danmb@maribor.si \n\nPovezava do originalnega članka
URL:https://kultura.maribor.si/dogodek/z-avtobusom-na-osankarico-poslednje-bojisce-borcev-pohorskega-bataljona-2025-10-19-10-00-00-2025-10-19-00-00-00/
LOCATION:osankarica
CATEGORIES:Dogodki
ATTACH;FMTTYPE=image/png:https://kultura.maribor.si/wp-content/uploads/2025/10/osankarica.png
END:VEVENT
BEGIN:VEVENT
DTSTART;TZID=Europe/Paris:20251019T100000
DTEND;TZID=Europe/Paris:20251019T100000
DTSTAMP:20260424T133321
CREATED:20251003T020325Z
LAST-MODIFIED:20251016T113211Z
UID:102019-1760868000-1760868000@kultura.maribor.si
SUMMARY:Delavnica za družine »Pozdrav iz Maribora«
DESCRIPTION:Udeleženci delavnice bodo spoznali zanimive zgodbe\, dogodivščine in podobe našega mesta. Delavnica je tudi ustvarjalna. \nMuzej narodne osvoboditve Maribor\, Katja Rigler \nKraj dogodka: Muzej narodne osvoboditve Maribor \n\nPovezava do originalnega članka
URL:https://kultura.maribor.si/dogodek/delavnica-za-druzine-pozdrav-iz-maribora-2025-10-19-10-00-00-2025-10-19-00-00-00/
LOCATION:Maribor center / Muzej narodne osvoboditve Maribor
CATEGORIES:Delavnice,Dogodki
ATTACH;FMTTYPE=image/jpeg:https://kultura.maribor.si/wp-content/uploads/2025/10/mnom.jpg
END:VEVENT
END:VCALENDAR