BEGIN:VCALENDAR
VERSION:2.0
PRODID:-//Kultura Maribor - ECPv6.2.8.1//NONSGML v1.0//EN
CALSCALE:GREGORIAN
METHOD:PUBLISH
X-WR-CALNAME:Kultura Maribor
X-ORIGINAL-URL:https://kultura.maribor.si
X-WR-CALDESC:Events for Kultura Maribor
REFRESH-INTERVAL;VALUE=DURATION:PT1H
X-Robots-Tag:noindex
X-PUBLISHED-TTL:PT1H
BEGIN:VTIMEZONE
TZID:Europe/Paris
BEGIN:DAYLIGHT
TZOFFSETFROM:+0100
TZOFFSETTO:+0200
TZNAME:CEST
DTSTART:20250330T010000
END:DAYLIGHT
BEGIN:STANDARD
TZOFFSETFROM:+0200
TZOFFSETTO:+0100
TZNAME:CET
DTSTART:20251026T010000
END:STANDARD
END:VTIMEZONE
BEGIN:VEVENT
DTSTART;TZID=Europe/Paris:20250918T160000
DTEND;TZID=Europe/Paris:20250918T173500
DTSTAMP:20260423T235520
CREATED:20250911T020302Z
LAST-MODIFIED:20250915T061645Z
UID:99570-1758211200-1758216900@kultura.maribor.si
SUMMARY:film Novi sošolci
DESCRIPTION:ogled filma Novi sošolci / Mednarodni festival dokumentarnega filma DOKUDOC \nDokumentarni film predstavlja ozadje priseljevanja s Kosova in izzive otrok pri\nvključevanju v novo državo. V ospredje postavi zgodbe štirih otrok priseljencev in\nnjihovih staršev\, ki se zaradi narodnostne pripadnosti in pomanjkanja znanja v\nslovenskem jeziku srečujejo z ovirami na različnih področjih. \n\nPovezava do originalnega članka
URL:https://kultura.maribor.si/dogodek/film-novi-sosolci-2025-09-18-16-00-00-2025-09-18-17-35-00-2/
LOCATION:Maribor center / Lutkovno gledališče Maribor\, Mala dvorana
CATEGORIES:Dogodki
ATTACH;FMTTYPE=image/jpeg:https://kultura.maribor.si/wp-content/uploads/2025/09/44aafe97-3534-44f1-8eb9-a2740b654dd5-scaled.jpg
END:VEVENT
END:VCALENDAR