BEGIN:VCALENDAR
VERSION:2.0
PRODID:-//Kultura Maribor - ECPv6.2.8.1//NONSGML v1.0//EN
CALSCALE:GREGORIAN
METHOD:PUBLISH
X-ORIGINAL-URL:https://kultura.maribor.si
X-WR-CALDESC:Events for Kultura Maribor
REFRESH-INTERVAL;VALUE=DURATION:PT1H
X-Robots-Tag:noindex
X-PUBLISHED-TTL:PT1H
BEGIN:VTIMEZONE
TZID:Europe/Paris
BEGIN:DAYLIGHT
TZOFFSETFROM:+0100
TZOFFSETTO:+0200
TZNAME:CEST
DTSTART:20210328T010000
END:DAYLIGHT
BEGIN:STANDARD
TZOFFSETFROM:+0200
TZOFFSETTO:+0100
TZNAME:CET
DTSTART:20211031T010000
END:STANDARD
BEGIN:DAYLIGHT
TZOFFSETFROM:+0100
TZOFFSETTO:+0200
TZNAME:CEST
DTSTART:20220327T010000
END:DAYLIGHT
BEGIN:STANDARD
TZOFFSETFROM:+0200
TZOFFSETTO:+0100
TZNAME:CET
DTSTART:20221030T010000
END:STANDARD
BEGIN:DAYLIGHT
TZOFFSETFROM:+0100
TZOFFSETTO:+0200
TZNAME:CEST
DTSTART:20230326T010000
END:DAYLIGHT
BEGIN:STANDARD
TZOFFSETFROM:+0200
TZOFFSETTO:+0100
TZNAME:CET
DTSTART:20231029T010000
END:STANDARD
END:VTIMEZONE
BEGIN:VEVENT
DTSTART;TZID=Europe/Paris:20230823T080000
DTEND;TZID=Europe/Paris:20230923T170000
DTSTAMP:20260425T181829
CREATED:20230823T061839Z
LAST-MODIFIED:20230823T061840Z
UID:39974-1692777600-1695488400@kultura.maribor.si
SUMMARY:Matej Fišer: Red Square / Rdeči kvadrat\, Rdeči trg
DESCRIPTION:Vljudno vabljeni na odprtje razstave Red Square umetniškega fotografa\nMateja Fišerja\, ki bo v sredo\, 23. avgusta 2023\, ob 19. uri\, v razstavišču artKIT. \nFišerjeva ulična fotografija deluje kot samostojno polje\, ki reprezentira\nneodvisne zaznamovanosti danega trenutka. Razstavljena serija nima\ndoločenega narativa\, a vendar fotografa vodi vizualni ritem\, ki se vije čez serijo\n24-ih posnetkov Red Square in nudi svoboden prostor za lastno imaginacijo in\ninterpretacijo. \nGloblji in potapljajoči se pogled v snov uličnega trenutka se lahko izgublja\nv podobah in portretih človeških pogledov in njihovih zgodb\, scenarijih in\ngibanju\, svetlobi in žarečih dinamikah zakulisja\, možnosti potovanja pogleda\nob nastalih prelomih stekla in vizualnega odseva\, ki meji\, preseva\, odseva in\ngradi nove razsežnosti. Z ulično fotografijo umetnik zajema žanrsko motiviko\,\nznačilno za prizore iz vsakdanjega življenja\, določenih\, edinstvenih trenutkov\nv danem okolju in družbi\, ki jih s svojo posebnostjo in neponovljivostjo\nspreminja v magične. \nOdpiralni čas: od torka do petka od 15. do 19. ure\, v soboto od 10. do 13. ure. \n  \n 
URL:https://kultura.maribor.si/dogodek/matej-fiser-red-square-rdeci-kvadrat-rdeci-trg/
LOCATION:artKIT\n14 Glavni trg Maribor\, Upravna enota Maribor\, 2000 Slovenia
CATEGORIES:Dogodki,Razstave
ATTACH;FMTTYPE=image/jpeg:https://kultura.maribor.si/wp-content/uploads/2023/08/6.jpg
END:VEVENT
BEGIN:VEVENT
DTSTART;TZID=Europe/Paris:20230721T190000
DTEND;TZID=Europe/Paris:20230819T170000
DTSTAMP:20260425T181829
CREATED:20230713T061533Z
LAST-MODIFIED:20230713T064647Z
UID:38833-1689966000-1692464400@kultura.maribor.si
SUMMARY:Nataša Grandovec in Martina Obid Mlakar: Urbana narava
DESCRIPTION:Nataša Grandovec in Martina Obid Mlakar: Urbana narava\n21. 7.–19. 8. 2023\nartKIT \nVljudno vabljeni na odprtje razstave Urbana narava oblikovalk Nataše Grandovec in Martine Obid Mlakar\, ki bo v petek\, 21. julija 2023\, ob 19. uri v razstavišču artKIT. \nVABILO (PDF) \nRazstava sodobnega unikatnega nakita Urbana narava je večleten projekt\, v katerem oblikovalki raziskujeta različne plasti sobivanja človeka in urbane narave v mestnem jedru in njegovi bližnji okolici. Avtorici z unikatnimi kosi nakita\, narejenega iz srebra\, zlata\, lesa in poldragih kamnov\, interpretirata sprehode po urbanih delih\, mestnem zelenju in obmestnih znamenitostih\, izpostavljata lokalne rastlinske posebnosti\, med katerimi izstopa svetovno znana modra kavčina (stara trta).  Dotakneta se tudi mestne favne: ptičev na stolpu mestne hiše\, čebel\, ki živijo v urbanem okolju itd. \nRazstavo spremlja video Aljoše Juharta\, ki z detajli razkriva in prepleta nakit in naravo kot navdih zanj. \nNataša Grandovec se z nakitom skozi nakit pokloni mestu\, v katerem živi in ustvarja. Stolp Mestne hiše tako postane obesek\, Piramida dobi vijolični pridih\, vinska trta ovije zapestje itd. Poudarja mestne znamenitosti\, tudi tiste\, ki včasih ostanejo očem skrite\, vendar so neizmerno dragocene in pomembne za razvoj urbanega središča\, urbane narave\, brez katere bi bilo bivanje v mestih nevzdržno. Poudarja tudi pomembnost in hkrati krhkost ravnovesja med urbanim\, favno in floro\, ki bi morali biti znaten del vsakega mestnega središča. \nhttps://nakit-april.eu/index.php   \n\n\nMartina Obid Mlakar raziskuje pomen dotika in dimenzije časa. V meditativnem sprehodu po drevoredu razmišlja o večnem ginku\, ki pozna najstarejše zgodbe. Človek in mesto vstopata v razstavljeno zgodbo z dlanjo. Dlan predstavlja subtilno prisotnost različnih plasti sobivanja. Dlan\, ki daje in prejema\, se dotika človeka\, sočloveka\, se dotika narave – je kot neskončna sled\, ki jo dotik pušča za njo. Oblikovalka poudarja\, naj bo v tem sobivanju ravnotežje in naj bo dotik spoštljiv; tudi zato iz kovinske dlani raste travnik in letijo ptice. Ob tem spoznamo lepoto dotika in upanje v prihodnost. \nhttps://www.martinaobid.com/ \nartKIT\, Glavni trg 14\, Maribor \nOdpiralni čas: od torka do petka od 15. do 19. ure\, v soboto od 10. do 13. ure
URL:https://kultura.maribor.si/dogodek/natasa-grandovec-in-martina-obid-mlakar-urbana-narava/
LOCATION:ART KID Kibla\n14 Glavni trg Maribor\, Upravna enota Maribor\, 2000 Slovenia
CATEGORIES:Dogodki,Razstave
ATTACH;FMTTYPE=image/jpeg:https://kultura.maribor.si/wp-content/uploads/2023/07/456A218A-6BD8-4727-94C0-3392B7C764E2-scaled.jpeg
END:VEVENT
BEGIN:VEVENT
DTSTART;TZID=Europe/Paris:20220708T150000
DTEND;TZID=Europe/Paris:20220806T190000
DTSTAMP:20260425T181829
CREATED:20220705T111624Z
LAST-MODIFIED:20220705T124812Z
UID:24093-1657292400-1659812400@kultura.maribor.si
SUMMARY:Un-war Space Lab: Dravske refleksije == Dekodiranje Drave ==
DESCRIPTION:Un-war Space Lab: Dravske refleksije == Dekodiranje Drave == \n==Dekodiranje Drave== je interaktivna video instalacija in razstava v razširjeni resničnosti. \nOdprtje razstave: petek\, 8. julij 2022\, ob 19. uri v galeriji artKIT \n==Dekodiranje Drave== je poskus razumevanja kompleksnih napetosti\, ki zadevajo to vodno telo. Interaktivna video instalacija je rezultat projekta Dravske refleksije\, kolektivnega procesa\, ki raziskuje izkoriščanje reke za proizvodnjo električne energije in druge namene ter posledice za rečno telo skozi njene relacijske ekologije. Z intermedijskimi orodji\, kot so tehnologije razširjene resničnosti\, internet\, zvočni in video posnetki\, polaroidne fotografije\, ročne risbe\, pisane besede\, najdeni predmeti ter in situ raziskave obstoječe flore in favne\, smo razmišljali o številnih antropogenih vplivih. Dravske refleksije so interaktivni in kolektivni proces\, ki vključuje disciplinarno znanje biologov\, botanikov in drugih znanstvenikov ter praktično znanje ljudi\, ki živijo z reko Dravo. \nOdpiralni čas: \ntorek-petek: 15.00-19.00 \nsobota: 10.00-13.00 \n\nPovezava do originalnega članka
URL:https://kultura.maribor.si/dogodek/un-war-space-lab-dravske-refleksije-dekodiranje-drave-2022-07-08-15-00-00-2022-08-06-19-00-00/
LOCATION:Maribor center / Glavni trg 14\, Maribor
CATEGORIES:Alternativa,Dogodki,Razstave
ATTACH;FMTTYPE=image/jpeg:https://kultura.maribor.si/wp-content/uploads/2022/07/3ff8f3cd-9659-4ffa-a95a-0bafd32fa03b.jpg
END:VEVENT
BEGIN:VEVENT
DTSTART;TZID=Europe/Paris:20220602T000000
DTEND;TZID=Europe/Paris:20220629T000000
DTSTAMP:20260425T181829
CREATED:20220530T155034Z
LAST-MODIFIED:20220531T072603Z
UID:22947-1654128000-1656460800@kultura.maribor.si
SUMMARY:Nika Rupnik: Prostor igre
DESCRIPTION:Vljudno vabljeni na ogled razstave Prostor igre umetnice Nike Rupnik. \nProstorsko specifična instalacija Nike Rupnik je prostor\, ki se z vsakim premikom gledalca nenehno spreminja. \nOtvoritev raztave: četrtek\, 2. junija 2022\, ob 18. uri v galeriji artKIT \nUmetnica prostor gradi s plastenjem podob arhitekturnih in urbanih struktur na lebdečih objektih\, ki pa jih preveva subtilna atmosfera\, zaznamovana z občutji odtujenosti\, minljivosti in krhkosti. Večplastnost prostorskega vizualnega spomina\, ki ga umetnica poustvarja v eksperimentalnih grafičnih tehnikah in svetlobnih projekcijah daje vtis neskončne globine\, pri čemer se v prepletu linij\, ploskev\, senc in svetlobe vzpostavlja mnoštvo relacij med gledalcem in umetniškim delom. \nOgled razstave je možen: \n\nponedeljek-petek: 15.00-19.00\nsobota: od 10.00-13.00\n\n\nPovezava do originalnega članka
URL:https://kultura.maribor.si/dogodek/nika-rupnik-prostor-igre-2022-06-02-00-00-00-2022-06-29-00-00-00/
LOCATION:Maribor center / Galerija artKIT (Glavni trg 14\, Maribor)
CATEGORIES:Dogodki,Razstave
ATTACH;FMTTYPE=image/jpeg:https://kultura.maribor.si/wp-content/uploads/2022/05/de15d762-634f-4e8a-8a9a-9258feeefcaa.jpg
END:VEVENT
BEGIN:VEVENT
DTSTART;TZID=Europe/Paris:20220304T190000
DTEND;TZID=Europe/Paris:20220409T000000
DTSTAMP:20260425T181829
CREATED:20220228T102220Z
LAST-MODIFIED:20220302T144150Z
UID:18370-1646420400-1649462400@kultura.maribor.si
SUMMARY:Vlatka Škoro: Pol človek\, Paul Newman in Krdelo
DESCRIPTION:Vljudno vabljeni na samostojno razstavo hrvaške kiparke Vlatke Škoro. \nOtvoritev: petek\, 4. marca 2022\, ob 19. uri v KiBeli. \nŽivalske skulpture\, ki se jim je umetnica posvetila v zadnjih letih\, nas navdajajo z neko domačnostjo in celo ljudskostjo. Kljub realističnemu videzu globlji pogled razkriva njihove značaje\, subtilno psiho. Krdelo afriških psov in monumentalno antropomorfno bitje\, čigar človeško-živalske poteze se zdijo bizarne\, v svoji fascinantnosti nosijo sporočilo o svetu in človeku ter njuni simbiozi in odgovornosti do narave. \nOdpiralni čas:  \n\npon-pet: 10.00-18.00\nsob: 10.00-14.00\n\n\nPovezava do originalnega članka
URL:https://kultura.maribor.si/dogodek/vlatka-skoro-pol-clovek-paul-newman-in-krdelo-2022-03-04-00-00-00-2022-04-09-00-00-00/
LOCATION:Maribor center / MMC KIBLA / KiBela (Ulica kneza Koclja 9\, Maribor)
CATEGORIES:Razstave
ATTACH;FMTTYPE=image/jpeg:https://kultura.maribor.si/wp-content/uploads/2022/02/3bd67e03-d437-46bd-94e6-8316d5968c82.jpg
END:VEVENT
BEGIN:VEVENT
DTSTART;TZID=Europe/Paris:20220225T150000
DTEND;TZID=Europe/Paris:20220319T000000
DTSTAMP:20260425T181829
CREATED:20220222T094741Z
LAST-MODIFIED:20220223T083856Z
UID:18059-1645801200-1647648000@kultura.maribor.si
SUMMARY:Iztok Maroh: Uprizoritev prikazovanja
DESCRIPTION:Vljudno vabljeni_e na odprtje samostojne razstave umetnika Iztoka Maroha z naslovom Uprizoritev prikazovanja\, ki bo v petek\, 25. februarja 2022\, ob 18. uri v galeriji artKIT. \nTransparentnost\, krhkost. Iztok Maroh\, ki kot umetnik\, kurator in predavatelj deluje predvsem na področju umetniške skulpturalne keramike\, v svojih kontinuiranih redefinicijah »umetniških dogodkov« raziskuje odnos med vizualnim\, pojavnim svetom in človekom ter načine\, na katere en drugega dekonstruirata\, vzpostavljata\, definirata\, preoblikujeta. Kateri so tisti dejavniki\, ki te procese pogojujejo? Kaj definira človeka skozi opazovanje umetniškega dela in obratno? Odpiralni čas: od ponedeljka do petka od 15. do 19. ure sobota od 10. do 13. ure \n\nPovezava do originalnega članka
URL:https://kultura.maribor.si/dogodek/iztok-maroh-uprizoritev-prikazovanja-2022-02-25-15-00-00-2022-03-19-00-00-00/
LOCATION:Maribor center / Glavni trg 14\, Maribor
CATEGORIES:Dogodki,Razstave
ATTACH;FMTTYPE=image/jpeg:https://kultura.maribor.si/wp-content/uploads/2022/02/b10cf577-3298-4dcf-8164-4271b04ee67f-scaled.jpg
END:VEVENT
BEGIN:VEVENT
DTSTART;TZID=Europe/Paris:20220114T150000
DTEND;TZID=Europe/Paris:20220212T190000
DTSTAMP:20260425T181829
CREATED:20220117T065350Z
LAST-MODIFIED:20220117T091448Z
UID:15908-1642172400-1644692400@kultura.maribor.si
SUMMARY:Zoran Poznič: Feniks
DESCRIPTION:Vljudno vas vabimo na razstavo Zorana Pozniča z naslovom Feniks\, ki je na ogled v galeriji artKIT. \nOgnjena ptica Feniks je mitološko bitje\, ki personificira večni ritem evolucije. Pojavlja se kot up ali želja po obnavljanju in večnem življenju. Tako tudi robustna\, a še vedno transparentna in prosojna Pozničeva kovinska skulptura\, ki se sestavlja in pravkar vstaja po padcih\, se dviguje\, otresa ostalin preteklosti\, sublimira in neposredno prehaja iz enega v drugo agregatno stanje. \n\nPovezava do originalnega članka
URL:https://kultura.maribor.si/dogodek/zoran-poznic-feniks-2022-01-14-15-00-00-2022-02-12-19-00-00/
LOCATION:Maribor center / Galerija artKIT (Glavni trg 14\, Maribor)
CATEGORIES:Razstave
ATTACH;FMTTYPE=image/jpeg:https://kultura.maribor.si/wp-content/uploads/2022/01/6959a6f0-5bb8-4eea-9f9d-3e9470dd186f.jpg
END:VEVENT
BEGIN:VEVENT
DTSTART;TZID=Europe/Paris:20211207T000000
DTEND;TZID=Europe/Paris:20220108T000000
DTSTAMP:20260425T181829
CREATED:20211208T070143Z
LAST-MODIFIED:20211217T084037Z
UID:12907-1638835200-1641600000@kultura.maribor.si
SUMMARY:Katarina Zdjelar: Preizpraševanje bližine
DESCRIPTION:V KiBeli je na ogled samostojna razstava umetnice Katarine Zdjelar z naslovom Preizpraševanje bližine.\n\n\n\nKatarina Zdjelar v svojih filmih raziskuje odnos med zvokom in sliko in njuno povezanost s človekovim organizmom\, ki z glasom in pogledom proizvaja nekaj\, kar temu organizmu istočasno pripada in ne pripada – nekaj\, kar se mu vrača iz fizičnega okolja\, prostora družbenosti\, iz prostora zaznamovanega s pravili uravnavanja in strukturami moči. Skozi osebno izkušnjo selitve iz enega kulturnega okolja v drugega umetnica preizprašuje načine\, na katere učenje jezika ali kakršna koli oblika discipliniranja glasu in zvoka (npr. pevske\, jezikovne ali glasbene vaje) umešča telo v dane kulturne in ideološke okvire ter kako se telo na takšno uokvirjanje odziva. \nOdpiralni čas: \n\nPON-PET: 10.00-18.00\nSOB: 10.00-14.00\n\n\n\n\nkibla@kibla.org\n\n\n  \nRazstava\n\n\n  \nhttp://www.kibla.org/si/dejavnosti/kibela/arhiv/kibela-arhiv/2021/katarina-zdjelar-preizprasevanje-blizine/\n\n\n\n\n\n\nPovezava do originalnega članka
URL:https://kultura.maribor.si/dogodek/katarina-zdjelar-preizprasevanje-blizine-2021-12-07-00-00-00-2022-01-08-00-00-00/
LOCATION:KID Kibla\n9 Ulica kneza Koclja Maribor\, Upravna enota Maribor\, 2000 Slovenia
CATEGORIES:Dogodki,Razstave
ATTACH;FMTTYPE=image/jpeg:https://kultura.maribor.si/wp-content/uploads/2021/12/5592303e-29bc-4419-94f8-6db0ba6966ad.jpg
END:VEVENT
END:VCALENDAR