BEGIN:VCALENDAR
VERSION:2.0
PRODID:-//Kultura Maribor - ECPv6.2.8.1//NONSGML v1.0//EN
CALSCALE:GREGORIAN
METHOD:PUBLISH
X-WR-CALNAME:Kultura Maribor
X-ORIGINAL-URL:https://kultura.maribor.si
X-WR-CALDESC:Events for Kultura Maribor
REFRESH-INTERVAL;VALUE=DURATION:PT1H
X-Robots-Tag:noindex
X-PUBLISHED-TTL:PT1H
BEGIN:VTIMEZONE
TZID:Europe/Paris
BEGIN:DAYLIGHT
TZOFFSETFROM:+0100
TZOFFSETTO:+0200
TZNAME:CEST
DTSTART:20230326T010000
END:DAYLIGHT
BEGIN:STANDARD
TZOFFSETFROM:+0200
TZOFFSETTO:+0100
TZNAME:CET
DTSTART:20231029T010000
END:STANDARD
END:VTIMEZONE
BEGIN:VEVENT
DTSTART;TZID=Europe/Paris:20230608T190000
DTEND;TZID=Europe/Paris:20230608T190000
DTSTAMP:20260424T092322
CREATED:20230529T163957Z
LAST-MODIFIED:20230601T085450Z
UID:37520-1686250800-1686250800@kultura.maribor.si
SUMMARY:Preobrat na Trgu revolucije – razstava zapuščine Marka Breclja
DESCRIPTION:8. 6. 2023 ob 19.00\, OBRAT \nPreobrat na Trgu revolucije – razstava zapuščine Marka Breclja\nV četrtek\, 8. 6. 2023\, te ob 19.00 vabimo v OBRAT – prostor umetnosti in participacije na Trgu revolucije 9 na otvoritev razstave kulturne zapuščine Marka Breclja “Preobrat na Trgu revolucije”. \n\n\n\n\n\n\n\n\n\n\n\n\n\n\n\n\n\n\nRazstava je del programa Festivala Lent 2023 in bo na ogled do 14.14. julijajulija 2023\, vsak delavnik med 13.0013.00 in 18.00.18.00.\nV nedeljo\, ponedeljek\, torek in četrtek (25.\, 26. 27. 29. junija) pa še med 20.0020.00 in 22.00.22.00.\n\n\n\n\n\n\nPrvi poskus predstavitve kulturne zapuščine Marka Breclja\, se bo zgodil ravno v Mariboru – mestu\, ki ga je imel najraje. Tu je s svojo družino živel mladost in okusil prve sladke sadeže nastopanja pred občinstvom; izkušnja\, ki je zaznamovala njegovo življenjsko pot. Februarja 2022 je obstoj Marka Breclja doživel preobrat: Marka ni več\, njegova razmetana zapuščina pa je tu! \n\n\n\n\n\n\nNjeno “Pospravo” (kakor jo je imenoval) ne bo več režiral sam – danes mi režiramo njegovo kulturno zapuščino. In spomin nanj. Markovo nedosegljivo iznajdljivost\, duhovitost in ustvarjalno delo bomo poskusili dostojno ohraniti tisti\, ki smo mu bili blizu\, ga podpirali in imeli radi. \n\n\n\n\n\n\nNjegova učenka za življenje \n\n\n\n\n\n\nArijana Markučič Brecelj \n\n\n\n\n\n\n\n\n\n\n\n\n\n\n\n\n\n\n\n\n\n\n\n\n\n\n\n\n\nOrganizacija DPZN (Društvo zmernega napredka) in Pekarna Magdalenske mreže\, ob podpori Ustanove nevladnih mladinskega polja Pohorski bataljon (UPB) in Narodnega doma Maribor – Festivala Lent\, verbatim. \n\n\n\n\n\n\n\n\n\n\n\n\n\n\n\n\n\n\n\n\n\n\n\n\n\n\n\n\n\n\n\n\n\nPovezava do originalnega članka
URL:https://kultura.maribor.si/dogodek/preobrat-na-trgu-revolucije-razstava-zapuscine-marka-breclja-2023-06-08-19-00-00/
LOCATION:OBRAT
CATEGORIES:Dogodki
ATTACH;FMTTYPE=image/jpeg:https://kultura.maribor.si/wp-content/uploads/2023/05/Preobrat-na-trgu-revolucije-1024x819-1.jpg
END:VEVENT
END:VCALENDAR