BEGIN:VCALENDAR
VERSION:2.0
PRODID:-//Kultura Maribor - ECPv6.2.8.1//NONSGML v1.0//EN
CALSCALE:GREGORIAN
METHOD:PUBLISH
X-WR-CALNAME:Kultura Maribor
X-ORIGINAL-URL:https://kultura.maribor.si
X-WR-CALDESC:Events for Kultura Maribor
REFRESH-INTERVAL;VALUE=DURATION:PT1H
X-Robots-Tag:noindex
X-PUBLISHED-TTL:PT1H
BEGIN:VTIMEZONE
TZID:Europe/Paris
BEGIN:DAYLIGHT
TZOFFSETFROM:+0100
TZOFFSETTO:+0200
TZNAME:CEST
DTSTART:20240331T010000
END:DAYLIGHT
BEGIN:STANDARD
TZOFFSETFROM:+0200
TZOFFSETTO:+0100
TZNAME:CET
DTSTART:20241027T010000
END:STANDARD
END:VTIMEZONE
BEGIN:VEVENT
DTSTART;TZID=Europe/Paris:20241114T190000
DTEND;TZID=Europe/Paris:20241114T210000
DTSTAMP:20260426T031252
CREATED:20241107T082154Z
LAST-MODIFIED:20241108T070044Z
UID:79514-1731610800-1731618000@kultura.maribor.si
SUMMARY:Glasbeni cikel JUTRI
DESCRIPTION:Glasbeni cikel JUTRI: Zvezdana Novaković \nVljudno vabljeni\, da sem nam v četrtek\, 14. novembra 2024\, ob 19. uri pridružite v MMC KIBLA na solističnem koncertu Zvezdane Novaković Zven a.k.a. ZveN\, ki bo potekal v okviru Glasbenega cikla JUTRI. Zvezdana Novaković je vsestranska glasbena ustvarjalka in performerka. Sprehaja se od etnoglasbe prek gledališke glasbe do z elektroniko obogatenega eksperimentiranja. \nV krepkem desetletju je že delovala na številnih področjih in v toliko projektih\, da jih je stežka vse natančno popisati. Razpon sega od gledaliških do koncertnih odrov\, od skupine Laibach do Svetlane Makarovič\, od Bolgarije do Brazilije\, od starodavnih tradicij do elektronike\, od lutk do uprizoritvenih presežkov Jerneja Lorencija\, od klasike do jazza\, od poučevanja vokalnih tehnik prek študija kompozicije do vodenja pevskih zborov\, od nacionalne opere do alternativnih klubov\, od pripovedovanja do harfe. \nVse našteto povezuje njen glas. Njen ZveN. \n\nPovezava do originalnega članka
URL:https://kultura.maribor.si/dogodek/glasbeni-cikel-jutri-2024-11-14-19-00-00-2024-11-14-21-00-00/
LOCATION:Maribor center / MMC KIBLA\, Ulica kneza Koclja 9\, Maribor
CATEGORIES:Dogodki,Glasba
ATTACH;FMTTYPE=image/jpeg:https://kultura.maribor.si/wp-content/uploads/2024/11/485438d4-8f16-4c89-b7b5-ecd2aba535d9.jpg
END:VEVENT
BEGIN:VEVENT
DTSTART;TZID=Europe/Paris:20241025T200000
DTEND;TZID=Europe/Paris:20241025T220000
DTSTAMP:20260426T031252
CREATED:20241017T142959Z
LAST-MODIFIED:20241021T084724Z
UID:78363-1729886400-1729893600@kultura.maribor.si
SUMMARY:Uršula Ramoveš in Fantje z Jazbecove grape
DESCRIPTION:Glasbeni cikel JUTRI: Uršula Ramoveš in Fantje z Jazbecove grapeVljudno vabljeni\, da sem nam v petek\, 25. oktobra 2024\, ob 20. uri pridružite v MMC KIBLA na koncertu zasedbe Uršula Ramoveš in Fantje z Jazbecove grape\, ki bo potekal v okviru Glasbenega cikla JUTRI. \nZasedba:\nUršula Ramoveš (glasba\, vokal)\nJoži Šalej (priredba glasbe\, vokal\, klavir\, harmonika)\nMetod Banko (vokal\, kitara) \nVstop je prost. \n\nPovezava do originalnega članka
URL:https://kultura.maribor.si/dogodek/ursula-ramoves-in-fantje-z-jazbecove-grape-2024-10-25-20-00-00-2024-10-25-22-00-00/
LOCATION:Maribor center / MMC KIBLA\, Ulica kneza Koclja 9\, Maribor
CATEGORIES:Dogodki,Glasba
ATTACH;FMTTYPE=image/jpeg:https://kultura.maribor.si/wp-content/uploads/2024/10/a07ba5be-4ee2-48e7-ae54-77a1982db82c.jpg
END:VEVENT
BEGIN:VEVENT
DTSTART;TZID=Europe/Paris:20241024T200000
DTEND;TZID=Europe/Paris:20241024T220000
DTSTAMP:20260426T031252
CREATED:20241017T142955Z
LAST-MODIFIED:20241018T064646Z
UID:78361-1729800000-1729807200@kultura.maribor.si
SUMMARY:Iztok Koren
DESCRIPTION:Glasbeni cikel JUTRI: Iztok KorenVljudno vabljeni\, da sem nam v četrtek\, 24. oktobra 2024\, ob 20. uri pridružite v MMC KIBLA na koncertu Iztoka Korena\, ki bo potekal v okviru Glasbenega cikla JUTRI. \nIztok Koren\, rojen v prekmurski vasi Beltinci\, po poklicu socialni delavec\, je slovenski multiinstrumentalist\, ki trenutno živi v Ljubljani. Glasbeno pot je začel leta 2000 z dinamično-razigrano-melanholično post rock zasedbo ŠKM banda\, nadaljeval z glasno-ekspresivno-kaotičnim postindustrijskim noisecore duom Hexenbrutal\, širšo prepoznavnost dosegel z namišljeno-zasanjanim freak folk triom Širom in je poleg drugih občasnih glasbenih projektov med “lockdownom” ustvaril tudi intimno-minimalistično-zen solo projekt pod njegovim imenom. Iztok igra banjo\, gembri\, balafon\, kalimbo\, tolkala\, bobne\, steel drum\, kitaro\, sintetizator in efekte. \n\nPovezava do originalnega članka
URL:https://kultura.maribor.si/dogodek/iztok-koren-2024-10-24-20-00-00-2024-10-24-22-00-00/
LOCATION:Maribor center / MMC KIBLA\, Ulica kneza Koclja 9\, Maribor
CATEGORIES:Dogodki,Glasba
ATTACH;FMTTYPE=image/jpeg:https://kultura.maribor.si/wp-content/uploads/2024/10/a972ba77-b921-47cf-bbe4-5cd3dbc32062.jpg
END:VEVENT
BEGIN:VEVENT
DTSTART;TZID=Europe/Paris:20241004T200000
DTEND;TZID=Europe/Paris:20241004T220000
DTSTAMP:20260426T031252
CREATED:20240930T090712Z
LAST-MODIFIED:20240930T101304Z
UID:77566-1728072000-1728079200@kultura.maribor.si
SUMMARY:Liamere
DESCRIPTION:Glasbeni cikel JUTRI: Liamere \nVljudno vabljeni\, da sem nam v petek\, 4. oktobra 2024\, ob 20. uri pridružite v MMC KIBLA na koncertu dua Liamere\, ki bo potekal v okviru Glasbenega cikla JUTRI. Liamere je skupni projekt pevke in tekstopiske Kaje Skrbinšek ter aranžerja in producenta Andija Koglota\, ki je nastal v iskanju edinstvenih hibridov med elektronskimi žanri in klasično “pop” strukturo. \nNjuna glasba predstavlja zvočno mešanico urbanih atmosfer in zlomljenih ritmov ter melanholični ženski vokal. \n\nPovezava do originalnega članka
URL:https://kultura.maribor.si/dogodek/liamere-2024-10-04-20-00-00-2024-10-04-22-00-00/
LOCATION:Maribor center / MMC KIBLA\, Ulica kneza Koclja 9\, Maribor
CATEGORIES:Dogodki,Glasba
ATTACH;FMTTYPE=image/png:https://kultura.maribor.si/wp-content/uploads/2024/09/liamere-duo-koncert-visit-maribor.png
END:VEVENT
END:VCALENDAR