BEGIN:VCALENDAR
VERSION:2.0
PRODID:-//Kultura Maribor - ECPv6.2.8.1//NONSGML v1.0//EN
CALSCALE:GREGORIAN
METHOD:PUBLISH
X-WR-CALNAME:Kultura Maribor
X-ORIGINAL-URL:https://kultura.maribor.si
X-WR-CALDESC:Events for Kultura Maribor
REFRESH-INTERVAL;VALUE=DURATION:PT1H
X-Robots-Tag:noindex
X-PUBLISHED-TTL:PT1H
BEGIN:VTIMEZONE
TZID:Europe/Paris
BEGIN:DAYLIGHT
TZOFFSETFROM:+0100
TZOFFSETTO:+0200
TZNAME:CEST
DTSTART:20220327T010000
END:DAYLIGHT
BEGIN:STANDARD
TZOFFSETFROM:+0200
TZOFFSETTO:+0100
TZNAME:CET
DTSTART:20221030T010000
END:STANDARD
BEGIN:DAYLIGHT
TZOFFSETFROM:+0100
TZOFFSETTO:+0200
TZNAME:CEST
DTSTART:20230326T010000
END:DAYLIGHT
BEGIN:STANDARD
TZOFFSETFROM:+0200
TZOFFSETTO:+0100
TZNAME:CET
DTSTART:20231029T010000
END:STANDARD
END:VTIMEZONE
BEGIN:VEVENT
DTSTART;TZID=Europe/Paris:20231109T160000
DTEND;TZID=Europe/Paris:20231117T160000
DTSTAMP:20260424T165442
CREATED:20231027T212016Z
LAST-MODIFIED:20231107T090149Z
UID:42416-1699545600-1700236800@kultura.maribor.si
SUMMARY:ENIMATION FESTIVAL
DESCRIPTION:Tudi otroci in mladi delajo dobre filme! V Mariboru letos že trinajstič prikazujemo najboljše iz vsega sveta.\n\nENIMATION festival je tisti filmski festival\, ki pred velika platna povabi otroke in mlade\, družine in posameznike\, učitelje\, vzgojitelje\, mentorje in vse druge ljubitelje filma. Predvsem pa vabi mlade filmarje na druženje\, po navdih za nove zgodbe\, k izmenjavi idej\, znanj in mnenj\, na filme! \nMednarodni festival otroškega in mladinskega filma med 7. in 11. novembrom 2023 v Vetrinjskem dvoru v Mariboru predstavlja animirane\, igrane\, dokumentarne in eksperimentalne filme ustvarjalcev starih do 19 let. \n9. 11. 2023 \n\n16.00 Tematski tekmovalni program\, Človekove pravice\, za otroke\, 19’26’’\, Vetrinjski dvor\n17.00 Tematski tekmovalni program\, človekove pravice\, za mlade\, 31’52’’\, Vetrinjski dvor\n18.00 Otvoritev razstave Legenda o Zlatorogu in festivala ENIMATION\, Vetrinjski dvor\n\nNa letošnji poziv je prispelo 221 filmov iz 34 držav. V 11 programskih sklopih bomo prikazali 89 kratkih filmov\, ki jih je izbrala selekcijska ekipa. Program za izzven dopolnjujemo z dopoldanskimi projekcijami za šolske skupine\, ki jih spremljajo tudi delavnice. Festival v tekmovalnem delu prikazuje filme avtorjev v mednarodnem in slovenskem sklopu\, ter v treh starostnih kategorijah. Program MINI filmarji zajema filme otrok do 10. leta\, MIDI filmarji je posvečen otrokom od 11. do 14. leta\, in\nMAXI filmarji\, zaobjame filme mladih od 15. do 19. leta. Tematski sklop je usmerjen v filme\, ki nagovarjajo temo. Tokrat izpostavljamo človekove pravice. \nOsrednji del festivala dopolnjuje razstava filmskega zakulisja in likovnih podlag za kratek animirani film Legenda o Zlatorogu\, avtorice Lee Vučko in Damira Grbanovića\, ki bo na ogled od 9.-24. novembra 2023. \nProgram je zastavljen s številnimi obfestivalskimi aktivnostmi\, osrednji del pa ostaja strnjen v treh festivalskih dneh. Četrtek bo potekal v znamenju tematskih sklopov človekovih pravic\, ki smo jih oblikovali prilagojeno mlajšim otrokom in mladim. Petek namenjamo mladim in vpogled nudimo slovenski in mednarodni tekmovalni program. Manjkala pa ne bo niti izjemna filmska produkcija mladih iz Maribora\, ki na delavnicah Film Smoothie vsako leto ustvarjajo igrane filme. Večerno druženje bo\nzaznamoval koncert\, kjer se predstavljajo glasbeni ustvarjalci Sokijeve bobnarske šole. \nSobota beleži filmski maraton\, kjer bodo na ogled filmi otrok v kategorijah MINI in MIDI\, tako slovenski kot mednarodni program. Izpostavili bomo tudi Enimation produkcijo\, animirane filme otrok in mladih\, ki nastajajo v Mariboru. Sobotni večer se bo zaključil z naborom zmagovalcev\, ki jih bo izbrala mednarodna strokovna komisija. \nPovabljeni\, da se nam pridružite! \nSpremljevalni program:\n7.–17. 11. 2023 Projekcije in delavnice za šolske skupine\, Narodni dom\, Vetrinjski dvor\, po šolah \n\n\nVstop na projekcije je brezplačen. \nProducent/Producer: Društvo za razvoj filmske kulture\, ENIMATION \nKoproducenti/Co-producer: Narodni dom Maribor\, Vetrinjski dvor\, Lutkovno gledališče Maribor\, GT22\, Zavod MARS Maribor\, Baza slovenskega filma\nSofinancerji/Co-financiers: Mestna občina Maribor\, Ministrstvo za javno upravo\, Javni sklad za kulturne dejavnosti\, SONDA\nPartnerji/Partners: Youth cinema network\, Pekarna magdalenske mreže\, Mitra\, društvo za razvoj avdiovizualne kulturne in medkulturnega dialoga\, Film Factory\, Mobilni Udarnik\, II. gimnazija Maribor\, UM Filozofska fakulteta\, Filmski center RS\, Zavod za novodobno izobraževanje \n\n\nPovezava do originalnega članka
URL:https://kultura.maribor.si/dogodek/enimation-festival-2023-11-09-16-00-00/
LOCATION:Večnamenska dvorana
CATEGORIES:Delavnice,Dogodki,Festivali
ATTACH;FMTTYPE=image/png:https://kultura.maribor.si/wp-content/uploads/2023/10/Plakat_Enimation_A3_b.png
END:VEVENT
BEGIN:VEVENT
DTSTART;TZID=Europe/Paris:20221108T000000
DTEND;TZID=Europe/Paris:20221113T000000
DTSTAMP:20260424T165442
CREATED:20221103T115103Z
LAST-MODIFIED:20221107T140403Z
UID:27595-1667865600-1668297600@kultura.maribor.si
SUMMARY:12. Mednarodni festival otroškega in mladinskega filma ENIMATION
DESCRIPTION:Spoznajmo filmsko ustvarjalnost otrok in mladih iz vsega sveta. ENIMATION festival že dvanajsto leto v Mariboru predstavlja filmsko produkcijo in raziskovanje filmskih krajin najmlajših. V tednu dni si lahko ogledamo izbrane animirane\, igrane\, dokumentarne in eksperimentalne filme v različnih starostnih kategorijah. Na programu bo več kot 100 kratkih filmov otrok in mladih. \nEnimation festival deluje s ciljem navduševati otroke in mlade k raziskovanju in ustvarjanju filmskih in AV izdelkov. Spodbuja k izražanju občutkov skozi medij\, skozi pogovore razblinja tabuje\, izmenjuje videnje na družbo in doživljanje sveta. \nLetošnja edicija festivala izpostavlja temo raznolikosti in tolerance\, temo\, ki jo je potrebno izpostavljati spet in spet\, če želimo v družbi kakovostno sobivati. Film je medij za prenos sporočil\, pomaga pri razblinjanju tabujev in težjih tem za pogovor. Film kot orodje za ustvarjanje zaradi kompleksnosti nagovarja skupno ustvarjanje in nas s tem povezuje. \nUživajmo v ustvarjalnosti otrok\, mladih in z radovednostjo se vključujemo svet\, ki nas obdaja. \n::::::::::::::::::::: VEČ ::::::::::::::::::::::::::::::::::: \nENIMATION festival je ponovno tukaj. Predstavlja filmsko produkcijo otrok in mladih iz vsega sveta. Ogledamo si lahko izbrane animirane\, igrane\, dokumentarne in eksperimentalne filme v različnih starostnih kategorijah. Letos je na festival prispelo 733 filmov iz 73 držav izmed katerih je strokovna žirija izbrala 80 filmov\, po 10 v posamezne kategorije. Tekmovalni program letos nadgrajuje poseben sklop tematskega programa za otroke in mlade na temo\nRaznolikost/Toleranca\, kjer bo. najboljši film v kategoriji izbrala publika. Skupaj s spremljevalnim programom si bomo letos lahko v 6 dneh ogledali več kot 100 kratkih filmov. \nOtvoritev festivala se vrača na veličastne tire plesnih performansov v sodelovanju s KD Center plesa. Po svečanem uvodu pa bodo na ogled zmagovalni filmi YCN award\, ki jih vsako leto izbere mednarodna mreža Youth Cinema Network. \nSpremljevalni program letos nadaljuje tradicijo s programom Sveži filmarji\, dostopen na spletu. Srečali se bomo s filmskim raziskovanjem\, ki je letos obarvan z žanrsko zvrstjo trilerja. Letna produkcija Film Smoothie\, ki ga v sklopu delavnic in izobraževanj izvaja Filmsko društvo Film Factory bon a sporedu v petek zvečer. Letos dodaajmop regled letne produkcije Enimation school\, šole animiranega filma in ob tej priložnosti tudi premiera kratkega animiranega\nfilma Kako je kokoška kuhala čaj\, avtorice in mentorice za animirani film Hane Repše. \nProgramski sklop Festival v Fokusu izpostavlja partnerja iz Irana\, Mednarodni festival kratkega filma Madrese\, ki poteka vzporedno z našim. S kratkimi animiranimi filmi se bo predstavil programski vodja festivala in mentor delavnic za otroke in mlade Mohammad Reza Cheshomi. \nFestival spremlja razstava Ekranovih naslovnic\, revije za film in televizijo\, ki jo od leta 1962 izdaja Slovenska kinoteka\, mladi pa se bodo lahko izobraževali na delavnici filmske kritike z Ano Šturm in Anjo Banko. \nFestival se kot vsako leto odvija drugi teden v novembru\, tokrat od 8.−13. novembra 2022. Teden posvečen filmu otrok in mladih bomo obeležili s projekcijam v dvorani Vetrinjskega dvora v Mariboru\, projekcije pa bodo potekale tudi na šolah. \nNedelja programsko povzame tekmovalni program tudi na spletu. S tem omogočamo mladim avtorjem iz vsega sveta\, ki na festival ne morejo fizično\, vpogled v letošnji filmski izbor. \nFilmov iz vsega sveta pa na festivalu ne bi mogli pokazati brez trdega dela študentov Filozofske fakulteta UM\, Oddelka za prevodoslovje in njihove mentorice dr. Melite Koletnik\, Amy Kennedy ter Roberta Petroviča\, ki skrbijo\, da so vsi filmi pravilno podnaslovljeni. \nZaključek festivala bo poleg zmagovalnih filmov predstavil tudi zmagovalce na natečaju za najboljši slogan in video klip\, ki ga pripravlja Zveza Prijateljev Mladine Maribor v sodelovanju s festivalom Enimation in Mladinskim kulturnim centrom Maribor na temo 100 ljudi 100 čudi.  \nEnimation festival deluje s ciljem navduševati otroke in mlade k raziskovanju in ustvarjanju filmske in AV krajine. Spodbuja k izražanju občutkov skozi medij\, skozi pogovore razblinja tabuje\, izmenjuje videnje na družbo in doživljanje sveta. \nLetošnja edicija festivala izpostavlja temo raznolikosti in tolerance\, temo\, ki jo je potrebno izpostavljati spet in spet\, če želimo v družbi sobivati kakovostno. Spodbuditi želimo radovednost do drugačnosti in krepiti strpnost\, spodbujati sodelovanje in skupno delo ne glede na predsodke. Film nas povezuje. Film zelo redko nastaja kot individualni produkt. Šele ekipno delo\, raznolikost znanj in jasen skupni cilj ga pripelje do končne izvedbe. \nUživajmo v ustvarjalnosti otrok\, mladih in z radovednostjo se vključujemo svet\, ki nas obdaja. \n………………………………………. \nURNIK FESTIVALA S PREDFESTIVALSKIMI AKTIVNOSTMI: \nSobota\, 22. 10. 2022\, Vetrinjski dvor\n9.00−18.00 Delavnica podnaslavljanja filmov v sodelovanju s Filozofsko fakulteto UM\, Oddelek za prevodoslovje \nTorek−petek\, 23. 10.−27. 10. 2022\, po šolah\n9.00−12.00 Natečaj in projekcije s pogovori na šolah na temo 100 ljudi 100 čudi v sodelovanju z ZPM Maribor \nTorek−petek\, 8. 11.−11. 11. 2022\, Vetrinjski dvor\n18:00 Otvoritev razstave: Kader – sekvenca – revija: 60 let oblikovanja revije Ekran \nTorek−petek\, 8. 11.−11. 11. 2022\, Vetrinjski dvor\n9.00−12.00 Projekcije s pogovori in delavnico za šolske skupine po dogovoru\, rezervacije: hana@enimation.si \nTorek−četrtek\, 8. 11.−10. 11. 2022\, Vetrinjski dvor\n16.00−20.00 Do zadnje besede – Ekranova filmsko-kritična delavnica z Ano Šturm\, Anjo Banko in Žigo Brdnikom \nTorek\, 8. 11. 2022\, Vetrinjski dvor\n10.00 in 11.00 Raznolikost/Toleranca za otroke\, v sodelovanju s projektom Kulturni dnevnik \nSreda\, 9. 11. 2022\, Vetrinjski dvor\n10.00 in 11.00 Raznolikost/Toleranca za otroke\, v sodelovanju s projektom Kulturni dnevnik \nČetrtek\, 10. 11. 2022\, Vetrinjski dvor\, Lutkovno gledališče Maribor\n9.00 in 11.00 MIDI filmarji: Mednarodni tekmovalni program\n13.00 MAXI filmarji: Mednarodni tekmovalni program\n17.00 MAXI filmarji: Slovenski tekmovalni program\n19.00 Otvoritev festivala s plesnim performansom KD Center plesa in projekcijo zmagovalnih filmov Youth Cinema Award (Lutkovno gledališče Maribor) \nPetek\, 11. 11. 2022\, Vetrinjski dvor\n19.00 in 11.00  Raznolikost/Toleranca\, 13+ \n16.00 MIDI in MIDI filmarji: Slovenski tekmovalni program\n18.00 Festival v fokusu: Mednarodni festival kratkega filma Madrese\, Iran\n19.30 Produkcija z delavnic Film Factory: Film Smoothie 2022 \nSobota\, 12. 11. 2022\, Vetrinjski dvor\n15.00 MINI filmarji: Mednarodni tekmovalni program\n17.00 Enimation school: produkcija 2022\n18.00 Zaključek festivala ENIMATION 2022 \nNedelja\, 13. 11. 2022\nTekmovalni program na spletu: https://www.facebook.com/enimation.eu \n\nENIMATION EKIPA IN PARTNERJI: \nFestival nastaja v organizaciji\, v sodelovanju in s finančno podporo:\nProducent: Društvo za razvoj filmske kulture\, ENIMATION\nKoproducenti: Narodni dom Maribor\, Vetrinjski dvor\, Lutkovno gledališče Maribor\, GT22\, Zavod MARS Maribor\nSofinancerji: Mestna občina Maribor\, Javni sklad za kulturne dejavnosti\, Narodni dom Maribor\, Fundacija SONDA\nPartnerji: Youth Cinema Network\, Pekarna magdalenske mreže\, Mitra\, društvo za razvoj avdiovizualne kulturne in medkulturnega dialoga\, Filmsko društvo Film Factory\, II. gimnazija Maribor\, UM Filozofska fakulteta\, Zveza prijateljev mladine Maribor\, MKC in Maribor skozi rožnata očala \n…………………………………… \nENIMATION festivalska ekipa / ENIMATION Festival Team \nIzvršni in programska vodja / Executive and Programme manager: Rene Puhar in Hana Repše\nSelektorji tekmovalnega programa / Selectors of the competition programme: Hana Repše\, Miha Šubic\nSelektorice tematskega tekmovalnega programa / Selectors of the thematic competition programme: Ajda Varl\, Eva Reponj\, Iza Ambrožič Simončič\nMentorici delavnice filmske kritike / Mentors of the workshop for film critic: Ana Šturm\, Anja Banko\nIzvedba delavnic za šolske skupine / Workshop execution for school groups: Hana Repše\, Manja Jerič\, Irena Pamič\, Natalija Zabav\nDružbena omrežja / Social media: Žiga Brdnik\, Klara Šulek\, Tina L. Krevl\nOblikovanje kipcev za nagrajence / Sculptor: Marijan Mirt\nGrafično oblikovanje in celostna grafična podoba / Graphic design and overall graphic image: Domen Rupnik\nTehnična izvedba spletnega dela festivala / Technical implementation of the online part of the festival: Domen Rupnik\nOdnosi z javnostmi / Public relations: Žiga Brdnik\nPrevodi / Translation: Anja Horvat\nLektura / Proofreading: Svetlana Prađeno\nPrevod filmskih dialogov / Dialogue translation: Robert Petrovič\, lekt. dr. Melita Koletnik\, Amy Kennedy in študenti Filozofske fakultete UM\, Oddelek za prevodoslovje\nPogostitev na otvoritvi / Reception at the opening: Svetlana Prađeno\nMentorstvo prostovoljcem / Mentor of volunteers: Tanja Veber\nFoto in video dokumentiranje / Photo and video diary: Klara Šulek\nIzvedba spremljevalnih spletnih aktivnosti za otroke / Implementation of accompanying online activities for children: Zavod Mars Maribor \n……………………… \n\nPovezava do originalnega članka
URL:https://kultura.maribor.si/dogodek/12-mednarodni-festival-otroskega-in-mladinskega-filma-enimation-2022-11-08-00-00-00-2022-11-13-00-00-00/
LOCATION:Vetrinjski dvor\, LGM\, GT22
CATEGORIES:Dogodki,Festivali
ATTACH;FMTTYPE=image/png:https://kultura.maribor.si/wp-content/uploads/2022/11/FB-event72x_b.png
END:VEVENT
END:VCALENDAR