BEGIN:VCALENDAR
VERSION:2.0
PRODID:-//Kultura Maribor - ECPv6.2.8.1//NONSGML v1.0//EN
CALSCALE:GREGORIAN
METHOD:PUBLISH
X-ORIGINAL-URL:https://kultura.maribor.si
X-WR-CALDESC:Events for Kultura Maribor
REFRESH-INTERVAL;VALUE=DURATION:PT1H
X-Robots-Tag:noindex
X-PUBLISHED-TTL:PT1H
BEGIN:VTIMEZONE
TZID:Europe/Paris
BEGIN:DAYLIGHT
TZOFFSETFROM:+0100
TZOFFSETTO:+0200
TZNAME:CEST
DTSTART:20240331T010000
END:DAYLIGHT
BEGIN:STANDARD
TZOFFSETFROM:+0200
TZOFFSETTO:+0100
TZNAME:CET
DTSTART:20241027T010000
END:STANDARD
END:VTIMEZONE
BEGIN:VEVENT
DTSTART;TZID=Europe/Paris:20241022T190000
DTEND;TZID=Europe/Paris:20241022T203000
DTSTAMP:20260424T045058
CREATED:20241017T142946Z
LAST-MODIFIED:20241018T064502Z
UID:78352-1729623600-1729629000@kultura.maribor.si
SUMMARY:NEVERJETNA FRAU KOMES IZ LAŠKEGA
DESCRIPTION:Bila je drugačna. Bila je posebna. Ena od tistih zanimivih Laščank. Poznala je vse in vsi so poznali njo. \nKjerkoli se je pojavila\, je vedno vzbudila zanimanje\, včasih tudi kakšen majhen škandal. Nekateri so iskali njeno družbo\, drugi so se je izogibali. Ime ji je bilo Mariana\, toda to so vedeli le redki. \nO njej se je napletlo polno zgodb in zgodbic. Nekatere med njimi so postale legendarne in z njimi je postala laška legenda tudi Frau Komes. Zgodbo o tej neverjetni Laščanki nam bo predstavil Tomaž Majcen\, kustos Muzeja Laško. \n\nPovezava do originalnega članka
URL:https://kultura.maribor.si/dogodek/neverjetna-frau-komes-iz-laskega-2024-10-22-19-00-00-2024-10-22-20-30-00/
LOCATION:Maribor center / Vetrinjski dvor
CATEGORIES:Dogodki,Razstave
ATTACH;FMTTYPE=image/jpeg:https://kultura.maribor.si/wp-content/uploads/2024/10/frau-komes.jpg
END:VEVENT
END:VCALENDAR